From mboxrd@z Thu Jan 1 00:00:00 1970 Return-Path: Received: from mails.dpdk.org (mails.dpdk.org [217.70.189.124]) by inbox.dpdk.org (Postfix) with ESMTP id ECFBF45E27 for ; Wed, 4 Dec 2024 03:59:08 +0100 (CET) Received: from mails.dpdk.org (localhost [127.0.0.1]) by mails.dpdk.org (Postfix) with ESMTP id DA2C040A73; Wed, 4 Dec 2024 03:59:08 +0100 (CET) Received: from mail-pg1-f226.google.com (mail-pg1-f226.google.com [209.85.215.226]) by mails.dpdk.org (Postfix) with ESMTP id B02C540261 for ; Wed, 4 Dec 2024 03:59:06 +0100 (CET) Received: by mail-pg1-f226.google.com with SMTP id 41be03b00d2f7-7fc8f0598cdso316983a12.1 for ; Tue, 03 Dec 2024 18:59:06 -0800 (PST) DKIM-Signature: v=1; a=rsa-sha256; c=relaxed/relaxed; d=iol.unh.edu; s=unh-iol; t=1733281146; x=1733885946; darn=dpdk.org; h=cc:to:from:subject:message-id:date:from:to:cc:subject:date :message-id:reply-to; bh=fkOk7eF+HCpjys4JN7PEn9KNMrcqL2ECKSPNz4mDFa4=; b=O5upzzaWWmaYtqC4h7+o3CYKuBySInQAdaUgfLtAPu5MOj0oA8GtvD0lATRIJfDZQt bzQAVwoNLbNADwGbUlksO9QtfuJgXfd333TUbI3IhFXiXkEdVzEhd2gyMqWye3U4rJxx 9U0sDU1d12J4xU+QAwAlMVhwy0SoY8YciFTTQ= X-Google-DKIM-Signature: v=1; a=rsa-sha256; c=relaxed/relaxed; d=1e100.net; s=20230601; t=1733281146; x=1733885946; h=cc:to:from:subject:message-id:date:x-gm-message-state:from:to:cc :subject:date:message-id:reply-to; bh=fkOk7eF+HCpjys4JN7PEn9KNMrcqL2ECKSPNz4mDFa4=; b=gWxvrPPCgA9hKEFl/6OpBGJQVqG7gro6h3tqKgztSA9Sc7G3tvGHfHua31YWYfZ1A+ 4Qr37VNuPaH0a7oJG/WlCfRrAc6m/Xbio9fKm0sDZ+YyF84dSEfRR3HcfuN0Zu/klf3F BUwsPWVpza1LQYfmCn2M2WWRvavfyIF1dtBMYU3Rr73QAhiHIiAnFj+UDCbT7uTl5Azn Skh5n1of9EV1ocDDN1QTLJpVa2eka08pv+5ZrWQxreZvtkbIvxW5KqwCdnyXteFOnkjf BaYtdlATGAN03q0VuGsVs+vlCzRmJOy2I2Qj67Szr0e7MOKk/jUq6NDR5fNPUOcsQ5Vd lypg== X-Gm-Message-State: AOJu0YyXSK9tJaPPLQRn6aeq9kqSzDd7cXDmP5tWLvp0Z+0jRINPJlab CXL7P/TU44DF2tZBz/r8INmEkNlPOPOXt/SeYn5MW53ElG097chINyBDbEMBOlMT2lbRwhEK47R XZXaqpr1Iob/6yEttCOM+/M+w5dghZP0m9V82Qrd0XUcp0K6Uk//V+ewW X-Gm-Gg: ASbGnctlYAvE7dPE1d1+lR96Xfcj0+58a+zbnS2T1YZShCb8a9FIRCK6mkPUaYNEQna fU/BcJG7oU6IhbNnWQJpvIbFOuTNUrA8RoC3EvFq9ffloohaT3rG6tlJa0KA73hAGk0IJc6rTsx WWmvcCFIKSzSe4XGE1nC46MdmK64JsIH/0WaqP1tZtBBThMDLq8sZtESCgR9OvoMkzHhW+pcjRs 3ikdWw4Rjxd2YDpJOqFKROZdLjBz4wjmB/XjymyMOrpN2AUcaBxfO40astn7TMca3F2h3zijY8= X-Google-Smtp-Source: AGHT+IFqB4wf3jS7AW8xxP8MHmOMW/SbXG2p9aF9mH9LZR5aYkkIRBOoDxERmT2DOtsxujyf7Y4xC81wlymf X-Received: by 2002:a05:6a20:3d8b:b0:1e0:d1c3:97c6 with SMTP id adf61e73a8af0-1e165a526a4mr6563310637.11.1733281145876; Tue, 03 Dec 2024 18:59:05 -0800 (PST) Received: from postal.iol.unh.edu (postal.iol.unh.edu. [2606:4100:3880:1234::84]) by smtp-relay.gmail.com with ESMTPS id 41be03b00d2f7-7fc9c2a95cesm635229a12.14.2024.12.03.18.59.05 (version=TLS1_2 cipher=ECDHE-ECDSA-AES128-GCM-SHA256 bits=128/128); Tue, 03 Dec 2024 18:59:05 -0800 (PST) X-Relaying-Domain: iol.unh.edu Date: Tue, 03 Dec 2024 18:59:05 -0800 (PST) Message-ID: <674fc579.630a0220.99afb.4e72SMTPIN_ADDED_MISSING@mx.google.com> Received: from [172.17.0.3] (unknown [172.18.0.215]) by postal.iol.unh.edu (Postfix) with ESMTP id 774896052471; Tue, 3 Dec 2024 21:59:04 -0500 (EST) Subject: |SUCCESS| [GIT MASTER] 1b3bf1128d9bda5595861814792f74b8f57160c8 From: dpdklab@iol.unh.edu To: Test Report Cc: dpdk-test-reports@iol.unh.edu, Jerin Jacob Content-Type: text/plain X-BeenThere: test-report@dpdk.org X-Mailman-Version: 2.1.29 Precedence: list List-Id: automatic DPDK test reports List-Unsubscribe: , List-Archive: List-Post: List-Help: List-Subscribe: , Errors-To: test-report-bounces@dpdk.org _Testing PASS_ Branch: dpdk-next-eventdev 1b3bf1128d9bda5595861814792f74b8f57160c8 --> testing pass Upstream job id: ACVP-FIPS-testing#8200 Test environment and result as below: +--------------------+----------------------+----------------------+ | Environment | compressdev_zlib_pmd | dpdk_fips_validation | +====================+======================+======================+ | Ubuntu 22.04 (ARM) | PASS | SKIPPED | +--------------------+----------------------+----------------------+ | Ubuntu 22.04 | PASS | SKIPPED | +--------------------+----------------------+----------------------+ | Ubuntu 20.04 | SKIPPED | PASS | +--------------------+----------------------+----------------------+ Ubuntu 22.04 (ARM) Kernel: 5.15.0-97-generic Compiler: gcc gcc (Ubuntu 11.4.0-1ubuntu1~22.04) 11.4.0 Ubuntu 22.04 Kernel: 5.15.0-100-generic Compiler: gcc gcc (Ubuntu 11.4.0-1ubuntu1~22.04) 11.4.0 Ubuntu 20.04 Kernel: Depends on container host Compiler: gcc (Ubuntu 9.4.0-1ubuntu1~20.04.2) 9.4.0 To view detailed results, visit: https://lab.dpdk.org/results/dashboard/tarballs/31822/ UNH-IOL DPDK Community Lab To manage your email subscriptions, visit: https://lab.dpdk.org/results/dashboard/preferences/subscriptions/