From mboxrd@z Thu Jan 1 00:00:00 1970 Return-Path: Received: from mails.dpdk.org (mails.dpdk.org [217.70.189.124]) by inbox.dpdk.org (Postfix) with ESMTP id 7C67E45E28 for ; Wed, 4 Dec 2024 04:00:45 +0100 (CET) Received: from mails.dpdk.org (localhost [127.0.0.1]) by mails.dpdk.org (Postfix) with ESMTP id 6DD1840A73; Wed, 4 Dec 2024 04:00:45 +0100 (CET) Received: from mail-io1-f98.google.com (mail-io1-f98.google.com [209.85.166.98]) by mails.dpdk.org (Postfix) with ESMTP id 5AADA40261 for ; Wed, 4 Dec 2024 04:00:43 +0100 (CET) Received: by mail-io1-f98.google.com with SMTP id ca18e2360f4ac-8419ef7c2d8so208138139f.2 for ; Tue, 03 Dec 2024 19:00:43 -0800 (PST) DKIM-Signature: v=1; a=rsa-sha256; c=relaxed/relaxed; d=iol.unh.edu; s=unh-iol; t=1733281242; x=1733886042; darn=dpdk.org; h=cc:to:from:subject:message-id:date:from:to:cc:subject:date :message-id:reply-to; bh=C6AKNnNGoo9pSnV7NgAMiGahZ+mmWQbkG2LTvvpe8cE=; b=UX7PUYxIesc3nX4SFgmrTZPg9c+fM49HaojhRSZ+GBWmTil/QxBQrJhjRfKgmJTlAk /4atTOnp/5SnThldx8Nk4Yb0MjyUMHBRryimDRyqibavGlxs+D5DHwuz9PbGmyBormUa ciWlXsrYDy820ia9FQPDiMFbeqm/ZPYnJM8ok= X-Google-DKIM-Signature: v=1; a=rsa-sha256; c=relaxed/relaxed; d=1e100.net; s=20230601; t=1733281242; x=1733886042; h=cc:to:from:subject:message-id:date:x-gm-message-state:from:to:cc :subject:date:message-id:reply-to; bh=C6AKNnNGoo9pSnV7NgAMiGahZ+mmWQbkG2LTvvpe8cE=; b=Hr7ckG0e8QhApiNXHOov2Onjbrb9UiMk3zPK2vq5tNnk3/aOWlhypaJJijZ5QT+pGy fCo5bvrEHdojEmNKKU4ER/C6pmDqi1tld0G7x7VI3ye5zK6fI4SEMuc6p3XYPpujC5T+ bCZDxsnrT/hNF94pGWSYFI4ZDvzyfI/0sXMTiTsieoUq36PpFZnNW45aKwLUa/juSb0D tws7LAyUFAsoCceTLkarpYRXaN6laGnbgb2iOtzvja9malNPq4ANqnLcwR/QnvfDpqBr P9+7Sl+qBmkZWBtQb6sfvZmDzNVtEHUXrK9sJG63SfL6EUUicolHEGKdM0DfKdBLL7wy Y3jA== X-Gm-Message-State: AOJu0YyOJLShfozw7nsz/BwT5qWgRT2SG2FAHssHCZu+55RySvZKmIS1 Az1oOIknJ3sgtlxoKDDKjagFA5vE3k9XGiPxjg4FXyTjTN9SsGM6WQsLJIdw3p4QoQXrRIXzRky gjrrRJ0K0wccU+zMV9rvCNSeSPx0l5J9q5PuIgYCOVn5KwJrTclUHP/VB X-Gm-Gg: ASbGnctAZ36wnDNh577E6duaGwS9XUl7Q/EY9QSowhWO9+QuQjT0YaoFqiZaRSVqNig gCNN7TnFlYdjr8B4Md+U+l8przNVAuS9O9y+cy4v7afzqMI8tPbFFI+6tZvv4GxMzTw22C8gkpM 6ICU6/0FcX8ifIdDyay0gvk8avsTs6JmOf6W+acmwkzOr5hmcytgg8l8cqFK2BQSu9CBdAzxb43 cQkxfHq+B7G+vi79vVT7cVHNjaLOmknNlM1gBz/4Da/d6L4CkuGMjTxjhY6A/W585mW45VQvpw= X-Google-Smtp-Source: AGHT+IFa29cHeUjieOPSlbshjLcuT173HWGjiab2zUakPpGb68Rxwc1fb5YNelvmDFX7DRsSMOen41rAvSGf X-Received: by 2002:a05:6602:6011:b0:843:f220:fa34 with SMTP id ca18e2360f4ac-8445b5e5d8emr567397439f.15.1733281241172; Tue, 03 Dec 2024 19:00:41 -0800 (PST) Received: from postal.iol.unh.edu (postal.iol.unh.edu. [2606:4100:3880:1234::84]) by smtp-relay.gmail.com with ESMTPS id 8926c6da1cb9f-4e230dca8bbsm537950173.9.2024.12.03.19.00.41 (version=TLS1_2 cipher=ECDHE-ECDSA-AES128-GCM-SHA256 bits=128/128); Tue, 03 Dec 2024 19:00:41 -0800 (PST) X-Relaying-Domain: iol.unh.edu Date: Tue, 03 Dec 2024 19:00:41 -0800 (PST) Message-ID: <674fc5d9.050a0220.35b7e3.f11dSMTPIN_ADDED_MISSING@mx.google.com> Received: from [172.21.0.5] (unknown [172.18.0.240]) by postal.iol.unh.edu (Postfix) with ESMTP id A9B2D6052471; Tue, 3 Dec 2024 22:00:40 -0500 (EST) Subject: |SUCCESS| [GIT MASTER] 1b3bf1128d9bda5595861814792f74b8f57160c8 From: dpdklab@iol.unh.edu To: Test Report Cc: dpdk-test-reports@iol.unh.edu Content-Type: text/plain X-BeenThere: test-report@dpdk.org X-Mailman-Version: 2.1.29 Precedence: list List-Id: automatic DPDK test reports List-Unsubscribe: , List-Archive: List-Post: List-Help: List-Subscribe: , Errors-To: test-report-bounces@dpdk.org _Testing PASS_ Branch: dpdk 1b3bf1128d9bda5595861814792f74b8f57160c8 --> testing pass Upstream job id: Generic-DPDK-Compile-Meson#340766 Test environment and result as below: +----------------------------------------+--------------------+ | Environment | dpdk_meson_compile | +========================================+====================+ | Ubuntu 20.04 ARM GCC Cross Compile | PASS | +----------------------------------------+--------------------+ | Debian 12 (arm) | PASS | +----------------------------------------+--------------------+ | Fedora 39 (ARM) | PASS | +----------------------------------------+--------------------+ | Fedora 39 (ARM Clang) | PASS | +----------------------------------------+--------------------+ | Ubuntu 20.04 ARM SVE | PASS | +----------------------------------------+--------------------+ | Debian 12 with MUSDK | PASS | +----------------------------------------+--------------------+ | RHEL9 (ARM) | PASS | +----------------------------------------+--------------------+ | Fedora 40 (ARM) | PASS | +----------------------------------------+--------------------+ | Fedora 40 (ARM Clang) | PASS | +----------------------------------------+--------------------+ | Ubuntu 22.04 (ARM) | PASS | +----------------------------------------+--------------------+ | Ubuntu 24.04 (ARM) | PASS | +----------------------------------------+--------------------+ | CentOS Stream 9 (ARM) | PASS | +----------------------------------------+--------------------+ | Ubuntu 20.04 aarch32 GCC Cross Compile | PASS | +----------------------------------------+--------------------+ | Ubuntu 20.04 ARM Clang Cross Compile | PASS | +----------------------------------------+--------------------+ | Ubuntu 20.04 (ARM) | PASS | +----------------------------------------+--------------------+ Ubuntu 20.04 ARM GCC Cross Compile Kernel: Depends on container host Compiler: aarch64-linux-gnu-gcc (Ubuntu 9.4.0-1ubuntu1~20.04.2) 9.4.0 Debian 12 (arm) Kernel: Depends on container host Compiler: gcc (Debian 12.2.0-14) 12.2.0 Fedora 39 (ARM) Kernel: Depends on container host Compiler: gcc 13.3.1 20240522 (Red Hat 13.3.1-1) Fedora 39 (ARM Clang) Kernel: Depends on container host Compiler: clang 17.0.6 (Fedora 17.0.6-2.fc39) Ubuntu 20.04 ARM SVE Kernel: Depends on container host Compiler: gcc (Ubuntu 10.5.0-1ubuntu1~20.04) 10.5.0 Debian 12 with MUSDK Kernel: Depends on container host Compiler: gcc (Debian 12.2.0-14) 12.2.0 RHEL9 (ARM) Kernel: Depends on container host Compiler: gcc 11.4.1 20231218 (Red Hat 11.4.1-3) Fedora 40 (ARM) Kernel: Depends on container host Compiler: gcc 14.2.1 20240801 (Red Hat 14.2.1-1) Fedora 40 (ARM Clang) Kernel: Depends on container host Compiler: clang 18.1.6 (Fedora 18.1.6-3.fc40) Ubuntu 22.04 (ARM) Kernel: Depends on container host Compiler: gcc (Ubuntu 11.4.0-1ubuntu1~22.04) 11.4.0 Ubuntu 24.04 (ARM) Kernel: Depends on container host Compiler: gcc (Ubuntu 13.2.0-23ubuntu4) 13.2.0 CentOS Stream 9 (ARM) Kernel: Depends on container host Compiler: gcc 11.4.1 20231218 (Red Hat 11.4.1-3) Ubuntu 20.04 aarch32 GCC Cross Compile Kernel: Depends on container host Compiler: gcc 9.4.0 Ubuntu 20.04 ARM Clang Cross Compile Kernel: Depends on container host Compiler: clang 10.0.0-4ubuntu1 Ubuntu 20.04 (ARM) Kernel: Depends on container host Compiler: gcc (Ubuntu 9.4.0-1ubuntu1~20.04.2) 9.4.0 To view detailed results, visit: https://lab.dpdk.org/results/dashboard/tarballs/31826/ UNH-IOL DPDK Community Lab To manage your email subscriptions, visit: https://lab.dpdk.org/results/dashboard/preferences/subscriptions/