From mboxrd@z Thu Jan 1 00:00:00 1970 Return-Path: Received: from mails.dpdk.org (mails.dpdk.org [217.70.189.124]) by inbox.dpdk.org (Postfix) with ESMTP id 96A3245E28 for ; Wed, 4 Dec 2024 04:10:43 +0100 (CET) Received: from mails.dpdk.org (localhost [127.0.0.1]) by mails.dpdk.org (Postfix) with ESMTP id 91F3E40A73; Wed, 4 Dec 2024 04:10:43 +0100 (CET) Received: from mail-pl1-f226.google.com (mail-pl1-f226.google.com [209.85.214.226]) by mails.dpdk.org (Postfix) with ESMTP id 625A840261 for ; Wed, 4 Dec 2024 04:10:41 +0100 (CET) Received: by mail-pl1-f226.google.com with SMTP id d9443c01a7336-215b0582aaeso17758165ad.3 for ; Tue, 03 Dec 2024 19:10:41 -0800 (PST) DKIM-Signature: v=1; a=rsa-sha256; c=relaxed/relaxed; d=iol.unh.edu; s=unh-iol; t=1733281840; x=1733886640; darn=dpdk.org; h=cc:to:from:subject:message-id:date:from:to:cc:subject:date :message-id:reply-to; bh=74mIFSQ0s9xZZV9j6mWD/NTe3h9J+pAGCltIIwRQ9tE=; b=iO7hKmZhzacKro5BQxIi1frPQVM+9TQeWLjF9g3Y3uFD13+xRbEFNatvoo4eJPp+dB Jp/lA74VUzZx8I4Gc7BE9jwJLlCji4GJm2ORGUKK2yVEXFDKAT8O6VwHmCzeOnyRXU+/ ekBI4Wk5nUWFQifDlsOo0Lr7h6trvFWNZv+jg= X-Google-DKIM-Signature: v=1; a=rsa-sha256; c=relaxed/relaxed; d=1e100.net; s=20230601; t=1733281840; x=1733886640; h=cc:to:from:subject:message-id:date:x-gm-message-state:from:to:cc :subject:date:message-id:reply-to; bh=74mIFSQ0s9xZZV9j6mWD/NTe3h9J+pAGCltIIwRQ9tE=; b=v34vh9o9oP7prujWJWwKJwM+VtcgRCvM8eC2KvKZv1KU0NjP/SOw3RxOtHGvCyC3Tu zWK5DoJUeLzEjMqb6qLW7UdklwuyFgGcjAYCi3WL2Mgd5yZ4jJLixtXTZjDcklFy55UM C16ceKStCEW3LWdYYxZjI85hVsR8pREOQzz9Tfw/7oLn7LVa2Q861AIU2cIu6z5mUvpA KnRBdAMAbX2mH8fWdSrlNUVGZC5pPOb1YK1NvbJCvKfkjeVtNGABLQiL56WSjbFpbzdH qc3Ey3Coz73qmGfXqV0Dl09u+gCVA+fU073WBjo5A1QfsiTZIPtr3xnp66Im7YaInQHn KjjQ== X-Gm-Message-State: AOJu0YwBP+L05U4E3aXg8c5MIP+qmHSIbdxerPWBKD6LdOH/9zc3z3Sc y373JBG8pItwjc23eoEd9pn8I3e2NFiuYBXnZLXpObybpFxZSORV3ld/P6JjS6ukG9gyjXYM4Ia uH6025sYHgpWhFhmr1NrVfUTbE6X+tgiLzH7xWGAJ4yEypsPLi/HC+AZc X-Gm-Gg: ASbGnctJE5MQ/7JUwlKBliy63MjYlTwK1KI0Y0XgS+351mZPOMtO9KSkm/rKuOPc363 DqUVIm/4idpVEKi7xGvVJXNPXOycqNAx8c+W8+SoF2FSHFDNtzHnPxdzRTnPRi4+zG60yXqt3RH FEUfsZgb9ZhEWOMDaNoO86MkWqb1yrUmyx55a3df2D/6EpUiG7jqRJHydXG8+G6kIpwSMvGkIjL 6itS8kPHAUXCvrWAk0GqZR8udoi8c4gLZ8j1MTXDUI/N7b+uUAQ/BD68ykC4lPk/NE8V6fBSuM= X-Google-Smtp-Source: AGHT+IFMDuJGdCM0GMI9MGiv+gkcQg/mc/NauDFu1Gc7mpnIV5HZcrr01qmRDh06S1HirCUwH+9K3E739Gwk X-Received: by 2002:a17:902:ec8f:b0:215:ab2a:46bd with SMTP id d9443c01a7336-215bd15896emr54701195ad.35.1733281840655; Tue, 03 Dec 2024 19:10:40 -0800 (PST) Received: from postal.iol.unh.edu (postal.iol.unh.edu. [2606:4100:3880:1234::84]) by smtp-relay.gmail.com with ESMTPS id d9443c01a7336-215d8396e00sm300045ad.101.2024.12.03.19.10.40 (version=TLS1_2 cipher=ECDHE-ECDSA-AES128-GCM-SHA256 bits=128/128); Tue, 03 Dec 2024 19:10:40 -0800 (PST) X-Relaying-Domain: iol.unh.edu Date: Tue, 03 Dec 2024 19:10:40 -0800 (PST) Message-ID: <674fc830.170a0220.7bf31.1e9bSMTPIN_ADDED_MISSING@mx.google.com> Received: from [172.21.0.5] (unknown [172.18.0.240]) by postal.iol.unh.edu (Postfix) with ESMTP id D06576052471; Tue, 3 Dec 2024 22:10:39 -0500 (EST) Subject: |SUCCESS| [GIT MASTER] 1b3bf1128d9bda5595861814792f74b8f57160c8 From: dpdklab@iol.unh.edu To: Test Report Cc: dpdk-test-reports@iol.unh.edu, Jerin Jacob Content-Type: text/plain X-BeenThere: test-report@dpdk.org X-Mailman-Version: 2.1.29 Precedence: list List-Id: automatic DPDK test reports List-Unsubscribe: , List-Archive: List-Post: List-Help: List-Subscribe: , Errors-To: test-report-bounces@dpdk.org _Testing PASS_ Branch: dpdk-next-eventdev 1b3bf1128d9bda5595861814792f74b8f57160c8 --> testing pass Upstream job id: Aarch32-Unit-Test#4555 Test environment and result as below: +-----------------------------+---------------------------+------------------------------+--------------+----------------+ | Environment | cryptodev_sw_zuc_autotest | cryptodev_sw_snow3g_autotest | lpm_autotest | dpdk_unit_test | +=============================+===========================+==============================+==============+================+ | Debian 12 (arm) | PASS | PASS | SKIPPED | PASS | +-----------------------------+---------------------------+------------------------------+--------------+----------------+ | Ubuntu 20.04 ARM SVE | SKIPPED | SKIPPED | PASS | SKIPPED | +-----------------------------+---------------------------+------------------------------+--------------+----------------+ | CentOS Stream 9 (ARM) | SKIPPED | SKIPPED | SKIPPED | PASS | +-----------------------------+---------------------------+------------------------------+--------------+----------------+ | Fedora 39 (ARM) | SKIPPED | SKIPPED | SKIPPED | PASS | +-----------------------------+---------------------------+------------------------------+--------------+----------------+ | Fedora 40 (ARM) | SKIPPED | SKIPPED | SKIPPED | PASS | +-----------------------------+---------------------------+------------------------------+--------------+----------------+ | Fedora 39 (ARM Clang) | SKIPPED | SKIPPED | SKIPPED | PASS | +-----------------------------+---------------------------+------------------------------+--------------+----------------+ | RHEL9 (ARM) | SKIPPED | SKIPPED | SKIPPED | PASS | +-----------------------------+---------------------------+------------------------------+--------------+----------------+ | Ubuntu 22.04 (ARM) | SKIPPED | SKIPPED | SKIPPED | PASS | +-----------------------------+---------------------------+------------------------------+--------------+----------------+ | Ubuntu 20.04 (ARM) | SKIPPED | SKIPPED | SKIPPED | PASS | +-----------------------------+---------------------------+------------------------------+--------------+----------------+ | Fedora 40 (ARM Clang) | SKIPPED | SKIPPED | SKIPPED | PASS | +-----------------------------+---------------------------+------------------------------+--------------+----------------+ | Ubuntu 24.04 (ARM) | SKIPPED | SKIPPED | SKIPPED | PASS | +-----------------------------+---------------------------+------------------------------+--------------+----------------+ | 32-bit Ubuntu 22.04.4 (ARM) | SKIPPED | SKIPPED | SKIPPED | PASS | +-----------------------------+---------------------------+------------------------------+--------------+----------------+ Debian 12 (arm) Kernel: Depends on container host Compiler: gcc (Debian 12.2.0-14) 12.2.0 Ubuntu 20.04 ARM SVE Kernel: Depends on container host Compiler: gcc (Ubuntu 10.5.0-1ubuntu1~20.04) 10.5.0 CentOS Stream 9 (ARM) Kernel: Depends on container host Compiler: gcc 11.4.1 20231218 (Red Hat 11.4.1-3) Fedora 39 (ARM) Kernel: Depends on container host Compiler: gcc 13.3.1 20240522 (Red Hat 13.3.1-1) Fedora 40 (ARM) Kernel: Depends on container host Compiler: gcc 14.2.1 20240801 (Red Hat 14.2.1-1) Fedora 39 (ARM Clang) Kernel: Depends on container host Compiler: clang 17.0.6 (Fedora 17.0.6-2.fc39) RHEL9 (ARM) Kernel: Depends on container host Compiler: gcc 11.4.1 20231218 (Red Hat 11.4.1-3) Ubuntu 22.04 (ARM) Kernel: Depends on container host Compiler: gcc (Ubuntu 11.4.0-1ubuntu1~22.04) 11.4.0 Ubuntu 20.04 (ARM) Kernel: Depends on container host Compiler: gcc (Ubuntu 9.4.0-1ubuntu1~20.04.2) 9.4.0 Fedora 40 (ARM Clang) Kernel: Depends on container host Compiler: clang 18.1.6 (Fedora 18.1.6-3.fc40) Ubuntu 24.04 (ARM) Kernel: Depends on container host Compiler: gcc (Ubuntu 13.2.0-23ubuntu4) 13.2.0 32-bit Ubuntu 22.04.4 (ARM) Kernel: 5.15.83+ aarch64 Compiler: gcc (Ubuntu 11.4.0-1ubuntu1~22.04) 11.4.0 To view detailed results, visit: https://lab.dpdk.org/results/dashboard/tarballs/31829/ UNH-IOL DPDK Community Lab To manage your email subscriptions, visit: https://lab.dpdk.org/results/dashboard/preferences/subscriptions/