From mboxrd@z Thu Jan 1 00:00:00 1970 Return-Path: Received: from mails.dpdk.org (mails.dpdk.org [217.70.189.124]) by inbox.dpdk.org (Postfix) with ESMTP id 3D14145E28 for ; Wed, 4 Dec 2024 04:55:02 +0100 (CET) Received: from mails.dpdk.org (localhost [127.0.0.1]) by mails.dpdk.org (Postfix) with ESMTP id 3A3EE40A73; Wed, 4 Dec 2024 04:55:02 +0100 (CET) Received: from mail-pl1-f227.google.com (mail-pl1-f227.google.com [209.85.214.227]) by mails.dpdk.org (Postfix) with ESMTP id DB95840261 for ; Wed, 4 Dec 2024 04:55:00 +0100 (CET) Received: by mail-pl1-f227.google.com with SMTP id d9443c01a7336-215810fff52so34201955ad.1 for ; Tue, 03 Dec 2024 19:55:00 -0800 (PST) DKIM-Signature: v=1; a=rsa-sha256; c=relaxed/relaxed; d=iol.unh.edu; s=unh-iol; t=1733284500; x=1733889300; darn=dpdk.org; h=cc:to:from:subject:message-id:date:from:to:cc:subject:date :message-id:reply-to; bh=uZIVfeOR4T5PcgF6gpXIIfScpJddkTVL8Q1wgs+8Sek=; b=GCAvUOnnJ5ZaBx7AbSZnOe7fFp1qPxfqW+trSTX8v4QpF7+ODsfNMG/SZf9hjGJnuQ +PCG0s5+U5LISrmUDxdY2IagP0Ma/lzJ+fw4fDP3Z2A/FGRbA11vvQw4iPPZiQJmfR9d wxxvz0+iOCvCBlE3+bhmri3k1e+Q6vODcIQ8c= X-Google-DKIM-Signature: v=1; a=rsa-sha256; c=relaxed/relaxed; d=1e100.net; s=20230601; t=1733284500; x=1733889300; h=cc:to:from:subject:message-id:date:x-gm-message-state:from:to:cc :subject:date:message-id:reply-to; bh=uZIVfeOR4T5PcgF6gpXIIfScpJddkTVL8Q1wgs+8Sek=; b=lXef/L916gKOBYyscaZjuJ4lIQ7NuOWDlaQJfFNCWsTNT4AaLbYic1n4ej1TIOeHlP oJgU75bOiLrK1YmHf4gAa/cMuv1kIhYi88JFrsJMmDDUMIZ8N4IJru8468xQhQZhwyUq LqyQdEluHSp89CBJ6BwTVikmKTQEM/NGQ5gAVHl+QT+YTUaZUHJseF4A5MGSeW48nRBA q6hyi5XZGklInC5/y3tpKry6xI/qdrJBNmtc2ePPQqNfEIQNzXMhW7W2WNo5tGW8AhPW ZwsQyFGZclqBksKGulSzpJWqZEhxrAnH7oQ/MzOkPhcD+TwIefWM10BpdHwgsSfZWmXF 0OJQ== X-Gm-Message-State: AOJu0YxIIszRgMG8DjQTFvlHAXoxouJeNPSqc1cp4Y1GM4gcm/Hbmuoe PZYQz22yZThFU7YuDVEulX+vNXVie0hUJxEmz0E+bavu1KjblYB3ZU6n7oDWV6KkAu8Pc31RMBF oYDdoL7S3zLa9C1NA6gv065Iw55VD5HqG6pD/ELNTua3HPVreY/BPlDf2 X-Gm-Gg: ASbGncux7bZkGFZqtQxJNodOnhXUtvJKyxGV0/0erd9Ew289VUfU7aRcpwNuhvlyPw5 HCPpqArmesZ/IiSjDEDsnbJnWCk2NWvXn39ycFSGBCkXHSHE8SvcIm1w/ShRooKvKQGJh6dDDMi vNADGeo0wYUrslTPXbfFrL617vcXLQJQPo1apuqlz+3SszwYIZfCdJmYJ/X6HGWuLkASadbNFRL EUNWIPYJDEYtQ0GPqli9h+NltcXa/N5ON9Qh/6vMFgSW8LcsGUSuNtnqzG/lJkNrGkBRMNltKY= X-Google-Smtp-Source: AGHT+IHrwJp7iUxuWJcVGv2Ssfx541Ish5RZhFQDpCboJovDHXJE49x6Ge99YL/CPOE5W5itZ1OglGVMqk5r X-Received: by 2002:a17:902:db0a:b0:212:51dc:3d51 with SMTP id d9443c01a7336-215bd200db3mr49292805ad.27.1733284500128; Tue, 03 Dec 2024 19:55:00 -0800 (PST) Received: from postal.iol.unh.edu (postal.iol.unh.edu. [2606:4100:3880:1234::84]) by smtp-relay.gmail.com with ESMTPS id d9443c01a7336-2152190919dsm5892395ad.32.2024.12.03.19.55.00 (version=TLS1_2 cipher=ECDHE-ECDSA-AES128-GCM-SHA256 bits=128/128); Tue, 03 Dec 2024 19:55:00 -0800 (PST) X-Relaying-Domain: iol.unh.edu Date: Tue, 03 Dec 2024 19:55:00 -0800 (PST) Message-ID: <674fd294.170a0220.30f05.3b24SMTPIN_ADDED_MISSING@mx.google.com> Received: from [172.21.0.5] (unknown [172.18.0.240]) by postal.iol.unh.edu (Postfix) with ESMTP id 543786052471; Tue, 3 Dec 2024 22:54:59 -0500 (EST) Subject: |SUCCESS| [GIT MASTER] 4843aacb0d1201fef37e8a579fcd8baec4acdf98 From: dpdklab@iol.unh.edu To: Test Report Cc: dpdk-test-reports@iol.unh.edu, Akhil Goyal Content-Type: text/plain X-BeenThere: test-report@dpdk.org X-Mailman-Version: 2.1.29 Precedence: list List-Id: automatic DPDK test reports List-Unsubscribe: , List-Archive: List-Post: List-Help: List-Subscribe: , Errors-To: test-report-bounces@dpdk.org _Testing PASS_ Branch: dpdk-next-crypto 4843aacb0d1201fef37e8a579fcd8baec4acdf98 --> testing pass Upstream job id: ACVP-FIPS-testing#8201 Test environment and result as below: +--------------------+----------------------+----------------------+ | Environment | compressdev_zlib_pmd | dpdk_fips_validation | +====================+======================+======================+ | Ubuntu 22.04 (ARM) | PASS | SKIPPED | +--------------------+----------------------+----------------------+ | Ubuntu 22.04 | PASS | SKIPPED | +--------------------+----------------------+----------------------+ | Ubuntu 20.04 | SKIPPED | PASS | +--------------------+----------------------+----------------------+ Ubuntu 22.04 (ARM) Kernel: 5.15.0-97-generic Compiler: gcc gcc (Ubuntu 11.4.0-1ubuntu1~22.04) 11.4.0 Ubuntu 22.04 Kernel: 5.15.0-100-generic Compiler: gcc gcc (Ubuntu 11.4.0-1ubuntu1~22.04) 11.4.0 Ubuntu 20.04 Kernel: Depends on container host Compiler: gcc (Ubuntu 9.4.0-1ubuntu1~20.04.2) 9.4.0 To view detailed results, visit: https://lab.dpdk.org/results/dashboard/tarballs/31823/ UNH-IOL DPDK Community Lab To manage your email subscriptions, visit: https://lab.dpdk.org/results/dashboard/preferences/subscriptions/