From mboxrd@z Thu Jan 1 00:00:00 1970 Return-Path: Received: from mails.dpdk.org (mails.dpdk.org [217.70.189.124]) by inbox.dpdk.org (Postfix) with ESMTP id 0CDDE45E28 for ; Wed, 4 Dec 2024 05:03:43 +0100 (CET) Received: from mails.dpdk.org (localhost [127.0.0.1]) by mails.dpdk.org (Postfix) with ESMTP id 03BEA40A73; Wed, 4 Dec 2024 05:03:43 +0100 (CET) Received: from mail-pf1-f228.google.com (mail-pf1-f228.google.com [209.85.210.228]) by mails.dpdk.org (Postfix) with ESMTP id 7CF8A40261 for ; Wed, 4 Dec 2024 05:03:41 +0100 (CET) Received: by mail-pf1-f228.google.com with SMTP id d2e1a72fcca58-7252b7326f4so5530780b3a.2 for ; Tue, 03 Dec 2024 20:03:41 -0800 (PST) DKIM-Signature: v=1; a=rsa-sha256; c=relaxed/relaxed; d=iol.unh.edu; s=unh-iol; t=1733285020; x=1733889820; darn=dpdk.org; h=cc:to:from:subject:message-id:date:from:to:cc:subject:date :message-id:reply-to; bh=3JKA8OGEwU8gBtUk/PHdbpBVrKt9+v0E95tw3MrpftQ=; b=hE6qs/Jih84ahgTys6OaNfp+YlLSHjKbQUaS56z2cjAqlMBTEZp90lmoPdkVENxntU /luq1XSnvvUPTgfIR7T2yQF5GxigojCe3xTBSrUxmhcBNTmpEO6K8OMZMoBTTfjli93b 3OtXf/lrYS2p9rKQtyfjWsSNrfO0KGd6KT+KE= X-Google-DKIM-Signature: v=1; a=rsa-sha256; c=relaxed/relaxed; d=1e100.net; s=20230601; t=1733285020; x=1733889820; h=cc:to:from:subject:message-id:date:x-gm-message-state:from:to:cc :subject:date:message-id:reply-to; bh=3JKA8OGEwU8gBtUk/PHdbpBVrKt9+v0E95tw3MrpftQ=; b=kdA4sBKzjxJcI6P4U745ycP8FPwYVhNN2qpNBGQY1EQwOPVotb0+wty5Fs+9BT6dqW Dn7u/xykGMANEqvAIsggw4+JgQibFpfD6y7k8ijKoSkLr9IXNx3/M80VLoDz11w7+F7M mRJv7YV5dvRK5OZFaJXJbVtuunCRZlsYIfQ5w1bI+OCYSh0+JJdvP0ykZxuTgjI+wa3F 2TAP0/KsHe2CxMegeX1ZmCELuiBUHuw0mKJacWbicpoGn+t2s03tNowrFDRVoNkAOD0u QJpAsMtsMGuX/j/rP3XWVuVe8FMW1kppXYObmlIB0LqgaNksGbvqw7Bo5ZH1S7Hur6D/ P9mA== X-Gm-Message-State: AOJu0YzJzsO/e83lQYZMddCV2htAIap0PEXVamCGahq9dK+wsUivZqi7 ZIVJz9+xL9hyq1yljwz3W9WyF+cUTH3Y6cGUxdvPCzyGWZcYwFJUiCW/jvIdiJ/Eg24xA+UjWhp 15liMAIg0z+zi+OX7yutuWCnLV+iAjDxo9He+o9Zn X-Gm-Gg: ASbGncu0LCXYxstkP0vJj34bGIZY5nljXDVC/GXOQ8uU4mowDQQXFMBlKWQNjZdKV6B BLOR3Ij+YFsS1j83MGV9C0PGUsLnZyHg8sRx9FBLdm+qCwVwLcaXExH3yiUK8rhOSwBl6SjfuyI 4HplD/1sDfdYMq6cLdqWmOzjcRbSq09kNMvpvuWZ1Z1JecokPNy55ayeoIwza6axKoSjeLJvEPJ fwircxdZNxTXQ0p/J2NfQT7+cutz/tiRgIJtTM1CubiOYz54kI3C/OmXPxu71v+vvOXCrM= X-Google-Smtp-Source: AGHT+IGA8RCbIxVXmwfoSOkxE5z3UlNLwX/zw/M4vQZ+f7cfUD5MGjR4ai/DY250oIpvsZKU+tqD0ojQOLe1 X-Received: by 2002:a17:903:1d2:b0:215:4662:db72 with SMTP id d9443c01a7336-215bd191deamr82595895ad.53.1733285020641; Tue, 03 Dec 2024 20:03:40 -0800 (PST) Received: from postal.iol.unh.edu (postal.iol.unh.edu. [132.177.123.84]) by smtp-relay.gmail.com with ESMTPS id d9443c01a7336-21596424fdbsm2471215ad.7.2024.12.03.20.03.40 (version=TLS1_2 cipher=ECDHE-ECDSA-AES128-GCM-SHA256 bits=128/128); Tue, 03 Dec 2024 20:03:40 -0800 (PST) X-Relaying-Domain: iol.unh.edu Date: Tue, 03 Dec 2024 20:03:40 -0800 (PST) Message-ID: <674fd49c.170a0220.1a92d3.dee8SMTPIN_ADDED_MISSING@mx.google.com> Received: from [172.21.0.7] (unknown [172.18.0.240]) by postal.iol.unh.edu (Postfix) with ESMTP id 205C76052471; Tue, 3 Dec 2024 23:03:40 -0500 (EST) Subject: |SUCCESS| [GIT MASTER] 4843aacb0d1201fef37e8a579fcd8baec4acdf98 From: dpdklab@iol.unh.edu To: Test Report Cc: dpdk-test-reports@iol.unh.edu, Akhil Goyal Content-Type: text/plain X-BeenThere: test-report@dpdk.org X-Mailman-Version: 2.1.29 Precedence: list List-Id: automatic DPDK test reports List-Unsubscribe: , List-Archive: List-Post: List-Help: List-Subscribe: , Errors-To: test-report-bounces@dpdk.org _Testing PASS_ Branch: dpdk-next-crypto 4843aacb0d1201fef37e8a579fcd8baec4acdf98 --> testing pass Upstream job id: Generic-DPDK-Compile-Meson#340872 Test environment and result as below: +----------------------------------------+--------------------+ | Environment | dpdk_meson_compile | +========================================+====================+ | RHEL9 (ARM) | PASS | +----------------------------------------+--------------------+ | Ubuntu 20.04 ARM GCC Cross Compile | PASS | +----------------------------------------+--------------------+ | Debian 12 with MUSDK | PASS | +----------------------------------------+--------------------+ | Ubuntu 20.04 ARM SVE | PASS | +----------------------------------------+--------------------+ | Fedora 39 (ARM) | PASS | +----------------------------------------+--------------------+ | Fedora 39 (ARM Clang) | PASS | +----------------------------------------+--------------------+ | Ubuntu 22.04 (ARM) | PASS | +----------------------------------------+--------------------+ | Fedora 40 (ARM Clang) | PASS | +----------------------------------------+--------------------+ | Ubuntu 20.04 (ARM) | PASS | +----------------------------------------+--------------------+ | Fedora 40 (ARM) | PASS | +----------------------------------------+--------------------+ | Ubuntu 24.04 (ARM) | PASS | +----------------------------------------+--------------------+ | CentOS Stream 9 (ARM) | PASS | +----------------------------------------+--------------------+ | Debian 12 (arm) | PASS | +----------------------------------------+--------------------+ | Ubuntu 20.04 ARM Clang Cross Compile | PASS | +----------------------------------------+--------------------+ | Ubuntu 20.04 aarch32 GCC Cross Compile | PASS | +----------------------------------------+--------------------+ RHEL9 (ARM) Kernel: Depends on container host Compiler: gcc 11.4.1 20231218 (Red Hat 11.4.1-3) Ubuntu 20.04 ARM GCC Cross Compile Kernel: Depends on container host Compiler: aarch64-linux-gnu-gcc (Ubuntu 9.4.0-1ubuntu1~20.04.2) 9.4.0 Debian 12 with MUSDK Kernel: Depends on container host Compiler: gcc (Debian 12.2.0-14) 12.2.0 Ubuntu 20.04 ARM SVE Kernel: Depends on container host Compiler: gcc (Ubuntu 10.5.0-1ubuntu1~20.04) 10.5.0 Fedora 39 (ARM) Kernel: Depends on container host Compiler: gcc 13.3.1 20240522 (Red Hat 13.3.1-1) Fedora 39 (ARM Clang) Kernel: Depends on container host Compiler: clang 17.0.6 (Fedora 17.0.6-2.fc39) Ubuntu 22.04 (ARM) Kernel: Depends on container host Compiler: gcc (Ubuntu 11.4.0-1ubuntu1~22.04) 11.4.0 Fedora 40 (ARM Clang) Kernel: Depends on container host Compiler: clang 18.1.6 (Fedora 18.1.6-3.fc40) Ubuntu 20.04 (ARM) Kernel: Depends on container host Compiler: gcc (Ubuntu 9.4.0-1ubuntu1~20.04.2) 9.4.0 Fedora 40 (ARM) Kernel: Depends on container host Compiler: gcc 14.2.1 20240801 (Red Hat 14.2.1-1) Ubuntu 24.04 (ARM) Kernel: Depends on container host Compiler: gcc (Ubuntu 13.2.0-23ubuntu4) 13.2.0 CentOS Stream 9 (ARM) Kernel: Depends on container host Compiler: gcc 11.4.1 20231218 (Red Hat 11.4.1-3) Debian 12 (arm) Kernel: Depends on container host Compiler: gcc (Debian 12.2.0-14) 12.2.0 Ubuntu 20.04 ARM Clang Cross Compile Kernel: Depends on container host Compiler: clang 10.0.0-4ubuntu1 Ubuntu 20.04 aarch32 GCC Cross Compile Kernel: Depends on container host Compiler: gcc 9.4.0 To view detailed results, visit: https://lab.dpdk.org/results/dashboard/tarballs/31830/ UNH-IOL DPDK Community Lab To manage your email subscriptions, visit: https://lab.dpdk.org/results/dashboard/preferences/subscriptions/