From mboxrd@z Thu Jan 1 00:00:00 1970 Return-Path: Received: from mails.dpdk.org (mails.dpdk.org [217.70.189.124]) by inbox.dpdk.org (Postfix) with ESMTP id F05EE45E28 for ; Wed, 4 Dec 2024 05:52:24 +0100 (CET) Received: from mails.dpdk.org (localhost [127.0.0.1]) by mails.dpdk.org (Postfix) with ESMTP id CEE4440648; Wed, 4 Dec 2024 05:52:24 +0100 (CET) Received: from mail-pl1-f226.google.com (mail-pl1-f226.google.com [209.85.214.226]) by mails.dpdk.org (Postfix) with ESMTP id B849A40261 for ; Wed, 4 Dec 2024 05:52:23 +0100 (CET) Received: by mail-pl1-f226.google.com with SMTP id d9443c01a7336-215b4681c94so17840125ad.0 for ; Tue, 03 Dec 2024 20:52:23 -0800 (PST) DKIM-Signature: v=1; a=rsa-sha256; c=relaxed/relaxed; d=iol.unh.edu; s=unh-iol; t=1733287943; x=1733892743; darn=dpdk.org; h=references:in-reply-to:cc:to:from:subject:message-id:date:from:to :cc:subject:date:message-id:reply-to; bh=XWEe+dS/byvJcvr2J/7FCVioN8Jxi2LY8NiJqce4nkU=; b=MDtJP5p32lOG4My7pebYExZI37OU4/lL7eC4DOX4A5JJQ2I1fQRt5U7/JqNguieKNZ fviBH+ts02BjPg0oR43ezccAhCkHdFI3RRLNhj9Fq1hLgH4puCEt+eIhequ7a7Ilzwx5 gowXSy0cS91SMGS1ISQxWwXFfJpwgO40l/E/Q= X-Google-DKIM-Signature: v=1; a=rsa-sha256; c=relaxed/relaxed; d=1e100.net; s=20230601; t=1733287943; x=1733892743; h=references:in-reply-to:cc:to:from:subject:message-id:date :x-gm-message-state:from:to:cc:subject:date:message-id:reply-to; bh=XWEe+dS/byvJcvr2J/7FCVioN8Jxi2LY8NiJqce4nkU=; b=Zt4nULTYUFNfdGV1ROYnba4bzhl4i8ojVbSw6RSxjH7hhEs9zMKPMNDL72kWSJRfG6 iN4oWiq71F3vytUUlPHE+1RYgB5xMG2gGpP8hZW0wD/LKHtssOUOwOV8fKxDIaG4rPuh D91BArkvIhVXS+ltKoeDTAu28JRv3I/920L87eLhCPcP7ppoyaVz7eQQgJEe2b184sFc ArZZda96hb12XFu+86Xh1QtNpKr5nAGYSJ3hV5YHThUi6yhSjheZf4c7fWuthcJgxh7w jM1h81SswKp9hB8JVJFXpDKuSwDtDwL0L9B0uUBtcBwEFKRpK26d5aRv2j8aI4eMv5Xk xnBw== X-Gm-Message-State: AOJu0YxSVEBajd6t7dOYsF4p4LuPsB6eSVOhikDofPnv0QjVNMe2mfJ2 ljfJYujptS2e3z6QF37w6jT35VxCQtovPQ2y3NS1RUt5EZ7yUKswNZWNTMI/H5H31j0nceZctVb WNZimot24CfNw/8MZ6dz074jo6P5SvvCTXdk3TAEPofmphxpQfGAvWeBB X-Gm-Gg: ASbGnctgd0wdAl3NN2ICaEO1Xdq6NaRkB2+tFPDV8B3lmr+JAic/SW78neK42vzNJEH ZsTYpyaKOOBikc6ZKlI+GG9cYH/OCzOwjr2SeCN+t0ZkLtL+ft4BaUs4YTEkIrWmfevpyVD8X/W KkdSPBcNSmyzii4Cu+4KfeBuv6CGEmTagPlPDqwazBMyNoa9HbAU6APFXRtM93lPguR17szME0Q T3cGxc5HRKH4levBdVYtDtQaOpR4TvaYb9MZxRFFGIgEouFLMJhbs6TpxQJbMy7KsQD2KBomTo= X-Google-Smtp-Source: AGHT+IE3zckGBOFxus9x7OBcO8MY0/1Iy+FvoZ5YLXTgMUclSbczrLoE6gD6cHTZdqRWb67amhQFK6nKpiNd X-Received: by 2002:a17:902:e5cf:b0:215:a97a:c6bb with SMTP id d9443c01a7336-215bcfc3c65mr64832985ad.12.1733287942775; Tue, 03 Dec 2024 20:52:22 -0800 (PST) Received: from postal.iol.unh.edu (postal.iol.unh.edu. [2606:4100:3880:1234::84]) by smtp-relay.gmail.com with ESMTPS id d9443c01a7336-215c7f34d11sm876425ad.73.2024.12.03.20.52.22 (version=TLS1_2 cipher=ECDHE-ECDSA-AES128-GCM-SHA256 bits=128/128); Tue, 03 Dec 2024 20:52:22 -0800 (PST) X-Relaying-Domain: iol.unh.edu Date: Tue, 03 Dec 2024 20:52:22 -0800 (PST) Message-ID: <674fe006.170a0220.30ae1d.53c6SMTPIN_ADDED_MISSING@mx.google.com> Received: from [172.17.0.2] (unknown [172.18.0.217]) by postal.iol.unh.edu (Postfix) with ESMTP id DA2466052471; Tue, 3 Dec 2024 23:52:21 -0500 (EST) Subject: |SUCCESS| pw149008 [PATCH] [v2] examples/l3fwd: add option to set Tx From: dpdklab@iol.unh.edu To: Test Report Cc: dpdk-test-reports@iol.unh.edu In-Reply-To: <20241204020622.977156-1-haijie1@huawei.com> References: <20241204020622.977156-1-haijie1@huawei.com> Content-Type: text/plain X-BeenThere: test-report@dpdk.org X-Mailman-Version: 2.1.29 Precedence: list List-Id: automatic DPDK test reports List-Unsubscribe: , List-Archive: List-Post: List-Help: List-Subscribe: , Errors-To: test-report-bounces@dpdk.org Test-Label: iol-unit-arm64-testing Test-Status: SUCCESS http://dpdk.org/patch/149008 _Testing PASS_ Submitter: Jie Hai Date: Wednesday, December 04 2024 02:06:22 DPDK git baseline: Repo:dpdk Branch: master CommitID:1b3bf1128d9bda5595861814792f74b8f57160c8 149008 --> testing pass Upstream job id: Generic-Unit-Test-DPDK#297352 Test environment and result as below: +-----------------------------+--------------+------------------------------+---------------------------+----------------+ | Environment | lpm_autotest | cryptodev_sw_snow3g_autotest | cryptodev_sw_zuc_autotest | dpdk_unit_test | +=============================+==============+==============================+===========================+================+ | Ubuntu 20.04 ARM SVE | PASS | SKIPPED | SKIPPED | SKIPPED | +-----------------------------+--------------+------------------------------+---------------------------+----------------+ | Debian 12 (arm) | SKIPPED | PASS | PASS | PASS | +-----------------------------+--------------+------------------------------+---------------------------+----------------+ | CentOS Stream 9 (ARM) | SKIPPED | SKIPPED | SKIPPED | PASS | +-----------------------------+--------------+------------------------------+---------------------------+----------------+ | Fedora 39 (ARM Clang) | SKIPPED | SKIPPED | SKIPPED | PASS | +-----------------------------+--------------+------------------------------+---------------------------+----------------+ | Fedora 40 (ARM) | SKIPPED | SKIPPED | SKIPPED | PASS | +-----------------------------+--------------+------------------------------+---------------------------+----------------+ | RHEL9 (ARM) | SKIPPED | SKIPPED | SKIPPED | PASS | +-----------------------------+--------------+------------------------------+---------------------------+----------------+ | Ubuntu 20.04 (ARM) | SKIPPED | SKIPPED | SKIPPED | PASS | +-----------------------------+--------------+------------------------------+---------------------------+----------------+ | Fedora 40 (ARM Clang) | SKIPPED | SKIPPED | SKIPPED | PASS | +-----------------------------+--------------+------------------------------+---------------------------+----------------+ | Ubuntu 22.04 (ARM) | SKIPPED | SKIPPED | SKIPPED | PASS | +-----------------------------+--------------+------------------------------+---------------------------+----------------+ | Ubuntu 24.04 (ARM) | SKIPPED | SKIPPED | SKIPPED | PASS | +-----------------------------+--------------+------------------------------+---------------------------+----------------+ | Fedora 39 (ARM) | SKIPPED | SKIPPED | SKIPPED | PASS | +-----------------------------+--------------+------------------------------+---------------------------+----------------+ | 32-bit Ubuntu 22.04.4 (ARM) | SKIPPED | SKIPPED | SKIPPED | PASS | +-----------------------------+--------------+------------------------------+---------------------------+----------------+ Ubuntu 20.04 ARM SVE Kernel: Depends on container host Compiler: gcc (Ubuntu 10.5.0-1ubuntu1~20.04) 10.5.0 Debian 12 (arm) Kernel: Depends on container host Compiler: gcc (Debian 12.2.0-14) 12.2.0 CentOS Stream 9 (ARM) Kernel: Depends on container host Compiler: gcc 11.4.1 20231218 (Red Hat 11.4.1-3) Fedora 39 (ARM Clang) Kernel: Depends on container host Compiler: clang 17.0.6 (Fedora 17.0.6-2.fc39) Fedora 40 (ARM) Kernel: Depends on container host Compiler: gcc 14.2.1 20240801 (Red Hat 14.2.1-1) RHEL9 (ARM) Kernel: Depends on container host Compiler: gcc 11.4.1 20231218 (Red Hat 11.4.1-3) Ubuntu 20.04 (ARM) Kernel: Depends on container host Compiler: gcc (Ubuntu 9.4.0-1ubuntu1~20.04.2) 9.4.0 Fedora 40 (ARM Clang) Kernel: Depends on container host Compiler: clang 18.1.6 (Fedora 18.1.6-3.fc40) Ubuntu 22.04 (ARM) Kernel: Depends on container host Compiler: gcc (Ubuntu 11.4.0-1ubuntu1~22.04) 11.4.0 Ubuntu 24.04 (ARM) Kernel: Depends on container host Compiler: gcc (Ubuntu 13.2.0-23ubuntu4) 13.2.0 Fedora 39 (ARM) Kernel: Depends on container host Compiler: gcc 13.3.1 20240522 (Red Hat 13.3.1-1) 32-bit Ubuntu 22.04.4 (ARM) Kernel: 5.15.83+ aarch64 Compiler: gcc (Ubuntu 11.4.0-1ubuntu1~22.04) 11.4.0 To view detailed results, visit: https://lab.dpdk.org/results/dashboard/patchsets/32077/ UNH-IOL DPDK Community Lab To manage your email subscriptions, visit: https://lab.dpdk.org/results/dashboard/preferences/subscriptions/