From mboxrd@z Thu Jan 1 00:00:00 1970 Return-Path: Received: from mails.dpdk.org (mails.dpdk.org [217.70.189.124]) by inbox.dpdk.org (Postfix) with ESMTP id EBDC345E29 for ; Wed, 4 Dec 2024 06:05:35 +0100 (CET) Received: from mails.dpdk.org (localhost [127.0.0.1]) by mails.dpdk.org (Postfix) with ESMTP id C92EB40648; Wed, 4 Dec 2024 06:05:35 +0100 (CET) Received: from mail-il1-f228.google.com (mail-il1-f228.google.com [209.85.166.228]) by mails.dpdk.org (Postfix) with ESMTP id 9480940261 for ; Wed, 4 Dec 2024 06:05:34 +0100 (CET) Received: by mail-il1-f228.google.com with SMTP id e9e14a558f8ab-3a7e108b491so20181835ab.3 for ; Tue, 03 Dec 2024 21:05:34 -0800 (PST) DKIM-Signature: v=1; a=rsa-sha256; c=relaxed/relaxed; d=iol.unh.edu; s=unh-iol; t=1733288734; x=1733893534; darn=dpdk.org; h=references:in-reply-to:cc:to:from:subject:message-id:date:from:to :cc:subject:date:message-id:reply-to; bh=iAYPs+ZeWVO/lwI14fMvd26WBZ/P+0qxFcS1cwWWILI=; b=RF+ZrB3IH9iTOuYycuJFc4pvBTLvRNtCv3FrBdqr5gdW/xcFTo3q2vNaJsJeaZ2Omg ZWTi83ULGsBFO2YS9dr+ybSb7I/dyJrkyFx4vw7DdViIfo+Kr71Bx3plnRR/LGy6SDpb GiInLzPtbHNupdacOYp2zu/3kTQZhTzKmd8ns= X-Google-DKIM-Signature: v=1; a=rsa-sha256; c=relaxed/relaxed; d=1e100.net; s=20230601; t=1733288734; x=1733893534; h=references:in-reply-to:cc:to:from:subject:message-id:date :x-gm-message-state:from:to:cc:subject:date:message-id:reply-to; bh=iAYPs+ZeWVO/lwI14fMvd26WBZ/P+0qxFcS1cwWWILI=; b=A4p+ffeFxN1+uuej9Bdw713bRnoHeQT9WwIvMAKrS+yVT+3YaFFdXrdfCZ2kFRlA0z bAMqVWikCjSgTW9d1mo/0WPd5LUj30GJTTt+5T05xruLrbqFBrKETcU2nPB7QIvRUhBh Zidp9BNZvqUYYlFvEXoLNYpwQGUd+62ABdD5Dr2KSMuK5JDD3wePPK3Tf5DRgA9+4Pms u1+AH04C8YLyIElo+yv7uaMECrzHQF4QAemseBYyN5ya5/l3ABLk+BI6IK5fLwgpX90L zAxl0wRtKpBHRVnUV5YKubWrNzcR0O15FSWHcxyvvtcR8dSKnhLpFsPNYVy0lo5rS9FL 0HIA== X-Gm-Message-State: AOJu0YycrNW0/WqdsxZNUyKiNiV3CZ33KImyurukvn6YwB7CLBkbqd9f KoQ2QIM2eBrs4ALtB8isZLvB9VZ5Dzjrx4XDjWYT5yMaPjapy3wGyNofA716NO7if3Y/MYsyYBE x9vQt4kf3Nhk/s4rcc4YzCrDac4V4XRhbb1b1wdCv1zpjclm54ly7rTXT X-Gm-Gg: ASbGncuAbH6Gx7zR8G1XaBo7Kwp+dolbe6NZIF1Gv3D22Xyt5B3XLUeHvH3TAb62gTk tvcD+TiZK1Pdxiy55Vne9NPdUOL9uAFfzB1qWjBYvL94fvm1+yVom6Nkao7NTC+HrWvdWpXAXPO 49Kvl1AiqKcmPGaZeNFueTYpFwugKKjKJ/lrb+J9/uYd04VrOCvaorO0JXhRGDRGaq5WD08s02g XcccrNRbVVHD2nJbGoaKLxXh0cxvHqMBIaXpUOFOpmq9pSpK3Jt7XXKAqGJmQJPymPLAfHnwCE= X-Google-Smtp-Source: AGHT+IF5meAZ7flQiPGGCfiDTUd/e7lqS2XGaFW8F2khK3zGNw/6BaGaLk08FUjB9MnvY4pdY5yMx22YMNG5 X-Received: by 2002:a05:6e02:174c:b0:3a7:e0c0:5f25 with SMTP id e9e14a558f8ab-3a7f9a2952dmr57203965ab.4.1733288733941; Tue, 03 Dec 2024 21:05:33 -0800 (PST) Received: from postal.iol.unh.edu (postal.iol.unh.edu. [2606:4100:3880:1234::84]) by smtp-relay.gmail.com with ESMTPS id e9e14a558f8ab-3a7fe8de7dcsm773625ab.13.2024.12.03.21.05.33 (version=TLS1_2 cipher=ECDHE-ECDSA-AES128-GCM-SHA256 bits=128/128); Tue, 03 Dec 2024 21:05:33 -0800 (PST) X-Relaying-Domain: iol.unh.edu Date: Tue, 03 Dec 2024 21:05:33 -0800 (PST) Message-ID: <674fe31d.050a0220.21a032.4af5SMTPIN_ADDED_MISSING@mx.google.com> Received: from [172.17.0.2] (unknown [172.18.0.217]) by postal.iol.unh.edu (Postfix) with ESMTP id 68DA76052471; Wed, 4 Dec 2024 00:05:33 -0500 (EST) Subject: |SUCCESS| pw149008 [PATCH] [v2] examples/l3fwd: add option to set Tx From: dpdklab@iol.unh.edu To: Test Report Cc: dpdk-test-reports@iol.unh.edu In-Reply-To: <20241204020622.977156-1-haijie1@huawei.com> References: <20241204020622.977156-1-haijie1@huawei.com> Content-Type: text/plain X-BeenThere: test-report@dpdk.org X-Mailman-Version: 2.1.29 Precedence: list List-Id: automatic DPDK test reports List-Unsubscribe: , List-Archive: List-Post: List-Help: List-Subscribe: , Errors-To: test-report-bounces@dpdk.org Test-Label: iol-unit-amd64-testing Test-Status: SUCCESS http://dpdk.org/patch/149008 _Testing PASS_ Submitter: Jie Hai Date: Wednesday, December 04 2024 02:06:22 DPDK git baseline: Repo:dpdk Branch: master CommitID:1b3bf1128d9bda5595861814792f74b8f57160c8 149008 --> testing pass Upstream job id: Generic-VM-Unit-Test-DPDK#26507 Test environment and result as below: +---------------------+----------------+ | Environment | dpdk_unit_test | +=====================+================+ | CentOS Stream 9 | PASS | +---------------------+----------------+ | Fedora 39 (Clang) | PASS | +---------------------+----------------+ | Debian 12 | PASS | +---------------------+----------------+ | Fedora 39 | PASS | +---------------------+----------------+ | Fedora 40 | PASS | +---------------------+----------------+ | Fedora 40 (Clang) | PASS | +---------------------+----------------+ | Ubuntu 20.04 | PASS | +---------------------+----------------+ | RHEL9 | PASS | +---------------------+----------------+ | RHEL8 | PASS | +---------------------+----------------+ | Ubuntu 22.04 | PASS | +---------------------+----------------+ | Ubuntu 24.04 | PASS | +---------------------+----------------+ | Windows Server 2022 | PASS | +---------------------+----------------+ CentOS Stream 9 Kernel: Depends on container host Compiler: gcc 11.4.1 20231218 (Red Hat 11.4.1-3) Fedora 39 (Clang) Kernel: Depends on container host Compiler: clang 17.0.6 (Fedora 17.0.6-2.fc39) Debian 12 Kernel: Depends on container host Compiler: gcc (Debian 12.2.0-14) 12.2.0 Fedora 39 Kernel: Depends on container host Compiler: gcc 13.3.1 20240522 (Red Hat 13.3.1-1) Fedora 40 Kernel: Depends on container host Compiler: gcc 14.2.1 20240801 (Red Hat 14.2.1-1) Fedora 40 (Clang) Kernel: Depends on container host Compiler: clang 18.1.6 (Fedora 18.1.6-3.fc40) Ubuntu 20.04 Kernel: Depends on container host Compiler: gcc (Ubuntu 9.4.0-1ubuntu1~20.04.2) 9.4.0 RHEL9 Kernel: Depends on container host Compiler: gcc 11.4.1 20231218 (Red Hat 11.4.1-3) RHEL8 Kernel: Depends on container host Compiler: gcc 8.5.0 20210514 (Red Hat 8.5.0-22) Ubuntu 22.04 Kernel: Depends on container host Compiler: gcc (Ubuntu 11.4.0-1ubuntu1~22.04) 11.4.0 Ubuntu 24.04 Kernel: Depends on container host Compiler: gcc (Ubuntu 13.2.0-23ubuntu4) 13.2.0 Windows Server 2022 Kernel: 10.0.20348.2031 Compiler: clang 15.0.7, gcc 14.1.0 (MinGW), and MSVC VS 19.39.33521 To view detailed results, visit: https://lab.dpdk.org/results/dashboard/patchsets/32077/ UNH-IOL DPDK Community Lab To manage your email subscriptions, visit: https://lab.dpdk.org/results/dashboard/preferences/subscriptions/