From mboxrd@z Thu Jan  1 00:00:00 1970
Return-Path: <test-report-bounces@dpdk.org>
Received: from mails.dpdk.org (mails.dpdk.org [217.70.189.124])
	by inbox.dpdk.org (Postfix) with ESMTP id D468745E29
	for <public@inbox.dpdk.org>; Wed,  4 Dec 2024 06:40:02 +0100 (CET)
Received: from mails.dpdk.org (localhost [127.0.0.1])
	by mails.dpdk.org (Postfix) with ESMTP id CB8C240648;
	Wed,  4 Dec 2024 06:40:02 +0100 (CET)
Received: from mail-io1-f98.google.com (mail-io1-f98.google.com
 [209.85.166.98]) by mails.dpdk.org (Postfix) with ESMTP id 5BCE840261
 for <test-report@dpdk.org>; Wed,  4 Dec 2024 06:40:01 +0100 (CET)
Received: by mail-io1-f98.google.com with SMTP id
 ca18e2360f4ac-84183532291so272846139f.2
 for <test-report@dpdk.org>; Tue, 03 Dec 2024 21:40:01 -0800 (PST)
DKIM-Signature: v=1; a=rsa-sha256; c=relaxed/relaxed;
 d=iol.unh.edu; s=unh-iol; t=1733290800; x=1733895600; darn=dpdk.org;
 h=references:in-reply-to:cc:to:from:subject:message-id:date:from:to
 :cc:subject:date:message-id:reply-to;
 bh=LSXclKjeZI9+Mz310zbivmnxyuaHPd5jeVD8fIB70+Q=;
 b=fiRFgzAoQ1s0ZYqb/Kmkbks3CsB//CahHQTr0ESCuCYJBv/Gql7GxoGx62irwE0IVo
 S8NjkAvI6HwiEpoGKo/H+XjEOL0lkoM0inZx+sir1jzTdfAJneerXpko2WFrhf48BPoO
 BogYy6KgR4EgYKFtWAmhAEqxSEwkNydZsK/0w=
X-Google-DKIM-Signature: v=1; a=rsa-sha256; c=relaxed/relaxed;
 d=1e100.net; s=20230601; t=1733290800; x=1733895600;
 h=references:in-reply-to:cc:to:from:subject:message-id:date
 :x-gm-message-state:from:to:cc:subject:date:message-id:reply-to;
 bh=LSXclKjeZI9+Mz310zbivmnxyuaHPd5jeVD8fIB70+Q=;
 b=JT0hCZPbsjh/zdVTdzK3KfgJEK7RQhRY42rUleShLrRVmmtoDw8+caDCbrfTi8CbOo
 Kb/zCzxnY4iAKLmtoNdpeT3nz8e+Z1AEO8iI2wTHu8xj6fA7dcR8iFWQFBSiORxZZakn
 Zg/R7b7RbrmTreQAsrjs5VXGTQvf7tLiOD/WvvVKFOqsTTPRfM5Ijic/Bd/rmWCDRhI5
 5c5+qJ+ZLmRoInEjiH6vPYF5BgU2e9TtlW6ucioMNgWJ4OC8yFadIT01+x/sHwIO5Ar2
 vzgd85jxYwEZA47jf7X4RH186DQgU8NocxpaIBpGNw2NWqTfwznfiXmPhuiOrhYtFLDO
 kZUQ==
X-Gm-Message-State: AOJu0Yxa51VDSWZaznGr78y3eOPAVLRBw/dYmh3Dcw/+O1/G5qz9q86f
 ti2AHhreh+WAE36b8istm4+s71o167rjVB/Gf3w1HMLqv/pRP5bLizcylAuESywvFQLcjwBMLbc
 8HAfqKjXkVkH8oOBl5gjM+sug3Y6jsg75AI7lTBT1
X-Gm-Gg: ASbGncvuilTgT3HymvagUZn1N0NcxJ05e30IlDN52Zc2vG+4RSJe2IK+cRRa2XOv39x
 gxBA1hDrDpKF4ihog5GRmB133GRFtqCqdoSMKodErMtz1dXxAcPIddU5QNjFpHm/Fe3AGB9D+el
 UFf8QJTB1mMfsKOTWqLK9++zcpnrttr2gcRXULfBhBWyDEwG8f31ySCHg9a4drb+ZQqBx2S1ePs
 8a6im/f0hcOCKYijY1K5v3V9bu+fdm1SOvZZlhYWjsCuqlLh7xjIN2KqT18i+MmNT7KZvY=
X-Google-Smtp-Source: AGHT+IF3mTYrAbpaG6bpzmlMBGDpzrsIh5Tvr59YTUBmfF1JRSSt62W6A5Ro+cv0VwRST/7UIZOvmSckqHse
X-Received: by 2002:a05:6602:1681:b0:841:a678:de2e with SMTP id
 ca18e2360f4ac-8445b545f7cmr729093539f.2.1733290800663; 
 Tue, 03 Dec 2024 21:40:00 -0800 (PST)
Received: from postal.iol.unh.edu (postal.iol.unh.edu. [132.177.123.84])
 by smtp-relay.gmail.com with ESMTPS id
 ca18e2360f4ac-84405ee6631sm44376539f.13.2024.12.03.21.40.00
 (version=TLS1_2 cipher=ECDHE-ECDSA-AES128-GCM-SHA256 bits=128/128);
 Tue, 03 Dec 2024 21:40:00 -0800 (PST)
X-Relaying-Domain: iol.unh.edu
Date: Tue, 03 Dec 2024 21:40:00 -0800 (PST)
Message-ID: <674feb30.050a0220.6ae46.9589SMTPIN_ADDED_MISSING@mx.google.com>
Received: from [172.21.0.5] (unknown [172.18.0.240])
 by postal.iol.unh.edu (Postfix) with ESMTP id 245D96052471;
 Wed,  4 Dec 2024 00:40:00 -0500 (EST)
Subject: |SUCCESS| pw148985-149006 [PATCH] [v2,22/22] net/ixgbe: use common T
From: dpdklab@iol.unh.edu
To: Test Report <test-report@dpdk.org>
Cc: dpdk-test-reports@iol.unh.edu
In-Reply-To: <20241203164132.2686558-23-bruce.richardson@intel.com>
References: <20241203164132.2686558-23-bruce.richardson@intel.com>
Content-Type: text/plain
X-BeenThere: test-report@dpdk.org
X-Mailman-Version: 2.1.29
Precedence: list
List-Id: automatic DPDK test reports <test-report.dpdk.org>
List-Unsubscribe: <https://mails.dpdk.org/options/test-report>,
 <mailto:test-report-request@dpdk.org?subject=unsubscribe>
List-Archive: <http://mails.dpdk.org/archives/test-report/>
List-Post: <mailto:test-report@dpdk.org>
List-Help: <mailto:test-report-request@dpdk.org?subject=help>
List-Subscribe: <https://mails.dpdk.org/listinfo/test-report>,
 <mailto:test-report-request@dpdk.org?subject=subscribe>
Errors-To: test-report-bounces@dpdk.org

Test-Label: iol-unit-amd64-testing
Test-Status: SUCCESS
http://dpdk.org/patch/149006

_Testing PASS_

Submitter: Bruce Richardson <bruce.richardson@intel.com>
Date: Tuesday, December 03 2024 16:41:28 
DPDK git baseline: Repo:dpdk
  Branch: master
  CommitID:1b3bf1128d9bda5595861814792f74b8f57160c8

148985-149006 --> testing pass

Upstream job id: Generic-VM-Unit-Test-DPDK#26508

Test environment and result as below:

+---------------------+----------------+
|     Environment     | dpdk_unit_test |
+=====================+================+
| Fedora 39           | PASS           |
+---------------------+----------------+
| Fedora 39 (Clang)   | PASS           |
+---------------------+----------------+
| CentOS Stream 9     | PASS           |
+---------------------+----------------+
| Debian 12           | PASS           |
+---------------------+----------------+
| Fedora 40           | PASS           |
+---------------------+----------------+
| RHEL9               | PASS           |
+---------------------+----------------+
| Fedora 40 (Clang)   | PASS           |
+---------------------+----------------+
| RHEL8               | PASS           |
+---------------------+----------------+
| Ubuntu 20.04        | PASS           |
+---------------------+----------------+
| Ubuntu 22.04        | PASS           |
+---------------------+----------------+
| Ubuntu 24.04        | PASS           |
+---------------------+----------------+
| Windows Server 2022 | PASS           |
+---------------------+----------------+


Fedora 39
	Kernel: Depends on container host
	Compiler: gcc 13.3.1 20240522 (Red Hat 13.3.1-1)

Fedora 39 (Clang)
	Kernel: Depends on container host
	Compiler: clang 17.0.6 (Fedora 17.0.6-2.fc39)

CentOS Stream 9
	Kernel: Depends on container host
	Compiler: gcc 11.4.1 20231218 (Red Hat 11.4.1-3)

Debian 12
	Kernel: Depends on container host
	Compiler: gcc (Debian 12.2.0-14) 12.2.0

Fedora 40
	Kernel: Depends on container host
	Compiler: gcc 14.2.1 20240801 (Red Hat 14.2.1-1)

RHEL9
	Kernel: Depends on container host
	Compiler: gcc 11.4.1 20231218 (Red Hat 11.4.1-3)

Fedora 40 (Clang)
	Kernel: Depends on container host
	Compiler: clang 18.1.6 (Fedora 18.1.6-3.fc40)

RHEL8
	Kernel: Depends on container host
	Compiler: gcc 8.5.0 20210514 (Red Hat 8.5.0-22)

Ubuntu 20.04
	Kernel: Depends on container host
	Compiler: gcc (Ubuntu 9.4.0-1ubuntu1~20.04.2) 9.4.0

Ubuntu 22.04
	Kernel: Depends on container host
	Compiler: gcc (Ubuntu 11.4.0-1ubuntu1~22.04) 11.4.0

Ubuntu 24.04
	Kernel: Depends on container host
	Compiler: gcc (Ubuntu 13.2.0-23ubuntu4) 13.2.0

Windows Server 2022
	Kernel: 10.0.20348.2031
	Compiler: clang 15.0.7, gcc 14.1.0 (MinGW), and MSVC VS 19.39.33521

To view detailed results, visit:
https://lab.dpdk.org/results/dashboard/patchsets/32076/

UNH-IOL DPDK Community Lab

To manage your email subscriptions, visit: 
https://lab.dpdk.org/results/dashboard/preferences/subscriptions/