From mboxrd@z Thu Jan 1 00:00:00 1970 Return-Path: Received: from mails.dpdk.org (mails.dpdk.org [217.70.189.124]) by inbox.dpdk.org (Postfix) with ESMTP id 9A68745E29 for ; Wed, 4 Dec 2024 07:30:05 +0100 (CET) Received: from mails.dpdk.org (localhost [127.0.0.1]) by mails.dpdk.org (Postfix) with ESMTP id 7235540648; Wed, 4 Dec 2024 07:30:05 +0100 (CET) Received: from mail-il1-f228.google.com (mail-il1-f228.google.com [209.85.166.228]) by mails.dpdk.org (Postfix) with ESMTP id BF64740261 for ; Wed, 4 Dec 2024 07:30:03 +0100 (CET) Received: by mail-il1-f228.google.com with SMTP id e9e14a558f8ab-3a777fd574bso26135305ab.1 for ; Tue, 03 Dec 2024 22:30:03 -0800 (PST) DKIM-Signature: v=1; a=rsa-sha256; c=relaxed/relaxed; d=iol.unh.edu; s=unh-iol; t=1733293803; x=1733898603; darn=dpdk.org; h=cc:to:from:subject:message-id:date:from:to:cc:subject:date :message-id:reply-to; bh=dywxjVeHsl0PbEditYvw1xL8/0b29NWAcJyCxmIfZO4=; b=c9+9ZdBtMqjNLxP/poiCVH+gWf6eyNGNHqTM/ADcjnJxVNsUgCjOrFLa9b+FMUPCTq mZ9wdHxzL0eIhU7tlyHBzt6NGK0IC1jyG5sZQCg1VJ6zeFLOYSN+J5gfj57zPZF/rEr1 ysz3TNvLIyXSrOf/FW/y34u+3xgupedUVJawI= X-Google-DKIM-Signature: v=1; a=rsa-sha256; c=relaxed/relaxed; d=1e100.net; s=20230601; t=1733293803; x=1733898603; h=cc:to:from:subject:message-id:date:x-gm-message-state:from:to:cc :subject:date:message-id:reply-to; bh=dywxjVeHsl0PbEditYvw1xL8/0b29NWAcJyCxmIfZO4=; b=aDelDx42ri4u9rV78XUWejh+aXrD4VNUQhXNgI7r6yAB0BpzUy5HW/2nwF1vdOtY0G 6f/i2FTxneROpW+AN57AgnOTDSiHL9U0J7dMt1B7EbMh6GWdM07xIftRdIc215PT56xi QCqu1XlFL6o7OXwtijLb6HZrw9vN7HGYtSpn0QW6oihXTa8pF2fWLM+l7EZIDxVMUMpl ro0arqEyy+QxR48nco05Qk0Ke0nVB2hG7nReteVhlrxIEFMNAitgRyVY1PLrEFQFwyLz HCWeACjZqlL67FlzCv0ZPn7XJxce/fU/ZHyLDMXhILwq/P1If9W0fKdaKQgAqaj9qzIc zoEA== X-Gm-Message-State: AOJu0YytpS2xAyp68jwktB3Lq7N5CpAVaR446+SvqvkjG/4ew7tK3+jw V0Ik1TR2gfHM52IgSqzAS3ecfVTojoZ7YTIaOCAO/lAZ8nFdh5zVRrp/4jhmtIt5p6WeW/qVQAV ASAMEktmiekHApZXYNFEztR1JSiJKWDquxGjXYEGN X-Gm-Gg: ASbGncuQvwGv4oBHeQcNM15GA0BEdHnfUlEXCgno8JVZgIXS/97zvMPYJZhqF4A3v9I 5cS88bj7ARRgCTkh8nOrzuEdDBfSlw6TM/ao/D7DjodJ1kxxx2tECDLt8uVI9HfTrCJ6P/bC/Ev gS8IH6VSbSclnV2I1X9ETXhVJ6OQrOH4JoWU58NYykir5BHtW6QlePNjKTdVl67F3CCz9vlojna dRd6M8P3qqeCc3NJdmRVUkUQnz2OzqSMFIPKm8Ie4UmvnW7IuIPuvB84FX5QJUJsPFrfqY= X-Google-Smtp-Source: AGHT+IFXWa36KpOZWHoOOHZOd+NzWD2cxayLj2YaSINKv+4OQuayCzLVOdXWdMgHeHWi6NFansrWGfoy850n X-Received: by 2002:a05:6e02:178b:b0:3a7:7558:a6ea with SMTP id e9e14a558f8ab-3a7f9a3bb35mr60661495ab.10.1733293803051; Tue, 03 Dec 2024 22:30:03 -0800 (PST) Received: from postal.iol.unh.edu (postal.iol.unh.edu. [132.177.123.84]) by smtp-relay.gmail.com with ESMTPS id e9e14a558f8ab-3a7e915e767sm4002745ab.68.2024.12.03.22.30.02 (version=TLS1_2 cipher=ECDHE-ECDSA-AES128-GCM-SHA256 bits=128/128); Tue, 03 Dec 2024 22:30:03 -0800 (PST) X-Relaying-Domain: iol.unh.edu Date: Tue, 03 Dec 2024 22:30:03 -0800 (PST) Message-ID: <674ff6eb.050a0220.1670ab.6f05SMTPIN_ADDED_MISSING@mx.google.com> Received: from [172.21.0.6] (unknown [172.18.0.240]) by postal.iol.unh.edu (Postfix) with ESMTP id 86D936052471; Wed, 4 Dec 2024 01:30:02 -0500 (EST) Subject: |SUCCESS| [GIT MASTER] 1b3bf1128d9bda5595861814792f74b8f57160c8 From: dpdklab@iol.unh.edu To: Test Report Cc: dpdk-test-reports@iol.unh.edu Content-Type: text/plain X-BeenThere: test-report@dpdk.org X-Mailman-Version: 2.1.29 Precedence: list List-Id: automatic DPDK test reports List-Unsubscribe: , List-Archive: List-Post: List-Help: List-Subscribe: , Errors-To: test-report-bounces@dpdk.org _Testing PASS_ Branch: dpdk 1b3bf1128d9bda5595861814792f74b8f57160c8 --> testing pass Upstream job id: ACVP-FIPS-testing#8202 Test environment and result as below: +--------------------+----------------------+----------------------+ | Environment | compressdev_zlib_pmd | dpdk_fips_validation | +====================+======================+======================+ | Ubuntu 22.04 (ARM) | PASS | SKIPPED | +--------------------+----------------------+----------------------+ | Ubuntu 22.04 | PASS | SKIPPED | +--------------------+----------------------+----------------------+ | Ubuntu 20.04 | SKIPPED | PASS | +--------------------+----------------------+----------------------+ Ubuntu 22.04 (ARM) Kernel: 5.15.0-97-generic Compiler: gcc gcc (Ubuntu 11.4.0-1ubuntu1~22.04) 11.4.0 Ubuntu 22.04 Kernel: 5.15.0-100-generic Compiler: gcc gcc (Ubuntu 11.4.0-1ubuntu1~22.04) 11.4.0 Ubuntu 20.04 Kernel: Depends on container host Compiler: gcc (Ubuntu 9.4.0-1ubuntu1~20.04.2) 9.4.0 To view detailed results, visit: https://lab.dpdk.org/results/dashboard/tarballs/31826/ UNH-IOL DPDK Community Lab To manage your email subscriptions, visit: https://lab.dpdk.org/results/dashboard/preferences/subscriptions/