From mboxrd@z Thu Jan 1 00:00:00 1970 Return-Path: Received: from mails.dpdk.org (mails.dpdk.org [217.70.189.124]) by inbox.dpdk.org (Postfix) with ESMTP id 77DD445E2B for ; Wed, 4 Dec 2024 08:42:13 +0100 (CET) Received: from mails.dpdk.org (localhost [127.0.0.1]) by mails.dpdk.org (Postfix) with ESMTP id 70DAD40DD0; Wed, 4 Dec 2024 08:42:13 +0100 (CET) Received: from mail-il1-f227.google.com (mail-il1-f227.google.com [209.85.166.227]) by mails.dpdk.org (Postfix) with ESMTP id D4C3F40261 for ; Wed, 4 Dec 2024 08:42:12 +0100 (CET) Received: by mail-il1-f227.google.com with SMTP id e9e14a558f8ab-3a789d422bcso29896955ab.1 for ; Tue, 03 Dec 2024 23:42:12 -0800 (PST) DKIM-Signature: v=1; a=rsa-sha256; c=relaxed/relaxed; d=iol.unh.edu; s=unh-iol; t=1733298132; x=1733902932; darn=dpdk.org; h=references:in-reply-to:cc:to:from:subject:message-id:date:from:to :cc:subject:date:message-id:reply-to; bh=1zeM0ys9YgDvgxybU3wpEboV2W27VH+ppn5hxhIz1Y8=; b=g1BMnUosJqgnQVlKLnSO33kI2Pg3G0Eon+CEnT+XrCVFB1VD2rj689kh33K2Vtqchc Y0GmEXlHEENctBi3m1lFYZtWvIp8VI+UmiDIj0DzAWhEnDXcWHceoKZJv7ZWRmHcEJbJ 4Msw8oWAY+pC2r2ihio6dY++Tk7KSWmohTUPY= X-Google-DKIM-Signature: v=1; a=rsa-sha256; c=relaxed/relaxed; d=1e100.net; s=20230601; t=1733298132; x=1733902932; h=references:in-reply-to:cc:to:from:subject:message-id:date :x-gm-message-state:from:to:cc:subject:date:message-id:reply-to; bh=1zeM0ys9YgDvgxybU3wpEboV2W27VH+ppn5hxhIz1Y8=; b=n2lqIwvnXlGBA1reWLchs61LJFPsrUB4PK7CNUuBeszwjAP+BfQTW3LSRu2OTabd84 DzBYm5FmXiSUjLJ9R2vARKQ/1X4uIKLF9MQjKJLqv86kI6JRNFiMVAptflwvJImG6//G 9iTG0jlCUX2o/kklz7e3bvyzmsnY07qrCV0uVvYhFRbBygHjiZrd/mIIJSrhxre/5cNt HS/DpT9JizAv3h2VDaURq1PfCSbnGOKVRgtRXXzt1W+5MnU/1uHyhGW1rWtQh0D1+12B QPnaSlgmWFhlb+WkclWeIn9eKZsbslQ0OuehvWnTl3Ofs1eLQ6hqWiWu7WsiutOTYqOS vOXg== X-Gm-Message-State: AOJu0YwE2rDKmR15EzwF35/M9YEYEh81IbPagkrQ+TdvVy2rugFxpdee yBfoBtUpQ9jp+sOJuuiA4ndRQ5F/bsroEWxJAqc3xSNCUoOSQwGfUcy+Y3Oed2thFNigNx3Cn3X 5jlYwaezmEl2ENlH+q6nfyX+q7Ora8bNPwgicy3bW0ckDaqxZ/SKj/7d/ X-Gm-Gg: ASbGncu5GRuP8kH/8DTlnu9wmgto2ZHiY9yztUowbXMbxg/wSXpSwRB/4hgnpToEY8f rNHx3FdRfzSQ74720nEGYWqeWHt2xlVjuuxGs69Tb+qnEGL6ugtqRT2T2McRgv/1dBMdC7QwpCr Sbgjb2Q6GG9Fde+0hNrU6e28DerHA7NQI7JZDmIS2nohW5YMDRota658gZjbHjw53qUIS51dM88 s8U51yRTLyHGNadsg7aZHeqX+oIobzVsQV/STPcC5EKdfN49m6rUtggfJj+4bFdF5YE9XUePrc= X-Google-Smtp-Source: AGHT+IHbCIexOr4gDeNMCM7DCTU/V71aGhuDKdkzVwWjLY2swJnnUdb6+HfFaf5bicpgVWCoqsrVyhCmhw1F X-Received: by 2002:a05:6e02:350b:b0:3a7:fe8c:b012 with SMTP id e9e14a558f8ab-3a7fe8cb0damr38728995ab.18.1733298132028; Tue, 03 Dec 2024 23:42:12 -0800 (PST) Received: from postal.iol.unh.edu (postal.iol.unh.edu. [2606:4100:3880:1234::84]) by smtp-relay.gmail.com with ESMTPS id e9e14a558f8ab-3a7ccbde932sm6727785ab.14.2024.12.03.23.42.11 (version=TLS1_2 cipher=ECDHE-ECDSA-AES128-GCM-SHA256 bits=128/128); Tue, 03 Dec 2024 23:42:12 -0800 (PST) X-Relaying-Domain: iol.unh.edu Date: Tue, 03 Dec 2024 23:42:12 -0800 (PST) Message-ID: <675007d4.050a0220.1c2c99.6bb5SMTPIN_ADDED_MISSING@mx.google.com> Received: from [172.21.0.5] (unknown [172.18.0.240]) by postal.iol.unh.edu (Postfix) with ESMTP id 89DF76052471; Wed, 4 Dec 2024 02:42:11 -0500 (EST) Subject: |WARNING| pw149008 [PATCH] [v2] examples/l3fwd: add option to set Tx From: dpdklab@iol.unh.edu To: Test Report Cc: dpdk-test-reports@iol.unh.edu In-Reply-To: <20241204020622.977156-1-haijie1@huawei.com> References: <20241204020622.977156-1-haijie1@huawei.com> Content-Type: text/plain X-BeenThere: test-report@dpdk.org X-Mailman-Version: 2.1.29 Precedence: list List-Id: automatic DPDK test reports List-Unsubscribe: , List-Archive: List-Post: List-Help: List-Subscribe: , Errors-To: test-report-bounces@dpdk.org Test-Label: iol-compile-amd64-testing Test-Status: WARNING http://dpdk.org/patch/149008 _Testing issues_ Submitter: Jie Hai Date: Wednesday, December 04 2024 02:06:22 DPDK git baseline: Repo:dpdk Branch: master CommitID:1b3bf1128d9bda5595861814792f74b8f57160c8 149008 --> testing issues Upstream job id: Windows-Compile-DPDK-Native#25152 Test environment and result as below: +---------------------+--------------------+------------------+-------------------+-------------------+-----------------------+----------------------+ | Environment | dpdk_meson_compile | dpdk_compile_ovs | dpdk_compile_spdk | dpdk_msvc_compile | dpdk_win_llvm_compile | dpdk_mingw64_compile | +=====================+====================+==================+===================+===================+=======================+======================+ | CentOS Stream 9 | PASS | PASS | PASS | SKIPPED | SKIPPED | SKIPPED | +---------------------+--------------------+------------------+-------------------+-------------------+-----------------------+----------------------+ | Debian 12 | PASS | PASS | PASS | SKIPPED | SKIPPED | SKIPPED | +---------------------+--------------------+------------------+-------------------+-------------------+-----------------------+----------------------+ | Fedora 39 (Clang) | PASS | PASS | PASS | SKIPPED | SKIPPED | SKIPPED | +---------------------+--------------------+------------------+-------------------+-------------------+-----------------------+----------------------+ | Fedora 40 (Clang) | PASS | PASS | PASS | SKIPPED | SKIPPED | SKIPPED | +---------------------+--------------------+------------------+-------------------+-------------------+-----------------------+----------------------+ | openSUSE Leap 15 | PASS | PASS | SKIPPED | SKIPPED | SKIPPED | SKIPPED | +---------------------+--------------------+------------------+-------------------+-------------------+-----------------------+----------------------+ | Fedora 40 | PASS | PASS | PASS | SKIPPED | SKIPPED | SKIPPED | +---------------------+--------------------+------------------+-------------------+-------------------+-----------------------+----------------------+ | RHEL8 | PASS | PASS | SKIPPED | SKIPPED | SKIPPED | SKIPPED | +---------------------+--------------------+------------------+-------------------+-------------------+-----------------------+----------------------+ | Ubuntu 20.04 | PASS | WARN | SKIPPED | SKIPPED | SKIPPED | SKIPPED | +---------------------+--------------------+------------------+-------------------+-------------------+-----------------------+----------------------+ | Ubuntu 24.04 | PASS | PASS | PASS | SKIPPED | SKIPPED | SKIPPED | +---------------------+--------------------+------------------+-------------------+-------------------+-----------------------+----------------------+ | Ubuntu 22.04 | PASS | PASS | PASS | SKIPPED | SKIPPED | SKIPPED | +---------------------+--------------------+------------------+-------------------+-------------------+-----------------------+----------------------+ | Alpine | PASS | PASS | SKIPPED | SKIPPED | SKIPPED | SKIPPED | +---------------------+--------------------+------------------+-------------------+-------------------+-----------------------+----------------------+ | FreeBSD 13.4 | PASS | SKIPPED | SKIPPED | SKIPPED | SKIPPED | SKIPPED | +---------------------+--------------------+------------------+-------------------+-------------------+-----------------------+----------------------+ | FreeBSD 14.1 | PASS | SKIPPED | SKIPPED | SKIPPED | SKIPPED | SKIPPED | +---------------------+--------------------+------------------+-------------------+-------------------+-----------------------+----------------------+ | RHEL9 | PASS | PASS | SKIPPED | SKIPPED | SKIPPED | SKIPPED | +---------------------+--------------------+------------------+-------------------+-------------------+-----------------------+----------------------+ | Fedora 39 | PASS | PASS | PASS | SKIPPED | SKIPPED | SKIPPED | +---------------------+--------------------+------------------+-------------------+-------------------+-----------------------+----------------------+ | Windows Server 2022 | SKIPPED | SKIPPED | SKIPPED | PASS | PASS | PASS | +---------------------+--------------------+------------------+-------------------+-------------------+-----------------------+----------------------+ ==== 20 line log output for Ubuntu 20.04 (dpdk_compile_ovs): ==== --- Failed to get log output --- ==== End log output ==== CentOS Stream 9 Kernel: Depends on container host Compiler: gcc 11.4.1 20231218 (Red Hat 11.4.1-3) Debian 12 Kernel: Depends on container host Compiler: gcc (Debian 12.2.0-14) 12.2.0 Fedora 39 (Clang) Kernel: Depends on container host Compiler: clang 17.0.6 (Fedora 17.0.6-2.fc39) Fedora 40 (Clang) Kernel: Depends on container host Compiler: clang 18.1.6 (Fedora 18.1.6-3.fc40) openSUSE Leap 15 Kernel: Depends on container host Compiler: gcc (SUSE Linux) 7.5.0 Fedora 40 Kernel: Depends on container host Compiler: gcc 14.2.1 20240801 (Red Hat 14.2.1-1) RHEL8 Kernel: Depends on container host Compiler: gcc 8.5.0 20210514 (Red Hat 8.5.0-22) Ubuntu 20.04 Kernel: Depends on container host Compiler: gcc (Ubuntu 9.4.0-1ubuntu1~20.04.2) 9.4.0 Ubuntu 24.04 Kernel: Depends on container host Compiler: gcc (Ubuntu 13.2.0-23ubuntu4) 13.2.0 Ubuntu 22.04 Kernel: Depends on container host Compiler: gcc (Ubuntu 11.4.0-1ubuntu1~22.04) 11.4.0 Alpine Kernel: Depends on container host Compiler: gcc (Alpine 13.2.1_git20240309) 13.2.1 20240309 FreeBSD 13.4 Kernel: 13.4-RELEASE-p1 Compiler: clang 18.1.6 FreeBSD 14.1 Kernel: 14.1-RELEASE-p3 Compiler: clang 18.1.5 RHEL9 Kernel: Depends on container host Compiler: gcc 11.4.1 20231218 (Red Hat 11.4.1-3) Fedora 39 Kernel: Depends on container host Compiler: gcc 13.3.1 20240522 (Red Hat 13.3.1-1) Windows Server 2022 Kernel: 10.0.20348.2031 Compiler: clang 15.0.7, gcc 14.1.0 (MinGW), and MSVC VS 19.39.33521 To view detailed results, visit: https://lab.dpdk.org/results/dashboard/patchsets/32077/ UNH-IOL DPDK Community Lab To manage your email subscriptions, visit: https://lab.dpdk.org/results/dashboard/preferences/subscriptions/