From mboxrd@z Thu Jan  1 00:00:00 1970
Return-Path: <test-report-bounces@dpdk.org>
Received: from mails.dpdk.org (mails.dpdk.org [217.70.189.124])
	by inbox.dpdk.org (Postfix) with ESMTP id 17AA345E2B
	for <public@inbox.dpdk.org>; Wed,  4 Dec 2024 08:55:04 +0100 (CET)
Received: from mails.dpdk.org (localhost [127.0.0.1])
	by mails.dpdk.org (Postfix) with ESMTP id 0FCC540648;
	Wed,  4 Dec 2024 08:55:04 +0100 (CET)
Received: from mail-pl1-f227.google.com (mail-pl1-f227.google.com
 [209.85.214.227])
 by mails.dpdk.org (Postfix) with ESMTP id 039F740261
 for <test-report@dpdk.org>; Wed,  4 Dec 2024 08:55:02 +0100 (CET)
Received: by mail-pl1-f227.google.com with SMTP id
 d9443c01a7336-2156e078563so29482235ad.2
 for <test-report@dpdk.org>; Tue, 03 Dec 2024 23:55:02 -0800 (PST)
DKIM-Signature: v=1; a=rsa-sha256; c=relaxed/relaxed;
 d=iol.unh.edu; s=unh-iol; t=1733298902; x=1733903702; darn=dpdk.org;
 h=cc:to:from:subject:message-id:date:from:to:cc:subject:date
 :message-id:reply-to;
 bh=WvqXPrnsI80Be2I9In4aVu1g1pTkgY+yI6LB+pilhV4=;
 b=Tr+eyWvyxy0XsO7ReH3rYurXcxzEJnhaqR5jBPDmS1soAOIV/RoPllGQ1B+jej3WAi
 BPOTvFVB67hrLCtu5vVI6y2EvHRUd2uEx5sM1GstnwRrxAJ8Pn/cBw0miD6Ii3ejbyiH
 +zz0TqSRQ4IipV/cQNxkML9cq6P8BSna2Ve9Y=
X-Google-DKIM-Signature: v=1; a=rsa-sha256; c=relaxed/relaxed;
 d=1e100.net; s=20230601; t=1733298902; x=1733903702;
 h=cc:to:from:subject:message-id:date:x-gm-message-state:from:to:cc
 :subject:date:message-id:reply-to;
 bh=WvqXPrnsI80Be2I9In4aVu1g1pTkgY+yI6LB+pilhV4=;
 b=Xw1NHurD5jIGDxgj0HK/jkxVqRzety7itz6cgD9o/DX9Y1lX9ncivCp/D/yRkGeSfr
 w9cou6bK15K3n3hJpYiNOZ5fR3sQU8Ilw9B7joNnxQ+MBcAKEgDJCyss0FRtQ793D96x
 eBI30kgRUME/N4XNd7tM8+p3bC8Tg4wq/JR80Ac2PeD0tuP3lqh3kQ02mOVMf/+NYbeK
 tTXqRI/yDX0ytkUc7bFqPMJm6R3Lqai4zSneQWsYrlEwp9qIFrLkCfb1OpXE0UzdfdVV
 k5IpHa+DthxsmApPVafxqy2LNv+mPnwT1Z/30PxoNObH2OFzbHdeLQETE/6Pw8KhxIND
 A2cA==
X-Gm-Message-State: AOJu0Yw1DFVGYfUoenmAaNVD2hsa2MiAE6JORSYyNHAE34nLjQMU/yY6
 HGSJTWDqRD1StSya0OIDvbAFRyqmpQZ2ozfSKK8TiKS70unM2vvl3hHj5StwfzG3CgK3B3CPlic
 ELFoIiqrC3vExv11nleTwk3zEY3dsTpZ9
X-Gm-Gg: ASbGncs09zoLWHa2uUz2uUkYmu28KCSg+S5c8bkCKt5q8Kf0EtkXclLNwsr/bHqqGbv
 hhpMfVZIQbXAxibEG9oYRXxBIJURmaqcZee8PYClBGO4aXftNb/jOPquy7UTg8EYu7iHOE5XGoL
 jOWnPnmh1erPGMF7C7HYRQjP0RMMOSTXe89UYcAUeDUA6NuKGaleL9jYkWuy+Kgx0S+3IWhClzU
 iwBxJYst8rApa2RoQKXDDAAlURtky0pq+H6Y/OzSFJ6tcKlA+V7kihHQ6znacyTql4MOt4=
X-Google-Smtp-Source: AGHT+IE9bL7M/wFTAT0X2y/ainA62B5jyr8yxHVq56QaT0x0605nzTfFCW8+6wUt32eCsutZ8Iy/phoRJFd1
X-Received: by 2002:a17:903:1790:b0:215:a81b:c17f with SMTP id
 d9443c01a7336-215bd24fa7fmr79519305ad.47.1733298901882; 
 Tue, 03 Dec 2024 23:55:01 -0800 (PST)
Received: from postal.iol.unh.edu (postal.iol.unh.edu. [132.177.123.84])
 by smtp-relay.gmail.com with ESMTPS id
 d9443c01a7336-2159d2a3886sm2406945ad.103.2024.12.03.23.55.01
 (version=TLS1_2 cipher=ECDHE-ECDSA-AES128-GCM-SHA256 bits=128/128);
 Tue, 03 Dec 2024 23:55:01 -0800 (PST)
X-Relaying-Domain: iol.unh.edu
Date: Tue, 03 Dec 2024 23:55:01 -0800 (PST)
Message-ID: <67500ad5.170a0220.2c8790.db56SMTPIN_ADDED_MISSING@mx.google.com>
Received: from [172.21.0.6] (unknown [172.18.0.240])
 by postal.iol.unh.edu (Postfix) with ESMTP id 13DAA6052471;
 Wed,  4 Dec 2024 02:55:01 -0500 (EST)
Subject: |SUCCESS| [GIT MASTER] e8eb14e00d56027bef8569d68cf00e39670edca2
From: dpdklab@iol.unh.edu
To: Test Report <test-report@dpdk.org>
Cc: dpdk-test-reports@iol.unh.edu, Xueming Li <xuemingl@nvidia.com>,
 Christian Ehrhardt <christian.ehrhardt@canonical.com>,
 Kevin Traynor <ktraynor@redhat.com>, Luca Boccassi <bluca@debian.org>
Content-Type: text/plain
X-BeenThere: test-report@dpdk.org
X-Mailman-Version: 2.1.29
Precedence: list
List-Id: automatic DPDK test reports <test-report.dpdk.org>
List-Unsubscribe: <https://mails.dpdk.org/options/test-report>,
 <mailto:test-report-request@dpdk.org?subject=unsubscribe>
List-Archive: <http://mails.dpdk.org/archives/test-report/>
List-Post: <mailto:test-report@dpdk.org>
List-Help: <mailto:test-report-request@dpdk.org?subject=help>
List-Subscribe: <https://mails.dpdk.org/listinfo/test-report>,
 <mailto:test-report-request@dpdk.org?subject=subscribe>
Errors-To: test-report-bounces@dpdk.org

_Testing PASS_

Branch: tags/v23.11

e8eb14e00d56027bef8569d68cf00e39670edca2 --> testing pass

Upstream job id: Generic-Unit-Test-DPDK#297424

Test environment and result as below:

+---------------------+----------------+
|     Environment     | dpdk_unit_test |
+=====================+================+
| Debian 12           | PASS           |
+---------------------+----------------+
| CentOS Stream 9     | PASS           |
+---------------------+----------------+
| Fedora 39 (Clang)   | PASS           |
+---------------------+----------------+
| Fedora 40           | PASS           |
+---------------------+----------------+
| Fedora 40 (Clang)   | PASS           |
+---------------------+----------------+
| Fedora 39           | PASS           |
+---------------------+----------------+
| RHEL8               | PASS           |
+---------------------+----------------+
| RHEL9               | PASS           |
+---------------------+----------------+
| Ubuntu 22.04        | PASS           |
+---------------------+----------------+
| Ubuntu 20.04        | PASS           |
+---------------------+----------------+
| Ubuntu 24.04        | PASS           |
+---------------------+----------------+
| Windows Server 2022 | PASS           |
+---------------------+----------------+


Debian 12
	Kernel: Depends on container host
	Compiler: gcc (Debian 12.2.0-14) 12.2.0

CentOS Stream 9
	Kernel: Depends on container host
	Compiler: gcc 11.4.1 20231218 (Red Hat 11.4.1-3)

Fedora 39 (Clang)
	Kernel: Depends on container host
	Compiler: clang 17.0.6 (Fedora 17.0.6-2.fc39)

Fedora 40
	Kernel: Depends on container host
	Compiler: gcc 14.2.1 20240801 (Red Hat 14.2.1-1)

Fedora 40 (Clang)
	Kernel: Depends on container host
	Compiler: clang 18.1.6 (Fedora 18.1.6-3.fc40)

Fedora 39
	Kernel: Depends on container host
	Compiler: gcc 13.3.1 20240522 (Red Hat 13.3.1-1)

RHEL8
	Kernel: Depends on container host
	Compiler: gcc 8.5.0 20210514 (Red Hat 8.5.0-22)

RHEL9
	Kernel: Depends on container host
	Compiler: gcc 11.4.1 20231218 (Red Hat 11.4.1-3)

Ubuntu 22.04
	Kernel: Depends on container host
	Compiler: gcc (Ubuntu 11.4.0-1ubuntu1~22.04) 11.4.0

Ubuntu 20.04
	Kernel: Depends on container host
	Compiler: gcc (Ubuntu 9.4.0-1ubuntu1~20.04.2) 9.4.0

Ubuntu 24.04
	Kernel: Depends on container host
	Compiler: gcc (Ubuntu 13.2.0-23ubuntu4) 13.2.0

Windows Server 2022
	Kernel: 10.0.20348.2031
	Compiler: clang 15.0.7, gcc 14.1.0 (MinGW), and MSVC VS 19.39.33521

To view detailed results, visit:
https://lab.dpdk.org/results/dashboard/tarballs/31834/

UNH-IOL DPDK Community Lab

To manage your email subscriptions, visit: 
https://lab.dpdk.org/results/dashboard/preferences/subscriptions/