From mboxrd@z Thu Jan 1 00:00:00 1970 Return-Path: Received: from mails.dpdk.org (mails.dpdk.org [217.70.189.124]) by inbox.dpdk.org (Postfix) with ESMTP id E7FE945E2B for ; Wed, 4 Dec 2024 09:17:08 +0100 (CET) Received: from mails.dpdk.org (localhost [127.0.0.1]) by mails.dpdk.org (Postfix) with ESMTP id D8EC840648; Wed, 4 Dec 2024 09:17:08 +0100 (CET) Received: from mail-oa1-f100.google.com (mail-oa1-f100.google.com [209.85.160.100]) by mails.dpdk.org (Postfix) with ESMTP id C05FE40261 for ; Wed, 4 Dec 2024 09:17:06 +0100 (CET) Received: by mail-oa1-f100.google.com with SMTP id 586e51a60fabf-29e7516ee77so1780818fac.1 for ; Wed, 04 Dec 2024 00:17:06 -0800 (PST) DKIM-Signature: v=1; a=rsa-sha256; c=relaxed/relaxed; d=iol.unh.edu; s=unh-iol; t=1733300226; x=1733905026; darn=dpdk.org; h=cc:to:from:subject:message-id:date:from:to:cc:subject:date :message-id:reply-to; bh=hp1CBEaUMhN8YbT/ES+wDnvnMJFmYF8+IqovczctT3A=; b=RY6mjoXf/RtVZi7yBoNZ9Pfggl16ERTwlxz0ku9/qEtvWq64vzrWLG9HTtdte0ZaFu Za/+6sFOHpos+x25yoGsJpHFds+P8QSpAranbuzCgk6xJcQpv7AAlOY5j7B062P9S8vk 9HpWutfKn85FKhjiPxUG4++vAKrxsak24n1Lo= X-Google-DKIM-Signature: v=1; a=rsa-sha256; c=relaxed/relaxed; d=1e100.net; s=20230601; t=1733300226; x=1733905026; h=cc:to:from:subject:message-id:date:x-gm-message-state:from:to:cc :subject:date:message-id:reply-to; bh=hp1CBEaUMhN8YbT/ES+wDnvnMJFmYF8+IqovczctT3A=; b=F/XZkVQkTnqS1v2sAErkEKAS1WyfMoZNInfBriG7QwAoZAB1SQHaL1CEx4h6Pv3ZNK K94h8t3XO2wROZXbm13bRg3is0voZzYdys/6L3BkGNQIuSAKfuDZ5PlQG0no8gp3rmBn KfNpCV+P6SeKEqbM66jpiBveqT7IxdSo6w8EmOSKtzs/xObqyDf2kZmzmAQXd0+YQ3xp 3Bvl5tW30kfGVuhDFVicHj8rX70N8o1A9XNJIyXzGyKdu0juuMVFObwE1Lmelb3d86Ah icV4HD+wBREYSXja+MAeFwUF8Y0hiU+MjkS0tP1gTjcOQg5h9iDqoN6mrs8RMltAJuU9 aOyg== X-Gm-Message-State: AOJu0Yz9JV1Ywt+Ip3aXykRztM2Fan4SO9bw+ZLKk+E9jH2g7UqC2SuX rx1G2BDpMsCQW/NsU9swkcn1UH9dmALbvyWJ3JVk2BF/rI9zNEovwgBxJvnldM6XszbEMh7V/0E Pk05XWqcAJ2ekQtocyBdTYV65sKlzknmE0Phh4hg6 X-Gm-Gg: ASbGncufLGr7STRb81QJsBhR1n8uruT5DC/RmynE7u3WHzqF6SxMbvwXVHVTiI3xKdv rsOikQyafjrvhJtX3YzIthQXTw8GLBCKELNkQlbkEsiIYddwMP6MfKGDmWZID8XWfMDBAVquY11 v+Zuvcws8RiVxwCtaWSq4Q51eb7zb72qzRkmnRWRU4WrBoF2XwIDavhvLj7DQEh+bPbxNI/BK5Q 02bY2qEkyhohVoDgpAUU5uCm/C1hpv6X7D7Rl2FYYMRmNXRPZIb0/MflV0SA4CgabGHOSU= X-Google-Smtp-Source: AGHT+IEJ/QHqm60WnweToDvw0/pSEQvvmN1OM1QG/JW4M2jwh3mXWjNP0nrE9gQUjy2p3/DDEHDzksTIce38 X-Received: by 2002:a05:6870:3d93:b0:29e:499d:1d33 with SMTP id 586e51a60fabf-29e88625b5fmr5627006fac.14.1733300225833; Wed, 04 Dec 2024 00:17:05 -0800 (PST) Received: from postal.iol.unh.edu (postal.iol.unh.edu. [132.177.123.84]) by smtp-relay.gmail.com with ESMTPS id 41be03b00d2f7-7fc9c2b9b95sm641986a12.17.2024.12.04.00.17.05 (version=TLS1_2 cipher=ECDHE-ECDSA-AES128-GCM-SHA256 bits=128/128); Wed, 04 Dec 2024 00:17:05 -0800 (PST) X-Relaying-Domain: iol.unh.edu Date: Wed, 04 Dec 2024 00:17:05 -0800 (PST) Message-ID: <67501001.630a0220.105044.46fbSMTPIN_ADDED_MISSING@mx.google.com> Received: from [172.21.0.5] (unknown [172.18.0.240]) by postal.iol.unh.edu (Postfix) with ESMTP id B59D46052471; Wed, 4 Dec 2024 03:17:04 -0500 (EST) Subject: |SUCCESS| [GIT MASTER] 4843aacb0d1201fef37e8a579fcd8baec4acdf98 From: dpdklab@iol.unh.edu To: Test Report Cc: dpdk-test-reports@iol.unh.edu, Akhil Goyal Content-Type: text/plain X-BeenThere: test-report@dpdk.org X-Mailman-Version: 2.1.29 Precedence: list List-Id: automatic DPDK test reports List-Unsubscribe: , List-Archive: List-Post: List-Help: List-Subscribe: , Errors-To: test-report-bounces@dpdk.org _Testing PASS_ Branch: dpdk-next-crypto 4843aacb0d1201fef37e8a579fcd8baec4acdf98 --> testing pass Upstream job id: ACVP-FIPS-testing#8203 Test environment and result as below: +--------------------+----------------------+----------------------+ | Environment | compressdev_zlib_pmd | dpdk_fips_validation | +====================+======================+======================+ | Ubuntu 22.04 (ARM) | PASS | SKIPPED | +--------------------+----------------------+----------------------+ | Ubuntu 22.04 | PASS | SKIPPED | +--------------------+----------------------+----------------------+ | Ubuntu 20.04 | SKIPPED | PASS | +--------------------+----------------------+----------------------+ Ubuntu 22.04 (ARM) Kernel: 5.15.0-97-generic Compiler: gcc gcc (Ubuntu 11.4.0-1ubuntu1~22.04) 11.4.0 Ubuntu 22.04 Kernel: 5.15.0-100-generic Compiler: gcc gcc (Ubuntu 11.4.0-1ubuntu1~22.04) 11.4.0 Ubuntu 20.04 Kernel: Depends on container host Compiler: gcc (Ubuntu 9.4.0-1ubuntu1~20.04.2) 9.4.0 To view detailed results, visit: https://lab.dpdk.org/results/dashboard/tarballs/31830/ UNH-IOL DPDK Community Lab To manage your email subscriptions, visit: https://lab.dpdk.org/results/dashboard/preferences/subscriptions/