From mboxrd@z Thu Jan 1 00:00:00 1970 Return-Path: Received: from mails.dpdk.org (mails.dpdk.org [217.70.189.124]) by inbox.dpdk.org (Postfix) with ESMTP id ECC2645E2D for ; Wed, 4 Dec 2024 10:10:26 +0100 (CET) Received: from mails.dpdk.org (localhost [127.0.0.1]) by mails.dpdk.org (Postfix) with ESMTP id C69B940648; Wed, 4 Dec 2024 10:10:26 +0100 (CET) Received: from mail-pl1-f226.google.com (mail-pl1-f226.google.com [209.85.214.226]) by mails.dpdk.org (Postfix) with ESMTP id 167E340261 for ; Wed, 4 Dec 2024 10:10:25 +0100 (CET) Received: by mail-pl1-f226.google.com with SMTP id d9443c01a7336-2154e3af730so40163035ad.3 for ; Wed, 04 Dec 2024 01:10:24 -0800 (PST) DKIM-Signature: v=1; a=rsa-sha256; c=relaxed/relaxed; d=iol.unh.edu; s=unh-iol; t=1733303424; x=1733908224; darn=dpdk.org; h=cc:to:from:subject:message-id:date:from:to:cc:subject:date :message-id:reply-to; bh=m2+hPsOAKO2+v0RttxFgD5P3jnip4cucErPiG3UxJ9A=; b=ApJaovLxjz5GkH7N8C4naDiEjA1LVLIuNps2cA/qZ9CI7bgrPtVtbXcFWQ+W3dkPye k44OL2f7QCOJsOrQ6ZwqnVp3HhNSaDM1DVsgcNUtFuQKQc5xF1gk3hw3UVg181r9zS8f SJ3z3PIOLexgFXZwREDHQlwpcvjSSM6QzistI= X-Google-DKIM-Signature: v=1; a=rsa-sha256; c=relaxed/relaxed; d=1e100.net; s=20230601; t=1733303424; x=1733908224; h=cc:to:from:subject:message-id:date:x-gm-message-state:from:to:cc :subject:date:message-id:reply-to; bh=m2+hPsOAKO2+v0RttxFgD5P3jnip4cucErPiG3UxJ9A=; b=DVcsl6eCwgzXRq5Muckj5P88md9Bxny/92iFOY+rpYcNzbFYnEryW5D2nib7l36Dz0 GaU2cFMzaNM1NzzJmE5aMjdI8CPEQFGyemXzbYvh/7YFiJkMyjQH1TWP517YKJxLGDsA YTtQk/nXxNc1GTcVkbWAMuUU0b+PZEnoBi/jGSKxfscW9QwMD/r3SiZyr6y+MojRAdsW U4sTrXS9Jjqwqzm2wpJbJ6PGmIWa54n6gFs9NvpGECh4DTvzyzFlaiPI3CP8L4p8WYrx usQZ+oUQgaIPhZhcMaRyhm9PPEGiCDm0qx8UuMJXUjNdvAK57u+m0sxRDJGI+dBZRvl1 kiDQ== X-Gm-Message-State: AOJu0YzHTKjFKuRtSQ1W6G/kQR9fxprIuyf8dkkeuFXkBj/mLzwraLWH cI1md6sy7fheTRy1Lhl4eVie4WJRQj4UDW/SvpXosSyI7hTFmDVWaVZ3ACEeQNIoafVvgC8WQ1h 3Vw+i0l9B9Q9fm47KA6C1ZPk7cEhnne97 X-Gm-Gg: ASbGnct4kYywyGUeB/DVNy47LFzmNAHtinphlVkerEap7r4Q06YefIA2xcxxXcjUvvA Hr/+zznFwtuCIf6NtvuE7A8DmnNxaMv7LJA6ktv+hGiwUVX1p3MRLV0Ds8rbo4ZoHGXmTg5yeIr xqaZmxxkx7xQaHBOYKMqIbW1OUtZpSFwV7v3y1a2+4Vd0At0E52AsgWlD8z27lcwmeVDdrWTwUr zbo3WBFpdHYKVCinBSjhtqGVzk+ABnhwjW3R8LnwDsL/jrBOklJgbJ4e9MqEIEEXaxoj9w= X-Google-Smtp-Source: AGHT+IGYCLrYfblgb37x6G69+xfCQ95Mve/J6MLpEOcELblpQi9fF1lf9k6+v0gVUI8mkQrprEkQLyUn/9pr X-Received: by 2002:a17:902:d48c:b0:215:9200:86ca with SMTP id d9443c01a7336-215d00282eemr45824405ad.3.1733303424241; Wed, 04 Dec 2024 01:10:24 -0800 (PST) Received: from postal.iol.unh.edu (postal.iol.unh.edu. [132.177.123.84]) by smtp-relay.gmail.com with ESMTPS id d9443c01a7336-2159388a32asm2827915ad.48.2024.12.04.01.10.24 (version=TLS1_2 cipher=ECDHE-ECDSA-AES128-GCM-SHA256 bits=128/128); Wed, 04 Dec 2024 01:10:24 -0800 (PST) X-Relaying-Domain: iol.unh.edu Date: Wed, 04 Dec 2024 01:10:24 -0800 (PST) Message-ID: <67501c80.170a0220.1fb215.061eSMTPIN_ADDED_MISSING@mx.google.com> Received: from [172.17.0.4] (unknown [172.18.0.217]) by postal.iol.unh.edu (Postfix) with ESMTP id 463C86052471; Wed, 4 Dec 2024 04:10:23 -0500 (EST) Subject: |SUCCESS| [GIT MASTER] 69072dbdfc0ab49bc5a1a3707fd6f2bf5d4a41ef From: dpdklab@iol.unh.edu To: Test Report Cc: dpdk-test-reports@iol.unh.edu, Andrew Rybchenko , Ferruh Yigit Content-Type: text/plain X-BeenThere: test-report@dpdk.org X-Mailman-Version: 2.1.29 Precedence: list List-Id: automatic DPDK test reports List-Unsubscribe: , List-Archive: List-Post: List-Help: List-Subscribe: , Errors-To: test-report-bounces@dpdk.org _Testing PASS_ Branch: dpdk-next-net 69072dbdfc0ab49bc5a1a3707fd6f2bf5d4a41ef --> testing pass Upstream job id: Aarch32-Unit-Test#4562 Test environment and result as below: +-----------------------------+----------------+--------------+------------------------------+---------------------------+ | Environment | dpdk_unit_test | lpm_autotest | cryptodev_sw_snow3g_autotest | cryptodev_sw_zuc_autotest | +=============================+================+==============+==============================+===========================+ | Debian 12 (arm) | PASS | SKIPPED | PASS | PASS | +-----------------------------+----------------+--------------+------------------------------+---------------------------+ | CentOS Stream 9 (ARM) | PASS | SKIPPED | SKIPPED | SKIPPED | +-----------------------------+----------------+--------------+------------------------------+---------------------------+ | Fedora 40 (ARM) | PASS | SKIPPED | SKIPPED | SKIPPED | +-----------------------------+----------------+--------------+------------------------------+---------------------------+ | RHEL9 (ARM) | PASS | SKIPPED | SKIPPED | SKIPPED | +-----------------------------+----------------+--------------+------------------------------+---------------------------+ | Fedora 39 (ARM Clang) | PASS | SKIPPED | SKIPPED | SKIPPED | +-----------------------------+----------------+--------------+------------------------------+---------------------------+ | Fedora 39 (ARM) | PASS | SKIPPED | SKIPPED | SKIPPED | +-----------------------------+----------------+--------------+------------------------------+---------------------------+ | Fedora 40 (ARM Clang) | PASS | SKIPPED | SKIPPED | SKIPPED | +-----------------------------+----------------+--------------+------------------------------+---------------------------+ | Ubuntu 20.04 (ARM) | PASS | SKIPPED | SKIPPED | SKIPPED | +-----------------------------+----------------+--------------+------------------------------+---------------------------+ | Ubuntu 22.04 (ARM) | PASS | SKIPPED | SKIPPED | SKIPPED | +-----------------------------+----------------+--------------+------------------------------+---------------------------+ | Ubuntu 24.04 (ARM) | PASS | SKIPPED | SKIPPED | SKIPPED | +-----------------------------+----------------+--------------+------------------------------+---------------------------+ | 32-bit Ubuntu 22.04.4 (ARM) | PASS | SKIPPED | SKIPPED | SKIPPED | +-----------------------------+----------------+--------------+------------------------------+---------------------------+ | Ubuntu 20.04 ARM SVE | SKIPPED | PASS | SKIPPED | SKIPPED | +-----------------------------+----------------+--------------+------------------------------+---------------------------+ Debian 12 (arm) Kernel: Depends on container host Compiler: gcc (Debian 12.2.0-14) 12.2.0 CentOS Stream 9 (ARM) Kernel: Depends on container host Compiler: gcc 11.4.1 20231218 (Red Hat 11.4.1-3) Fedora 40 (ARM) Kernel: Depends on container host Compiler: gcc 14.2.1 20240801 (Red Hat 14.2.1-1) RHEL9 (ARM) Kernel: Depends on container host Compiler: gcc 11.4.1 20231218 (Red Hat 11.4.1-3) Fedora 39 (ARM Clang) Kernel: Depends on container host Compiler: clang 17.0.6 (Fedora 17.0.6-2.fc39) Fedora 39 (ARM) Kernel: Depends on container host Compiler: gcc 13.3.1 20240522 (Red Hat 13.3.1-1) Fedora 40 (ARM Clang) Kernel: Depends on container host Compiler: clang 18.1.6 (Fedora 18.1.6-3.fc40) Ubuntu 20.04 (ARM) Kernel: Depends on container host Compiler: gcc (Ubuntu 9.4.0-1ubuntu1~20.04.2) 9.4.0 Ubuntu 22.04 (ARM) Kernel: Depends on container host Compiler: gcc (Ubuntu 11.4.0-1ubuntu1~22.04) 11.4.0 Ubuntu 24.04 (ARM) Kernel: Depends on container host Compiler: gcc (Ubuntu 13.2.0-23ubuntu4) 13.2.0 32-bit Ubuntu 22.04.4 (ARM) Kernel: 5.15.83+ aarch64 Compiler: gcc (Ubuntu 11.4.0-1ubuntu1~22.04) 11.4.0 Ubuntu 20.04 ARM SVE Kernel: Depends on container host Compiler: gcc (Ubuntu 10.5.0-1ubuntu1~20.04) 10.5.0 To view detailed results, visit: https://lab.dpdk.org/results/dashboard/tarballs/31837/ UNH-IOL DPDK Community Lab To manage your email subscriptions, visit: https://lab.dpdk.org/results/dashboard/preferences/subscriptions/