From mboxrd@z Thu Jan 1 00:00:00 1970 Return-Path: Received: from mails.dpdk.org (mails.dpdk.org [217.70.189.124]) by inbox.dpdk.org (Postfix) with ESMTP id 7310845E2D for ; Wed, 4 Dec 2024 10:21:47 +0100 (CET) Received: from mails.dpdk.org (localhost [127.0.0.1]) by mails.dpdk.org (Postfix) with ESMTP id 6B70140648; Wed, 4 Dec 2024 10:21:47 +0100 (CET) Received: from mail-vs1-f98.google.com (mail-vs1-f98.google.com [209.85.217.98]) by mails.dpdk.org (Postfix) with ESMTP id 90D1540261 for ; Wed, 4 Dec 2024 10:21:45 +0100 (CET) Received: by mail-vs1-f98.google.com with SMTP id ada2fe7eead31-4afb23be757so76246137.0 for ; Wed, 04 Dec 2024 01:21:45 -0800 (PST) DKIM-Signature: v=1; a=rsa-sha256; c=relaxed/relaxed; d=iol.unh.edu; s=unh-iol; t=1733304105; x=1733908905; darn=dpdk.org; h=cc:to:from:subject:message-id:date:from:to:cc:subject:date :message-id:reply-to; bh=BlI1/lgPzUF26YC+t3bO++hKJeHtF/jjIcJPDqVP0eo=; b=PeXA0k9i5jH2aJ2uWqq/lH99Y1DOI0WiNHx0LdNQ9qx37jCvPv1LhmASwz81lebzqY 2VFU+60G29boytx3GtsnxRI0pO5LCBWDcgVgIbxxy/AxLpjY4Fy1ZWeCalfVQ6ZnqMi8 rd/tv4NiY0F8Ec2FSCQd7cy+nwwoxzcLGwY7w= X-Google-DKIM-Signature: v=1; a=rsa-sha256; c=relaxed/relaxed; d=1e100.net; s=20230601; t=1733304105; x=1733908905; h=cc:to:from:subject:message-id:date:x-gm-message-state:from:to:cc :subject:date:message-id:reply-to; bh=BlI1/lgPzUF26YC+t3bO++hKJeHtF/jjIcJPDqVP0eo=; b=aLmm2wpvjHz44TJMeK34hrVo4VE4syLlVWE83YKz2KIrPOJUAL78GimmEcQOpXEWzf R0lMS7ZgBauMnt5CdYaiKCp7R7y29iy9gMfw12Itkwn1JOFciZBcvQQ6NrwWTSzZDtgC Tj4/sL0vzwZENsvoDJjklG985aaTdyk0laTBmufgtZT71Ceq8nW+vqeOzDYz6/ZR/OTW d8gQMO3M0+Bmcz4XSJea8/nMzO9a42C8vubPlM/8oopWBfbaLk5SQ2/lZ52ccV1/RfP2 eXWtmisexE0uiMh4frFnVjx+7a0duUkhb7swpCPMdFgejuKg+7LexjxiZyluHCP0HX+C P/kg== X-Gm-Message-State: AOJu0Yw4CrH/8Rgu1cF8+720YDcCrEaTqq5UJQO9vTBXR7B8nbkARH11 5YvHXqCuzdPUZQsj3nvjDP94bpF834EI/ftKI7EXAwy0lSn+n8kYfgU2CG0REcpFKYsAlVpew/q uykFC+0Iylkn+1RSnWN9/9ltxCTGDpJNusdkz17mL X-Gm-Gg: ASbGncsV6UpFuMONhqZ0+f6ZvOtwyCxMI3kprtf7278q+bReJpZaZJApzLXbzZ7ciFe msF+iHrpv7ZQ7XFF8c0kEICtsEW4yf/aCFGHgBdPx8p1HvaG7X+eAB4aI8e/EOkQE+u3FDRJbnA 8C6YGAZi3KsNFLARvry2AKwi2mHHpASriLy5k/svITPy7gmPxV4jvnmG+to3OdM11TvpJPcJWR7 FumrYGsgafIjmFVsPaW95vWZKYWl6/I2IxiRDTfOqPWUf/hPfLp5YK7Xof8sfXwePDBqy0= X-Google-Smtp-Source: AGHT+IGNlXhSQLSMcydWmCxI4QOaEOHKT1pa16vqLSqVfHljOn1BBsF5oWz+iRASvtWWXPkashoV4qKBhBIr X-Received: by 2002:a05:6102:4b7:b0:4af:a98a:bd6b with SMTP id ada2fe7eead31-4afa98ac174mr2305758137.3.1733304105031; Wed, 04 Dec 2024 01:21:45 -0800 (PST) Received: from postal.iol.unh.edu (postal.iol.unh.edu. [132.177.123.84]) by smtp-relay.gmail.com with ESMTPS id a1e0cc1a2514c-85b82cb767csm414348241.13.2024.12.04.01.21.44 (version=TLS1_2 cipher=ECDHE-ECDSA-AES128-GCM-SHA256 bits=128/128); Wed, 04 Dec 2024 01:21:45 -0800 (PST) X-Relaying-Domain: iol.unh.edu Date: Wed, 04 Dec 2024 01:21:45 -0800 (PST) Message-ID: <67501f29.b00a0220.34557.74ddSMTPIN_ADDED_MISSING@mx.google.com> Received: from [172.17.0.2] (unknown [172.18.0.217]) by postal.iol.unh.edu (Postfix) with ESMTP id ABFAA6052471; Wed, 4 Dec 2024 04:21:44 -0500 (EST) Subject: |SUCCESS| [GIT MASTER] 1b3bf1128d9bda5595861814792f74b8f57160c8 From: dpdklab@iol.unh.edu To: Test Report Cc: dpdk-test-reports@iol.unh.edu, Jerin Jacob Content-Type: text/plain X-BeenThere: test-report@dpdk.org X-Mailman-Version: 2.1.29 Precedence: list List-Id: automatic DPDK test reports List-Unsubscribe: , List-Archive: List-Post: List-Help: List-Subscribe: , Errors-To: test-report-bounces@dpdk.org _Testing PASS_ Branch: dpdk-next-eventdev 1b3bf1128d9bda5595861814792f74b8f57160c8 --> testing pass Upstream job id: ACVP-FIPS-testing#8204 Test environment and result as below: +--------------------+----------------------+----------------------+ | Environment | compressdev_zlib_pmd | dpdk_fips_validation | +====================+======================+======================+ | Ubuntu 22.04 (ARM) | PASS | SKIPPED | +--------------------+----------------------+----------------------+ | Ubuntu 22.04 | PASS | SKIPPED | +--------------------+----------------------+----------------------+ | Ubuntu 20.04 | SKIPPED | PASS | +--------------------+----------------------+----------------------+ Ubuntu 22.04 (ARM) Kernel: 5.15.0-97-generic Compiler: gcc gcc (Ubuntu 11.4.0-1ubuntu1~22.04) 11.4.0 Ubuntu 22.04 Kernel: 5.15.0-100-generic Compiler: gcc gcc (Ubuntu 11.4.0-1ubuntu1~22.04) 11.4.0 Ubuntu 20.04 Kernel: Depends on container host Compiler: gcc (Ubuntu 9.4.0-1ubuntu1~20.04.2) 9.4.0 To view detailed results, visit: https://lab.dpdk.org/results/dashboard/tarballs/31829/ UNH-IOL DPDK Community Lab To manage your email subscriptions, visit: https://lab.dpdk.org/results/dashboard/preferences/subscriptions/