From mboxrd@z Thu Jan  1 00:00:00 1970
Return-Path: <test-report-bounces@dpdk.org>
Received: from mails.dpdk.org (mails.dpdk.org [217.70.189.124])
	by inbox.dpdk.org (Postfix) with ESMTP id C2D1945E2D
	for <public@inbox.dpdk.org>; Wed,  4 Dec 2024 11:55:48 +0100 (CET)
Received: from mails.dpdk.org (localhost [127.0.0.1])
	by mails.dpdk.org (Postfix) with ESMTP id 9B97640A89;
	Wed,  4 Dec 2024 11:55:48 +0100 (CET)
Received: from mail-pf1-f226.google.com (mail-pf1-f226.google.com
 [209.85.210.226])
 by mails.dpdk.org (Postfix) with ESMTP id E722140A87
 for <test-report@dpdk.org>; Wed,  4 Dec 2024 11:55:47 +0100 (CET)
Received: by mail-pf1-f226.google.com with SMTP id
 d2e1a72fcca58-7258bce5289so611980b3a.0
 for <test-report@dpdk.org>; Wed, 04 Dec 2024 02:55:47 -0800 (PST)
DKIM-Signature: v=1; a=rsa-sha256; c=relaxed/relaxed;
 d=iol.unh.edu; s=unh-iol; t=1733309747; x=1733914547; darn=dpdk.org;
 h=references:in-reply-to:cc:to:from:subject:message-id:date:from:to
 :cc:subject:date:message-id:reply-to;
 bh=AE0bhEJNflRNNqIaxGs+ElcOCGCwiyS2qe4W61dx0Ts=;
 b=JuSdXlvwyhPgXRf3OihAhOVPHZ6zQJwbBGm0ZsoNS/gPDDOwePBgMYZ79z5/LwuY7M
 wrsNfzeXXZbgu/sLDfA0NdjNoRcFB/yQhUZth7JOok6ZoucWDiy0N40uspSeUjwyidRw
 r/yNZ+6b2FkWZ1psuChpxxm8EZKmDKP/cYMSI=
X-Google-DKIM-Signature: v=1; a=rsa-sha256; c=relaxed/relaxed;
 d=1e100.net; s=20230601; t=1733309747; x=1733914547;
 h=references:in-reply-to:cc:to:from:subject:message-id:date
 :x-gm-message-state:from:to:cc:subject:date:message-id:reply-to;
 bh=AE0bhEJNflRNNqIaxGs+ElcOCGCwiyS2qe4W61dx0Ts=;
 b=LY3eVJotf/Xe/capOZVEhqvQFcK32jntSNoriG5S52+Rc8SnJ8nbrR+g4Fbeb4Ijm9
 0LbGX9FMvLdUpLSnGiHjXIicRg6lA9g84BaSlXGO/x9SyEfLoC3CrXAYm3n4uQsw06ZB
 /FreD5vxhCE5oZE80xabqYvk0MvtxCX9YVA60gz2TbPS/dzIW3JjFJfmdT2U3D1o2NZP
 HmmFK9ta3qwY39oAXbdMI+GVk6tWLilkux1Fwiz9O7+8+FzaOz9AKsaBrYRWExPptolp
 LRqLh5YlVKUocsohZwlERykLSNRdAT31yqNmo6c7YYbw/dDRVvkCWcxpGv9bdRz7hgOP
 nw6g==
X-Gm-Message-State: AOJu0Yw5ZZeLBadlyFnSpLVwPF0Lx6S5J5O5mLkx3c0jryOlhyH6Q3gG
 mJZ7Ah7aMQ1S9yu30fu2qz6J3X6tcPVMPCvbfUVI0xZF+2MSEHL771IlKkhQhIc1dfi9lujJdTA
 p3TvlG4L6u3MQcn5rh0G9dcoJoTS4ymaORQDe3EEGYa2k5H9bkbiqFp5Q
X-Gm-Gg: ASbGncvzCGJrGBSJVcA2rTvINmgdLYuL5uwbkQz4E0gjr0742eoo1/jlPMowOLNt61f
 5GsXzsAIzxw1UTg2IZZDzaF9SpsRfWrVCa2Ls9Uv6vXAJMkIab0B15ELImAQnGdmjmbmLgSIVDC
 VqsZnNVJzIdZ6Ow44owZLPY7u7+Y84hlelttm5rG0FNmH/3CPQheSPU0Nue/8ER7m7DbLtDdYTl
 iizrCnbqfHOEPpewmfhZKPPyUNSGnRjI6k0ohBBvg34uPApr+iO51jHEduJyt3BlUw6aUhErgs=
X-Google-Smtp-Source: AGHT+IEeOVt3y9U0/c28NnTXcl6BBy5jPKaYTPtIQoDt+xpJq4tTuI08E2PEuL4iPA3B802D72HNvmYg6may
X-Received: by 2002:a05:6a00:14c6:b0:724:60bd:e861 with SMTP id
 d2e1a72fcca58-72587f6c4c1mr4687040b3a.18.1733309746872; 
 Wed, 04 Dec 2024 02:55:46 -0800 (PST)
Received: from postal.iol.unh.edu (postal.iol.unh.edu.
 [2606:4100:3880:1234::84]) by smtp-relay.gmail.com with ESMTPS id
 d2e1a72fcca58-72541781389sm742574b3a.15.2024.12.04.02.55.46
 (version=TLS1_2 cipher=ECDHE-ECDSA-AES128-GCM-SHA256 bits=128/128);
 Wed, 04 Dec 2024 02:55:46 -0800 (PST)
X-Relaying-Domain: iol.unh.edu
Date: Wed, 04 Dec 2024 02:55:46 -0800 (PST)
Message-ID: <67503532.050a0220.d6a8a.b220SMTPIN_ADDED_MISSING@mx.google.com>
Received: from [172.17.0.5] (unknown [172.18.0.217])
 by postal.iol.unh.edu (Postfix) with ESMTP id 01E406052471;
 Wed,  4 Dec 2024 05:55:46 -0500 (EST)
Subject: |SUCCESS| pw149013-149014 [PATCH] [v3,2/2] usertools/devbind: replac
From: dpdklab@iol.unh.edu
To: Test Report <test-report@dpdk.org>
Cc: dpdk-test-reports@iol.unh.edu
In-Reply-To: <b8aa13c9ed8989e73e9352ea905f6956a863148d.1733305655.git.anatoly.burakov@intel.com>
References: <b8aa13c9ed8989e73e9352ea905f6956a863148d.1733305655.git.anatoly.burakov@intel.com>
Content-Type: text/plain
X-BeenThere: test-report@dpdk.org
X-Mailman-Version: 2.1.29
Precedence: list
List-Id: automatic DPDK test reports <test-report.dpdk.org>
List-Unsubscribe: <https://mails.dpdk.org/options/test-report>,
 <mailto:test-report-request@dpdk.org?subject=unsubscribe>
List-Archive: <http://mails.dpdk.org/archives/test-report/>
List-Post: <mailto:test-report@dpdk.org>
List-Help: <mailto:test-report-request@dpdk.org?subject=help>
List-Subscribe: <https://mails.dpdk.org/listinfo/test-report>,
 <mailto:test-report-request@dpdk.org?subject=subscribe>
Errors-To: test-report-bounces@dpdk.org

Test-Label: iol-unit-amd64-testing
Test-Status: SUCCESS
http://dpdk.org/patch/149014

_Testing PASS_

Submitter: Burakov, Anatoly <anatoly.burakov@intel.com>
Date: Wednesday, December 04 2024 09:47:38 
DPDK git baseline: Repo:dpdk
  Branch: master
  CommitID:1b3bf1128d9bda5595861814792f74b8f57160c8

149013-149014 --> testing pass

Upstream job id: Generic-Unit-Test-DPDK#297473

Test environment and result as below:

+-------------------+----------------+
|    Environment    | dpdk_unit_test |
+===================+================+
| CentOS Stream 9   | PASS           |
+-------------------+----------------+
| Debian 12         | PASS           |
+-------------------+----------------+
| Fedora 39         | PASS           |
+-------------------+----------------+
| RHEL8             | PASS           |
+-------------------+----------------+
| Fedora 40         | PASS           |
+-------------------+----------------+
| Fedora 40 (Clang) | PASS           |
+-------------------+----------------+
| Fedora 39 (Clang) | PASS           |
+-------------------+----------------+
| RHEL9             | PASS           |
+-------------------+----------------+
| Ubuntu 20.04      | PASS           |
+-------------------+----------------+
| Ubuntu 22.04      | PASS           |
+-------------------+----------------+
| Ubuntu 24.04      | PASS           |
+-------------------+----------------+


CentOS Stream 9
	Kernel: Depends on container host
	Compiler: gcc 11.4.1 20231218 (Red Hat 11.4.1-3)

Debian 12
	Kernel: Depends on container host
	Compiler: gcc (Debian 12.2.0-14) 12.2.0

Fedora 39
	Kernel: Depends on container host
	Compiler: gcc 13.3.1 20240522 (Red Hat 13.3.1-1)

RHEL8
	Kernel: Depends on container host
	Compiler: gcc 8.5.0 20210514 (Red Hat 8.5.0-22)

Fedora 40
	Kernel: Depends on container host
	Compiler: gcc 14.2.1 20240801 (Red Hat 14.2.1-1)

Fedora 40 (Clang)
	Kernel: Depends on container host
	Compiler: clang 18.1.6 (Fedora 18.1.6-3.fc40)

Fedora 39 (Clang)
	Kernel: Depends on container host
	Compiler: clang 17.0.6 (Fedora 17.0.6-2.fc39)

RHEL9
	Kernel: Depends on container host
	Compiler: gcc 11.4.1 20231218 (Red Hat 11.4.1-3)

Ubuntu 20.04
	Kernel: Depends on container host
	Compiler: gcc (Ubuntu 9.4.0-1ubuntu1~20.04.2) 9.4.0

Ubuntu 22.04
	Kernel: Depends on container host
	Compiler: gcc (Ubuntu 11.4.0-1ubuntu1~22.04) 11.4.0

Ubuntu 24.04
	Kernel: Depends on container host
	Compiler: gcc (Ubuntu 13.2.0-23ubuntu4) 13.2.0

To view detailed results, visit:
https://lab.dpdk.org/results/dashboard/patchsets/32082/

UNH-IOL DPDK Community Lab

To manage your email subscriptions, visit: 
https://lab.dpdk.org/results/dashboard/preferences/subscriptions/