From mboxrd@z Thu Jan 1 00:00:00 1970 Return-Path: Received: from mails.dpdk.org (mails.dpdk.org [217.70.189.124]) by inbox.dpdk.org (Postfix) with ESMTP id 6555745E2E for ; Wed, 4 Dec 2024 12:13:58 +0100 (CET) Received: from mails.dpdk.org (localhost [127.0.0.1]) by mails.dpdk.org (Postfix) with ESMTP id 6128B40B99; Wed, 4 Dec 2024 12:13:58 +0100 (CET) Received: from mail-il1-f225.google.com (mail-il1-f225.google.com [209.85.166.225]) by mails.dpdk.org (Postfix) with ESMTP id B120D40A89 for ; Wed, 4 Dec 2024 12:13:57 +0100 (CET) Received: by mail-il1-f225.google.com with SMTP id e9e14a558f8ab-3a777fd574bso27141855ab.1 for ; Wed, 04 Dec 2024 03:13:57 -0800 (PST) DKIM-Signature: v=1; a=rsa-sha256; c=relaxed/relaxed; d=iol.unh.edu; s=unh-iol; t=1733310837; x=1733915637; darn=dpdk.org; h=references:in-reply-to:cc:to:from:subject:message-id:date:from:to :cc:subject:date:message-id:reply-to; bh=pJgm+pqMgoUrkUu/Ta1VzVL2ACQQfy8jgE1XAyI46j8=; b=SGO0FS4DN8nmLnBM/m/81zjkjG8PvcRuUXZbziuWzmSgf+4z3rP4s7YnZ/DmDJINNZ CFjVZa0IWeCFRRAeZ+K5EUelbTzBdwI8i4CvRYMFpdWjLrxxgImANfAQj6vHNIeiketG X/pucVMSBlvRaP70IgP4BztKqOWFpR+XWbikI= X-Google-DKIM-Signature: v=1; a=rsa-sha256; c=relaxed/relaxed; d=1e100.net; s=20230601; t=1733310837; x=1733915637; h=references:in-reply-to:cc:to:from:subject:message-id:date :x-gm-message-state:from:to:cc:subject:date:message-id:reply-to; bh=pJgm+pqMgoUrkUu/Ta1VzVL2ACQQfy8jgE1XAyI46j8=; b=LhRplvlla9fPDtMDDSrWguT9EMG+MzrCCKFYlpWXRRJBJDdZ2rP5t0iSZ8svmVk+4+ oSik4ZynS7mVbNWAbhOPWWMsuVJXYaAJBHHk8fOxxqLPoCvFvG2HwJmAyWcA5DKYtc0v S5GVtBluelfP+wg8fY7hLIjcLopKLs5C+1kITeAldYi3qE+PApkP0z6CBQwUUwdwgYrL GKHgxsTWtB9Uff/ybAustv3WmJmKdThwObKSZ2IX46izWy0kcjt06o6aBw1NF80LVzWi ILyzmI32OI8/SqPwkfOIQGtFTx+QhVOiPe4YUa8FJZuzRzZnWSw39911m9dEyrabsEpb yBKA== X-Gm-Message-State: AOJu0Yw8fBElbGZ+G5f/TMzBrSqDuT2eJBFphN8mRlgbZyBlcb7CC0Z/ Net/rEpBQLZyLhV9p4VL3kob6iwI0jw8FU8MWqyJXCrY0OeVmY/Xblt+B8bygQkcA+EvohAyqGH u0mqFwONipu6pKw1GLP62vFi+eQj4xCjaSDy4a1lEmLUUSsE/AWYXMkXe X-Gm-Gg: ASbGncskeoFPY/uTxMj5Zj9+ZIBxvWlYhrTSTZAJcE8XHM/1AYsbWyFUbwvN/Xt/5CF /gfOqdJJMogPoMrI6JQMnrAivuPvQAjHLbKeNz46zHQ9QhiCBJ7BRnE1WSn6bryo2PydVTcO++y YfCFU4eTkICpKO7Hmff+ntHALjlJYQTmBbdfWeSlklcAZNMqJMlfQKn7pusabDsxfqwSFUE8Qvo L16uGRvKWCGjNul3uuNJxmD4Y/ZOi6f1m6LVrUSUANI/ZZfuxFgZ32SzSWiE0asFMfgKufIH48= X-Google-Smtp-Source: AGHT+IGj0TtLNERLLHTrzHKu1wNcbSoeGMmEE0uu6SArThXEY5VcNdE8kScXG6772quylWeeRDiMmEoBDAMO X-Received: by 2002:a05:6e02:1c43:b0:3a7:819c:5129 with SMTP id e9e14a558f8ab-3a7f9a8d86fmr82191915ab.18.1733310836972; Wed, 04 Dec 2024 03:13:56 -0800 (PST) Received: from postal.iol.unh.edu (postal.iol.unh.edu. [2606:4100:3880:1234::84]) by smtp-relay.gmail.com with ESMTPS id e9e14a558f8ab-3a7ccc7462dsm7084235ab.60.2024.12.04.03.13.56 (version=TLS1_2 cipher=ECDHE-ECDSA-AES128-GCM-SHA256 bits=128/128); Wed, 04 Dec 2024 03:13:56 -0800 (PST) X-Relaying-Domain: iol.unh.edu Date: Wed, 04 Dec 2024 03:13:56 -0800 (PST) Message-ID: <67503974.050a0220.f303d.b32eSMTPIN_ADDED_MISSING@mx.google.com> Received: from [172.17.0.2] (unknown [172.18.0.217]) by postal.iol.unh.edu (Postfix) with ESMTP id 712936052471; Wed, 4 Dec 2024 06:13:56 -0500 (EST) Subject: |SUCCESS| pw149008 [PATCH] [v2] examples/l3fwd: add option to set Tx From: dpdklab@iol.unh.edu To: Test Report Cc: dpdk-test-reports@iol.unh.edu In-Reply-To: <20241204020622.977156-1-haijie1@huawei.com> References: <20241204020622.977156-1-haijie1@huawei.com> Content-Type: text/plain X-BeenThere: test-report@dpdk.org X-Mailman-Version: 2.1.29 Precedence: list List-Id: automatic DPDK test reports List-Unsubscribe: , List-Archive: List-Post: List-Help: List-Subscribe: , Errors-To: test-report-bounces@dpdk.org Test-Label: iol-sample-apps-testing Test-Status: SUCCESS http://dpdk.org/patch/149008 _Testing PASS_ Submitter: Jie Hai Date: Wednesday, December 04 2024 02:06:22 DPDK git baseline: Repo:dpdk Branch: master CommitID:1b3bf1128d9bda5595861814792f74b8f57160c8 149008 --> testing pass Upstream job id: ACVP-FIPS-testing#8206 Test environment and result as below: +--------------------+----------------------+----------------------+ | Environment | compressdev_zlib_pmd | dpdk_fips_validation | +====================+======================+======================+ | Ubuntu 22.04 (ARM) | PASS | SKIPPED | +--------------------+----------------------+----------------------+ | Ubuntu 22.04 | PASS | SKIPPED | +--------------------+----------------------+----------------------+ | Ubuntu 20.04 | SKIPPED | PASS | +--------------------+----------------------+----------------------+ Ubuntu 22.04 (ARM) Kernel: 5.15.0-97-generic Compiler: gcc gcc (Ubuntu 11.4.0-1ubuntu1~22.04) 11.4.0 Ubuntu 22.04 Kernel: 5.15.0-100-generic Compiler: gcc gcc (Ubuntu 11.4.0-1ubuntu1~22.04) 11.4.0 Ubuntu 20.04 Kernel: Depends on container host Compiler: gcc (Ubuntu 9.4.0-1ubuntu1~20.04.2) 9.4.0 To view detailed results, visit: https://lab.dpdk.org/results/dashboard/patchsets/32077/ UNH-IOL DPDK Community Lab To manage your email subscriptions, visit: https://lab.dpdk.org/results/dashboard/preferences/subscriptions/