From mboxrd@z Thu Jan 1 00:00:00 1970 Return-Path: Received: from mails.dpdk.org (mails.dpdk.org [217.70.189.124]) by inbox.dpdk.org (Postfix) with ESMTP id CEB5645E30 for ; Wed, 4 Dec 2024 13:13:49 +0100 (CET) Received: from mails.dpdk.org (localhost [127.0.0.1]) by mails.dpdk.org (Postfix) with ESMTP id 0566D40A89; Wed, 4 Dec 2024 13:13:49 +0100 (CET) Received: from mail-yb1-f227.google.com (mail-yb1-f227.google.com [209.85.219.227]) by mails.dpdk.org (Postfix) with ESMTP id B3ED540A87 for ; Wed, 4 Dec 2024 13:13:47 +0100 (CET) Received: by mail-yb1-f227.google.com with SMTP id 3f1490d57ef6-e0875f1e9edso5629763276.1 for ; Wed, 04 Dec 2024 04:13:47 -0800 (PST) DKIM-Signature: v=1; a=rsa-sha256; c=relaxed/relaxed; d=iol.unh.edu; s=unh-iol; t=1733314427; x=1733919227; darn=dpdk.org; h=references:in-reply-to:cc:to:from:subject:message-id:date:from:to :cc:subject:date:message-id:reply-to; bh=PNhwDZ2uOjheHKtyIXFzLkwPemg7FWaWwo9NPqLKM6Q=; b=NZwEwwe8Fmx6X8caBdNP7vyAH53eNQXkBmwGgprcWIbR8w4h+N0+JYivOgWtXG+7B4 QCcIgRWhsjL+b0SmEwPDhFUcywRC9lUUGH7GTIwF/2o/9XL45amrQNkklr9rYwHocLVD ZkGyCxN1dpYVnddNnb5SzO6YF557Jjo5RK5EM= X-Google-DKIM-Signature: v=1; a=rsa-sha256; c=relaxed/relaxed; d=1e100.net; s=20230601; t=1733314427; x=1733919227; h=references:in-reply-to:cc:to:from:subject:message-id:date :x-gm-message-state:from:to:cc:subject:date:message-id:reply-to; bh=PNhwDZ2uOjheHKtyIXFzLkwPemg7FWaWwo9NPqLKM6Q=; b=RKCytrgWMYEH9b0LMDEqoquOruTWIyVofoGeB1prAH+cua5yBQY6zegIvG6Y0ebf6V UmAhTmzDB4BmXC/k6hyJJ/b2RuGi/d7KWc4DXJalXYohQKClY7CcFghlnf1yPS2T4bSm RCskQDEGo/eLJlCEMFV4wgy1rZiOXjqQRfTOGlFjW+GboFL5Fm3bHkXrI7yYV5z+Rq+k sXGGu45LUV1wshS19ObFrxnT6Bpn6ASLXpyr3+aqNVxg1Y6UMcPTOo+Hn9m9WTQRsGMN i71o4aY7F6xA24w99CcOfzPb04GwSvDaTxLbjP0Iwznfh1yjUGchC8n7XJrEqfhkyRGv 6y9w== X-Gm-Message-State: AOJu0Ywawxfuly8vbIsRQyMb4axh8PMvw+DVOb/b0Jn7QdTM3jE0jPTh O95qW8Hx9QEVJhSoHF6fkGT4FLbqiBCK8uh3z25dxuICJLewZOFsJT0xVeDvJ6ZwgQgRUP9n69X xV0GGky9mq8OHwqCQmgysx4/GOYFTWNTJKStCLJ44RUWQdynbXPNUoFq/ X-Gm-Gg: ASbGnctiQhtOlzSbGHan6c2Ia1aw8ulPBJsqK6IUcMZ9VbkTiCiFgcHg1go6IkPwgT1 zU+HzX4nTE+bdmbtBrPGmB1SdmRL+54xA32ss32qvBSBcGSoLDg/kp0F3fFyeCtXcZUc2yK+ncD 3sS5zXcqmecBeGg4k60+Nt2mNtPz1Oa2B9SF5TjK3PMMa4BD6wkNRPCAvNQsF6Wu/olhpkEnWA8 X1hKa/JGJO2I90KotFFO7buqBsVaPoHAWASL/aTf9shL5DlZOQ7S0oVhQ+TJBcVyyjEFh96zOo= X-Google-Smtp-Source: AGHT+IGm3ujBp4mmfv/uBRRVB1v/z+ATU4gN6UCYn9B+mkZ7A3NTk9RDVc8h2xoEPsOI5ZKEwIywP+qKmaH/ X-Received: by 2002:a05:6902:18c7:b0:e30:ebdf:9643 with SMTP id 3f1490d57ef6-e39d39ed6c1mr4878561276.8.1733314425514; Wed, 04 Dec 2024 04:13:45 -0800 (PST) Received: from postal.iol.unh.edu (postal.iol.unh.edu. [2606:4100:3880:1234::84]) by smtp-relay.gmail.com with ESMTPS id 3f1490d57ef6-e39769001c8sm601857276.19.2024.12.04.04.13.45 (version=TLS1_2 cipher=ECDHE-ECDSA-AES128-GCM-SHA256 bits=128/128); Wed, 04 Dec 2024 04:13:45 -0800 (PST) X-Relaying-Domain: iol.unh.edu Date: Wed, 04 Dec 2024 04:13:45 -0800 (PST) Message-ID: <67504779.250a0220.331325.2bb1SMTPIN_ADDED_MISSING@mx.google.com> Received: from [172.17.0.4] (unknown [172.18.0.217]) by postal.iol.unh.edu (Postfix) with ESMTP id 2D8E56052471; Wed, 4 Dec 2024 07:13:45 -0500 (EST) Subject: |SUCCESS| pw149011 [PATCH] lib/fib: remove warning about implicit 64 From: dpdklab@iol.unh.edu To: Test Report Cc: dpdk-test-reports@iol.unh.edu In-Reply-To: <1733281010-23780-1-git-send-email-andremue@linux.microsoft.com> References: <1733281010-23780-1-git-send-email-andremue@linux.microsoft.com> Content-Type: text/plain X-BeenThere: test-report@dpdk.org X-Mailman-Version: 2.1.29 Precedence: list List-Id: automatic DPDK test reports List-Unsubscribe: , List-Archive: List-Post: List-Help: List-Subscribe: , Errors-To: test-report-bounces@dpdk.org Test-Label: iol-unit-amd64-testing Test-Status: SUCCESS http://dpdk.org/patch/149011 _Testing PASS_ Submitter: Andre Muezerie Date: Wednesday, December 04 2024 02:56:50 DPDK git baseline: Repo:dpdk Branch: master CommitID:7df61db6c387703a36306c1aea92225921e2eeb2 149011 --> testing pass Upstream job id: Generic-VM-Unit-Test-DPDK#26514 Test environment and result as below: +---------------------+----------------+ | Environment | dpdk_unit_test | +=====================+================+ | CentOS Stream 9 | PASS | +---------------------+----------------+ | Debian 12 | PASS | +---------------------+----------------+ | RHEL9 | PASS | +---------------------+----------------+ | Fedora 39 | PASS | +---------------------+----------------+ | Fedora 39 (Clang) | PASS | +---------------------+----------------+ | RHEL8 | PASS | +---------------------+----------------+ | Fedora 40 (Clang) | PASS | +---------------------+----------------+ | Fedora 40 | PASS | +---------------------+----------------+ | Ubuntu 20.04 | PASS | +---------------------+----------------+ | Ubuntu 22.04 | PASS | +---------------------+----------------+ | Ubuntu 24.04 | PASS | +---------------------+----------------+ | Windows Server 2022 | PASS | +---------------------+----------------+ CentOS Stream 9 Kernel: Depends on container host Compiler: gcc 11.4.1 20231218 (Red Hat 11.4.1-3) Debian 12 Kernel: Depends on container host Compiler: gcc (Debian 12.2.0-14) 12.2.0 RHEL9 Kernel: Depends on container host Compiler: gcc 11.4.1 20231218 (Red Hat 11.4.1-3) Fedora 39 Kernel: Depends on container host Compiler: gcc 13.3.1 20240522 (Red Hat 13.3.1-1) Fedora 39 (Clang) Kernel: Depends on container host Compiler: clang 17.0.6 (Fedora 17.0.6-2.fc39) RHEL8 Kernel: Depends on container host Compiler: gcc 8.5.0 20210514 (Red Hat 8.5.0-22) Fedora 40 (Clang) Kernel: Depends on container host Compiler: clang 18.1.6 (Fedora 18.1.6-3.fc40) Fedora 40 Kernel: Depends on container host Compiler: gcc 14.2.1 20240801 (Red Hat 14.2.1-1) Ubuntu 20.04 Kernel: Depends on container host Compiler: gcc (Ubuntu 9.4.0-1ubuntu1~20.04.2) 9.4.0 Ubuntu 22.04 Kernel: Depends on container host Compiler: gcc (Ubuntu 11.4.0-1ubuntu1~22.04) 11.4.0 Ubuntu 24.04 Kernel: Depends on container host Compiler: gcc (Ubuntu 13.2.0-23ubuntu4) 13.2.0 Windows Server 2022 Kernel: 10.0.20348.2031 Compiler: clang 15.0.7, gcc 14.1.0 (MinGW), and MSVC VS 19.39.33521 To view detailed results, visit: https://lab.dpdk.org/results/dashboard/patchsets/32080/ UNH-IOL DPDK Community Lab To manage your email subscriptions, visit: https://lab.dpdk.org/results/dashboard/preferences/subscriptions/