From mboxrd@z Thu Jan 1 00:00:00 1970 Return-Path: Received: from mails.dpdk.org (mails.dpdk.org [217.70.189.124]) by inbox.dpdk.org (Postfix) with ESMTP id 128EC45E24 for ; Wed, 4 Dec 2024 13:31:43 +0100 (CET) Received: from mails.dpdk.org (localhost [127.0.0.1]) by mails.dpdk.org (Postfix) with ESMTP id 0C07140A89; Wed, 4 Dec 2024 13:31:43 +0100 (CET) Received: from mail-yw1-f228.google.com (mail-yw1-f228.google.com [209.85.128.228]) by mails.dpdk.org (Postfix) with ESMTP id 3FCB540A87 for ; Wed, 4 Dec 2024 13:31:40 +0100 (CET) Received: by mail-yw1-f228.google.com with SMTP id 00721157ae682-6ef58af34a8so56833767b3.0 for ; Wed, 04 Dec 2024 04:31:40 -0800 (PST) DKIM-Signature: v=1; a=rsa-sha256; c=relaxed/relaxed; d=iol.unh.edu; s=unh-iol; t=1733315499; x=1733920299; darn=dpdk.org; h=references:in-reply-to:cc:to:from:subject:message-id:date:from:to :cc:subject:date:message-id:reply-to; bh=V++t1WZEJOui3pnt9skczk9Rr4Icq27AnEaKH7oyHxY=; b=eRvLGKdBx68aOwTSJUnDr4t5t7gSMRGCA8wtKC9c9YZeBWG6fKLj5HmrnoqAmTsoOh W7Ij/4s1taGacYtHo9mHuKc/vSRlN2crvDKPNM87UMu5/rA6t0Ii1dAP1p5crXR2nJob 0FRblJVSbW32waeRmmegpkmGmpHXxaSTz6NiQ= X-Google-DKIM-Signature: v=1; a=rsa-sha256; c=relaxed/relaxed; d=1e100.net; s=20230601; t=1733315499; x=1733920299; h=references:in-reply-to:cc:to:from:subject:message-id:date :x-gm-message-state:from:to:cc:subject:date:message-id:reply-to; bh=V++t1WZEJOui3pnt9skczk9Rr4Icq27AnEaKH7oyHxY=; b=GBAeyw7TMt5ZjViFaOOPoFgeM1vvG+Xdm0DxTNvuNdapeIZsuzFXHnDN/JKqbgbrnl NFmmd9rM+4+pVygGLR/zkxT+izSNkwJF0Db9yLJ17NR9zrVoN5V0uob/codFM9UMZI8y 2y21msWlLUKuaF5N7O1b5ytkN0YwY+eBWgbIXt3sxtCr2E/pKlXMdrAlVJpRo9b86Uux Kgfk5OgrgofqISiyXHNLbp4eCTLBfF0Wy6Ua8jzrtWKDENZbpj27pbpEp0GuU6U7gjSW vsKSS4+Yhtv9CvJJi5oCR6+WH12bIErXhyK36XHpKTlECyg/4Ya7d10IPSsItXQ8ZoMs PchQ== X-Gm-Message-State: AOJu0Yxa1LL70Plap0QfqDKSFcoaylFcAy8Hkr+xXImPkPXypMzHJ0Ou WlG1tRWlPp2KzrztqgNNLjmWxONzZJssaMKhR+RKPN/HqtTxNcR6MVl7ehj5C2TL/IkwqG1Mju6 6QxsucxY7sknUy46mLKnObNWEtw3/dWhD2CP+eFxX X-Gm-Gg: ASbGncvkM9UsPk7U3IrSp/85UVkt/OeRfFcPcPlZhWXdszMihVss/XR7HAdg5jCURk2 TocIv12sg1kcDjqiemN4YJDBcTQQSJCo3Z0uPAGX1A/XdZzRJx0yDhm+L0KnJAUyjX8jSHM3ovc kNPeYkH4FfM3HYy0TZ0y8Bxc58vTuUlvDiu+yewDNHuqYCDcq2McquWdiq9N7dlIE6LJsXnjxj2 ubo2Jd+6oYvjioPr6HfD+HAYiRJWzCzgdv9CpAfiigN/L6QrbB4cBe5GOZGHd0QEnlzf3A= X-Google-Smtp-Source: AGHT+IFPOuTk7Tf9jVKY4V/IlwVK1Nx3u/l3MD/rBzJcgg1hWVKJ5jzfcqYp0MSit4wWQa5KPvB+DJU+4bAu X-Received: by 2002:a05:690c:6389:b0:6ef:5d41:d00 with SMTP id 00721157ae682-6efad16fb7emr70930877b3.5.1733315499629; Wed, 04 Dec 2024 04:31:39 -0800 (PST) Received: from postal.iol.unh.edu (postal.iol.unh.edu. [132.177.123.84]) by smtp-relay.gmail.com with ESMTPS id 00721157ae682-6ef4db50141sm4344617b3.17.2024.12.04.04.31.39 (version=TLS1_2 cipher=ECDHE-ECDSA-AES128-GCM-SHA256 bits=128/128); Wed, 04 Dec 2024 04:31:39 -0800 (PST) X-Relaying-Domain: iol.unh.edu Date: Wed, 04 Dec 2024 04:31:39 -0800 (PST) Message-ID: <67504bab.050a0220.268170.7c42SMTPIN_ADDED_MISSING@mx.google.com> Received: from [172.21.0.5] (unknown [172.18.0.240]) by postal.iol.unh.edu (Postfix) with ESMTP id 47AEB6052471; Wed, 4 Dec 2024 07:31:39 -0500 (EST) Subject: |WARNING| pw149011 [PATCH] lib/fib: remove warning about implicit 64 From: dpdklab@iol.unh.edu To: Test Report Cc: dpdk-test-reports@iol.unh.edu In-Reply-To: <1733281010-23780-1-git-send-email-andremue@linux.microsoft.com> References: <1733281010-23780-1-git-send-email-andremue@linux.microsoft.com> Content-Type: text/plain X-BeenThere: test-report@dpdk.org X-Mailman-Version: 2.1.29 Precedence: list List-Id: automatic DPDK test reports List-Unsubscribe: , List-Archive: List-Post: List-Help: List-Subscribe: , Errors-To: test-report-bounces@dpdk.org Test-Label: iol-compile-amd64-testing Test-Status: WARNING http://dpdk.org/patch/149011 _Testing issues_ Submitter: Andre Muezerie Date: Wednesday, December 04 2024 02:56:50 DPDK git baseline: Repo:dpdk Branch: master CommitID:7df61db6c387703a36306c1aea92225921e2eeb2 149011 --> testing issues Upstream job id: Generic-DPDK-Compile-Meson#341102 Test environment and result as below: +---------------------+--------------------+------------------+-------------------+-----------------------+-------------------+ | Environment | dpdk_meson_compile | dpdk_compile_ovs | dpdk_compile_spdk | dpdk_win_llvm_compile | dpdk_msvc_compile | +=====================+====================+==================+===================+=======================+===================+ | CentOS Stream 9 | PASS | PASS | PASS | SKIPPED | SKIPPED | +---------------------+--------------------+------------------+-------------------+-----------------------+-------------------+ | Debian 12 | PASS | PASS | PASS | SKIPPED | SKIPPED | +---------------------+--------------------+------------------+-------------------+-----------------------+-------------------+ | Fedora 39 (Clang) | PASS | PASS | PASS | SKIPPED | SKIPPED | +---------------------+--------------------+------------------+-------------------+-----------------------+-------------------+ | RHEL8 | PASS | PASS | SKIPPED | SKIPPED | SKIPPED | +---------------------+--------------------+------------------+-------------------+-----------------------+-------------------+ | Fedora 39 | PASS | PASS | PASS | SKIPPED | SKIPPED | +---------------------+--------------------+------------------+-------------------+-----------------------+-------------------+ | Fedora 40 (Clang) | PASS | PASS | PASS | SKIPPED | SKIPPED | +---------------------+--------------------+------------------+-------------------+-----------------------+-------------------+ | RHEL9 | PASS | PASS | SKIPPED | SKIPPED | SKIPPED | +---------------------+--------------------+------------------+-------------------+-----------------------+-------------------+ | openSUSE Leap 15 | PASS | PASS | SKIPPED | SKIPPED | SKIPPED | +---------------------+--------------------+------------------+-------------------+-----------------------+-------------------+ | Fedora 40 | PASS | PASS | PASS | SKIPPED | SKIPPED | +---------------------+--------------------+------------------+-------------------+-----------------------+-------------------+ | Ubuntu 20.04 | PASS | WARN | SKIPPED | SKIPPED | SKIPPED | +---------------------+--------------------+------------------+-------------------+-----------------------+-------------------+ | Ubuntu 22.04 | PASS | PASS | PASS | SKIPPED | SKIPPED | +---------------------+--------------------+------------------+-------------------+-----------------------+-------------------+ | Ubuntu 24.04 | PASS | PASS | PASS | SKIPPED | SKIPPED | +---------------------+--------------------+------------------+-------------------+-----------------------+-------------------+ | Alpine | PASS | PASS | SKIPPED | SKIPPED | SKIPPED | +---------------------+--------------------+------------------+-------------------+-----------------------+-------------------+ | FreeBSD 14.1 | PASS | SKIPPED | SKIPPED | SKIPPED | SKIPPED | +---------------------+--------------------+------------------+-------------------+-----------------------+-------------------+ | Windows Server 2022 | SKIPPED | SKIPPED | SKIPPED | PASS | PASS | +---------------------+--------------------+------------------+-------------------+-----------------------+-------------------+ ==== 20 line log output for Ubuntu 20.04 (dpdk_compile_ovs): ==== --- Failed to get log output --- ==== End log output ==== CentOS Stream 9 Kernel: Depends on container host Compiler: gcc 11.4.1 20231218 (Red Hat 11.4.1-3) Debian 12 Kernel: Depends on container host Compiler: gcc (Debian 12.2.0-14) 12.2.0 Fedora 39 (Clang) Kernel: Depends on container host Compiler: clang 17.0.6 (Fedora 17.0.6-2.fc39) RHEL8 Kernel: Depends on container host Compiler: gcc 8.5.0 20210514 (Red Hat 8.5.0-22) Fedora 39 Kernel: Depends on container host Compiler: gcc 13.3.1 20240522 (Red Hat 13.3.1-1) Fedora 40 (Clang) Kernel: Depends on container host Compiler: clang 18.1.6 (Fedora 18.1.6-3.fc40) RHEL9 Kernel: Depends on container host Compiler: gcc 11.4.1 20231218 (Red Hat 11.4.1-3) openSUSE Leap 15 Kernel: Depends on container host Compiler: gcc (SUSE Linux) 7.5.0 Fedora 40 Kernel: Depends on container host Compiler: gcc 14.2.1 20240801 (Red Hat 14.2.1-1) Ubuntu 20.04 Kernel: Depends on container host Compiler: gcc (Ubuntu 9.4.0-1ubuntu1~20.04.2) 9.4.0 Ubuntu 22.04 Kernel: Depends on container host Compiler: gcc (Ubuntu 11.4.0-1ubuntu1~22.04) 11.4.0 Ubuntu 24.04 Kernel: Depends on container host Compiler: gcc (Ubuntu 13.2.0-23ubuntu4) 13.2.0 Alpine Kernel: Depends on container host Compiler: gcc (Alpine 13.2.1_git20240309) 13.2.1 20240309 FreeBSD 14.1 Kernel: 14.1-RELEASE-p3 Compiler: clang 18.1.5 Windows Server 2022 Kernel: 10.0.20348.2031 Compiler: clang 15.0.7, gcc 14.1.0 (MinGW), and MSVC VS 19.39.33521 To view detailed results, visit: https://lab.dpdk.org/results/dashboard/patchsets/32080/ UNH-IOL DPDK Community Lab To manage your email subscriptions, visit: https://lab.dpdk.org/results/dashboard/preferences/subscriptions/