From mboxrd@z Thu Jan 1 00:00:00 1970 Return-Path: Received: from mails.dpdk.org (mails.dpdk.org [217.70.189.124]) by inbox.dpdk.org (Postfix) with ESMTP id 2BABE45E25 for ; Wed, 4 Dec 2024 14:06:58 +0100 (CET) Received: from mails.dpdk.org (localhost [127.0.0.1]) by mails.dpdk.org (Postfix) with ESMTP id 26E5940A89; Wed, 4 Dec 2024 14:06:58 +0100 (CET) Received: from mail-io1-f97.google.com (mail-io1-f97.google.com [209.85.166.97]) by mails.dpdk.org (Postfix) with ESMTP id A5CB140A87 for ; Wed, 4 Dec 2024 14:06:56 +0100 (CET) Received: by mail-io1-f97.google.com with SMTP id ca18e2360f4ac-84183532291so294332939f.2 for ; Wed, 04 Dec 2024 05:06:56 -0800 (PST) DKIM-Signature: v=1; a=rsa-sha256; c=relaxed/relaxed; d=iol.unh.edu; s=unh-iol; t=1733317616; x=1733922416; darn=dpdk.org; h=references:in-reply-to:cc:to:from:subject:message-id:date:from:to :cc:subject:date:message-id:reply-to; bh=E2q+NNogDIHo7NiesS8xes0NCpNxcxP8NQnm6naAz/0=; b=AjfZcYBtP6KoF3PTUaj+/W5HwSAneO69bi4mI1h8IinRq459HXNMJ+SG9e2QAFEmKq fE7MkkbJTOt48p6ruXW4TJyN0ZA9WhH2GkTVhjPkcAgTODTH/Pv+Oe9OsT2HTyZ9bb8e IdOKQFh9t1vbEsRn6QngET9BX1yFIm0/HkEdQ= X-Google-DKIM-Signature: v=1; a=rsa-sha256; c=relaxed/relaxed; d=1e100.net; s=20230601; t=1733317616; x=1733922416; h=references:in-reply-to:cc:to:from:subject:message-id:date :x-gm-message-state:from:to:cc:subject:date:message-id:reply-to; bh=E2q+NNogDIHo7NiesS8xes0NCpNxcxP8NQnm6naAz/0=; b=ZmNv5JERvaT0TEvGeou4X9nf6RX1Zl4cHBuC5n5K72qrML9WJIOX1bd5XEOSv0gHgx 0rtEeIUD9++AED5VuCK96ZibKMWRWiFZZvc9BoWXg8Bc+PJ8SH2hPUGrvjkdR218jU9v 8F6aKGYmCToN+dMvqJfhEg815i3eIGPpeRUtMm+/ECx8FBxvoG/tk13zLU0awE5PLPHn Q0gZpaSyJ/1WannL5/MUNAMMrQLTey/cyjfCr9JjTSMqqCmbagqDyyEe0TM/qqkggCE2 mW86RQzE4w+GSsu8mQ6aHmJCdOwghq1qEfFwcxA95JKqAnze7jNQiCFP6Qh9sRqDvOtF VRPQ== X-Gm-Message-State: AOJu0Yy1Pis/OK6vxDqqnInabLly/qqoiKl1R9QR/8Uk+1RbKRo91IcS zM+63SlkF/OnnwTpgUJ9PnGLkHPJj0VYfFPTJ9CgKDSk01bNe8mJI9TErOENPeSt9EckRylVf2c mUp9m9MgwVyD+3faMp+NVrejpL+DV5Hzdex2F7VR8 X-Gm-Gg: ASbGncuwsnSZG2u8/p3C7dwEF+o5yPiWmenwAt95VeNATm5jZho+WEB0hpxWZ5Nmvm5 c5smY9lBATfezYa/Wo9Y0zbinToqGC4yyFMmLuOgmTWEuO6bVimaVXtFcRq/Kr3kMc75jb+Be9h 6JamX25roeSW8DML1MtoSprFQoTI73tFf7xw9QtpZe9pjNyg/UYy/prioImIIkQgm4FVrmrZUgs VLjSYDGQE8y2m2C4t+EKUZtEoVSKqO8rVdS7ZXouKXyT+/Ak5hcDh5xGvozzHcnUaas4wA= X-Google-Smtp-Source: AGHT+IG3IpXAIzDnKJ5ScvhmpMJU0F9hwhC88Lab3PkhYdj7W90pkDKmxadcLsLfW1bM292f02PNV3paWKuG X-Received: by 2002:a05:6602:1681:b0:841:a678:de2e with SMTP id ca18e2360f4ac-8445b545f7cmr853620639f.2.1733317616072; Wed, 04 Dec 2024 05:06:56 -0800 (PST) Received: from postal.iol.unh.edu (postal.iol.unh.edu. [132.177.123.84]) by smtp-relay.gmail.com with ESMTPS id ca18e2360f4ac-84405e92bd2sm50105639f.6.2024.12.04.05.06.55 (version=TLS1_2 cipher=ECDHE-ECDSA-AES128-GCM-SHA256 bits=128/128); Wed, 04 Dec 2024 05:06:56 -0800 (PST) X-Relaying-Domain: iol.unh.edu Date: Wed, 04 Dec 2024 05:06:56 -0800 (PST) Message-ID: <675053f0.050a0220.6df59.cadaSMTPIN_ADDED_MISSING@mx.google.com> Received: from [172.21.0.7] (unknown [172.18.0.240]) by postal.iol.unh.edu (Postfix) with ESMTP id 9575E6052471; Wed, 4 Dec 2024 08:06:55 -0500 (EST) Subject: |SUCCESS| pw149010 [PATCH] cryptodev: not close device when secondar From: dpdklab@iol.unh.edu To: Test Report Cc: dpdk-test-reports@iol.unh.edu In-Reply-To: <20241204024630.2869-1-ming.1.yang@nokia-sbell.com> References: <20241204024630.2869-1-ming.1.yang@nokia-sbell.com> Content-Type: text/plain X-BeenThere: test-report@dpdk.org X-Mailman-Version: 2.1.29 Precedence: list List-Id: automatic DPDK test reports List-Unsubscribe: , List-Archive: List-Post: List-Help: List-Subscribe: , Errors-To: test-report-bounces@dpdk.org Test-Label: iol-unit-amd64-testing Test-Status: SUCCESS http://dpdk.org/patch/149010 _Testing PASS_ Submitter: Yang Ming Date: Wednesday, December 04 2024 02:46:29 DPDK git baseline: Repo:dpdk Branch: master CommitID:4843aacb0d1201fef37e8a579fcd8baec4acdf98 149010 --> testing pass Upstream job id: Generic-VM-Unit-Test-DPDK#26515 Test environment and result as below: +---------------------+----------------+ | Environment | dpdk_unit_test | +=====================+================+ | Debian 12 | PASS | +---------------------+----------------+ | Fedora 39 (Clang) | PASS | +---------------------+----------------+ | Fedora 40 | PASS | +---------------------+----------------+ | Fedora 40 (Clang) | PASS | +---------------------+----------------+ | RHEL9 | PASS | +---------------------+----------------+ | CentOS Stream 9 | PASS | +---------------------+----------------+ | Ubuntu 20.04 | PASS | +---------------------+----------------+ | RHEL8 | PASS | +---------------------+----------------+ | Fedora 39 | PASS | +---------------------+----------------+ | Ubuntu 22.04 | PASS | +---------------------+----------------+ | Ubuntu 24.04 | PASS | +---------------------+----------------+ | Windows Server 2022 | PASS | +---------------------+----------------+ Debian 12 Kernel: Depends on container host Compiler: gcc (Debian 12.2.0-14) 12.2.0 Fedora 39 (Clang) Kernel: Depends on container host Compiler: clang 17.0.6 (Fedora 17.0.6-2.fc39) Fedora 40 Kernel: Depends on container host Compiler: gcc 14.2.1 20240801 (Red Hat 14.2.1-1) Fedora 40 (Clang) Kernel: Depends on container host Compiler: clang 18.1.6 (Fedora 18.1.6-3.fc40) RHEL9 Kernel: Depends on container host Compiler: gcc 11.4.1 20231218 (Red Hat 11.4.1-3) CentOS Stream 9 Kernel: Depends on container host Compiler: gcc 11.4.1 20231218 (Red Hat 11.4.1-3) Ubuntu 20.04 Kernel: Depends on container host Compiler: gcc (Ubuntu 9.4.0-1ubuntu1~20.04.2) 9.4.0 RHEL8 Kernel: Depends on container host Compiler: gcc 8.5.0 20210514 (Red Hat 8.5.0-22) Fedora 39 Kernel: Depends on container host Compiler: gcc 13.3.1 20240522 (Red Hat 13.3.1-1) Ubuntu 22.04 Kernel: Depends on container host Compiler: gcc (Ubuntu 11.4.0-1ubuntu1~22.04) 11.4.0 Ubuntu 24.04 Kernel: Depends on container host Compiler: gcc (Ubuntu 13.2.0-23ubuntu4) 13.2.0 Windows Server 2022 Kernel: 10.0.20348.2031 Compiler: clang 15.0.7, gcc 14.1.0 (MinGW), and MSVC VS 19.39.33521 To view detailed results, visit: https://lab.dpdk.org/results/dashboard/patchsets/32079/ UNH-IOL DPDK Community Lab To manage your email subscriptions, visit: https://lab.dpdk.org/results/dashboard/preferences/subscriptions/