From mboxrd@z Thu Jan 1 00:00:00 1970 Return-Path: Received: from mails.dpdk.org (mails.dpdk.org [217.70.189.124]) by inbox.dpdk.org (Postfix) with ESMTP id 8F53345E2F for ; Wed, 4 Dec 2024 14:09:16 +0100 (CET) Received: from mails.dpdk.org (localhost [127.0.0.1]) by mails.dpdk.org (Postfix) with ESMTP id 6FB6240A89; Wed, 4 Dec 2024 14:09:16 +0100 (CET) Received: from mail-pf1-f226.google.com (mail-pf1-f226.google.com [209.85.210.226]) by mails.dpdk.org (Postfix) with ESMTP id 7207340A87 for ; Wed, 4 Dec 2024 14:09:14 +0100 (CET) Received: by mail-pf1-f226.google.com with SMTP id d2e1a72fcca58-724ffe64923so7103521b3a.2 for ; Wed, 04 Dec 2024 05:09:14 -0800 (PST) DKIM-Signature: v=1; a=rsa-sha256; c=relaxed/relaxed; d=iol.unh.edu; s=unh-iol; t=1733317753; x=1733922553; darn=dpdk.org; h=references:in-reply-to:cc:to:from:subject:message-id:date:from:to :cc:subject:date:message-id:reply-to; bh=JbwaQ/xHzBn4ancuKQdvlPb6NofTKNqqptMqHoBBDsA=; b=EVtLK5/H5oI+/7pQ/OcEY86WLjPCzrfnuff4Y9OIsgZLhPI4vwv9gJh5QgA1fu4HGC 7zZwmigjrs2+jf6+QdAq8LvlsX/rVjxFjBrlwWAf8egbaqtwaEIq3TLlNU23z5NaPZt4 J4I9pprMazOk2e3mSNd5EBmBezdDqAX+TRTq0= X-Google-DKIM-Signature: v=1; a=rsa-sha256; c=relaxed/relaxed; d=1e100.net; s=20230601; t=1733317753; x=1733922553; h=references:in-reply-to:cc:to:from:subject:message-id:date :x-gm-message-state:from:to:cc:subject:date:message-id:reply-to; bh=JbwaQ/xHzBn4ancuKQdvlPb6NofTKNqqptMqHoBBDsA=; b=MkzjLVJ9RAuEqe2oq5fTKi1od1sK6MT9qITlPXfG5YxL1PbjXjtb6lBe6rQXiiDyWG do1r40JuofUHyU2NOuT87jZ3Lzi8k2+jKS3Lm62iuRuoWYHCDkMp2lBloi+78nK1Swra tWYzQFbZzvvFV+mu7CR4KI24c8Cg8QY3DbRfMO3GsKCYiZC90qr8go7squ2PHWNS8BZV yZjq5SpdEJy8QUDE83+t4YfELHxMFfjtFjUwCYLrEfHd02L+4BJMK/RCW3AelJUTAUez WK6/xAuF4qfuFe8oAeooN4vOg5/4SxsoX6hutdCZI7JeKlJQmDi7hfnHuZMkCr46mkg9 pTFA== X-Gm-Message-State: AOJu0YwonfY7z4S86Jb9GqxbXnGARwakfUj2AvOwlEVSx+jSg3tdxHRb huwUFfdzvEgHuf4/jai8hFBZClGc0f2euX4dHTHIFxGiUmb3koTOC88IinhYLqLHfgBCSajOqZM q56gSKfeFiVOgpLLHjjzPhrbDZY4cmJsvAjflxbQc X-Gm-Gg: ASbGncs9nKv5MtSMvtQiZKGm9IZKsLGLNyaWzgQg96w+E3a1DRniwkaxleB9B8vhVsC OxwSF282tMWBC/K/PG94sMMOxqc6BhLHEDh9Z4a/81jnttOA4Jsd56QG4i+rBZm/uNzx54DPuVe vzgtd/EK9A7SkwcxLxAm2IVYH3nP7SLIKK3WIdcDTmSnz4T66PUmlQZyx3imbfxNsyOezOhOEhF RK9OVKhctJgmhkqlFC2j9N/qC46hr3ergkDmbN92tJjJRQhxiAsPBo12E3YbqBhX6/1lGQ= X-Google-Smtp-Source: AGHT+IEWZqmAwOX+kydxrxqhtXYqlAVuRlBWidKk1O9FgF69EAYRO39PXIodtXW651eKsk6gNUKik/m3kfKv X-Received: by 2002:a17:902:f652:b0:20b:a6f5:2768 with SMTP id d9443c01a7336-215bd1b438amr78049785ad.10.1733317753327; Wed, 04 Dec 2024 05:09:13 -0800 (PST) Received: from postal.iol.unh.edu (postal.iol.unh.edu. [132.177.123.84]) by smtp-relay.gmail.com with ESMTPS id d9443c01a7336-2158fd3dd48sm2922375ad.3.2024.12.04.05.09.13 (version=TLS1_2 cipher=ECDHE-ECDSA-AES128-GCM-SHA256 bits=128/128); Wed, 04 Dec 2024 05:09:13 -0800 (PST) X-Relaying-Domain: iol.unh.edu Date: Wed, 04 Dec 2024 05:09:13 -0800 (PST) Message-ID: <67505479.170a0220.3905ab.0107SMTPIN_ADDED_MISSING@mx.google.com> Received: from [172.21.0.7] (unknown [172.18.0.240]) by postal.iol.unh.edu (Postfix) with ESMTP id 648656052471; Wed, 4 Dec 2024 08:09:12 -0500 (EST) Subject: |SUCCESS| pw149010 [PATCH] cryptodev: not close device when secondar From: dpdklab@iol.unh.edu To: Test Report Cc: dpdk-test-reports@iol.unh.edu In-Reply-To: <20241204024630.2869-1-ming.1.yang@nokia-sbell.com> References: <20241204024630.2869-1-ming.1.yang@nokia-sbell.com> Content-Type: text/plain X-BeenThere: test-report@dpdk.org X-Mailman-Version: 2.1.29 Precedence: list List-Id: automatic DPDK test reports List-Unsubscribe: , List-Archive: List-Post: List-Help: List-Subscribe: , Errors-To: test-report-bounces@dpdk.org Test-Label: iol-unit-arm64-testing Test-Status: SUCCESS http://dpdk.org/patch/149010 _Testing PASS_ Submitter: Yang Ming Date: Wednesday, December 04 2024 02:46:29 DPDK git baseline: Repo:dpdk Branch: master CommitID:4843aacb0d1201fef37e8a579fcd8baec4acdf98 149010 --> testing pass Upstream job id: Aarch32-Unit-Test#4565 Test environment and result as below: +-----------------------------+----------------+---------------------------+--------------+------------------------------+ | Environment | dpdk_unit_test | cryptodev_sw_zuc_autotest | lpm_autotest | cryptodev_sw_snow3g_autotest | +=============================+================+===========================+==============+==============================+ | Fedora 39 (ARM) | PASS | SKIPPED | SKIPPED | SKIPPED | +-----------------------------+----------------+---------------------------+--------------+------------------------------+ | Fedora 40 (ARM) | PASS | SKIPPED | SKIPPED | SKIPPED | +-----------------------------+----------------+---------------------------+--------------+------------------------------+ | CentOS Stream 9 (ARM) | PASS | SKIPPED | SKIPPED | SKIPPED | +-----------------------------+----------------+---------------------------+--------------+------------------------------+ | Fedora 40 (ARM Clang) | PASS | SKIPPED | SKIPPED | SKIPPED | +-----------------------------+----------------+---------------------------+--------------+------------------------------+ | RHEL9 (ARM) | PASS | SKIPPED | SKIPPED | SKIPPED | +-----------------------------+----------------+---------------------------+--------------+------------------------------+ | Ubuntu 20.04 (ARM) | PASS | SKIPPED | SKIPPED | SKIPPED | +-----------------------------+----------------+---------------------------+--------------+------------------------------+ | Fedora 39 (ARM Clang) | PASS | SKIPPED | SKIPPED | SKIPPED | +-----------------------------+----------------+---------------------------+--------------+------------------------------+ | Ubuntu 22.04 (ARM) | PASS | SKIPPED | SKIPPED | SKIPPED | +-----------------------------+----------------+---------------------------+--------------+------------------------------+ | Debian 12 (arm) | PASS | PASS | SKIPPED | PASS | +-----------------------------+----------------+---------------------------+--------------+------------------------------+ | Ubuntu 24.04 (ARM) | PASS | SKIPPED | SKIPPED | SKIPPED | +-----------------------------+----------------+---------------------------+--------------+------------------------------+ | 32-bit Ubuntu 22.04.4 (ARM) | PASS | SKIPPED | SKIPPED | SKIPPED | +-----------------------------+----------------+---------------------------+--------------+------------------------------+ | Ubuntu 20.04 ARM SVE | SKIPPED | SKIPPED | PASS | SKIPPED | +-----------------------------+----------------+---------------------------+--------------+------------------------------+ Fedora 39 (ARM) Kernel: Depends on container host Compiler: gcc 13.3.1 20240522 (Red Hat 13.3.1-1) Fedora 40 (ARM) Kernel: Depends on container host Compiler: gcc 14.2.1 20240801 (Red Hat 14.2.1-1) CentOS Stream 9 (ARM) Kernel: Depends on container host Compiler: gcc 11.4.1 20231218 (Red Hat 11.4.1-3) Fedora 40 (ARM Clang) Kernel: Depends on container host Compiler: clang 18.1.6 (Fedora 18.1.6-3.fc40) RHEL9 (ARM) Kernel: Depends on container host Compiler: gcc 11.4.1 20231218 (Red Hat 11.4.1-3) Ubuntu 20.04 (ARM) Kernel: Depends on container host Compiler: gcc (Ubuntu 9.4.0-1ubuntu1~20.04.2) 9.4.0 Fedora 39 (ARM Clang) Kernel: Depends on container host Compiler: clang 17.0.6 (Fedora 17.0.6-2.fc39) Ubuntu 22.04 (ARM) Kernel: Depends on container host Compiler: gcc (Ubuntu 11.4.0-1ubuntu1~22.04) 11.4.0 Debian 12 (arm) Kernel: Depends on container host Compiler: gcc (Debian 12.2.0-14) 12.2.0 Ubuntu 24.04 (ARM) Kernel: Depends on container host Compiler: gcc (Ubuntu 13.2.0-23ubuntu4) 13.2.0 32-bit Ubuntu 22.04.4 (ARM) Kernel: 5.15.83+ aarch64 Compiler: gcc (Ubuntu 11.4.0-1ubuntu1~22.04) 11.4.0 Ubuntu 20.04 ARM SVE Kernel: Depends on container host Compiler: gcc (Ubuntu 10.5.0-1ubuntu1~20.04) 10.5.0 To view detailed results, visit: https://lab.dpdk.org/results/dashboard/patchsets/32079/ UNH-IOL DPDK Community Lab To manage your email subscriptions, visit: https://lab.dpdk.org/results/dashboard/preferences/subscriptions/