From mboxrd@z Thu Jan 1 00:00:00 1970 Return-Path: Received: from mails.dpdk.org (mails.dpdk.org [217.70.189.124]) by inbox.dpdk.org (Postfix) with ESMTP id 27BF545E2F for ; Wed, 4 Dec 2024 14:15:12 +0100 (CET) Received: from mails.dpdk.org (localhost [127.0.0.1]) by mails.dpdk.org (Postfix) with ESMTP id 33BFB40A89; Wed, 4 Dec 2024 14:15:11 +0100 (CET) Received: from mail-yw1-f228.google.com (mail-yw1-f228.google.com [209.85.128.228]) by mails.dpdk.org (Postfix) with ESMTP id 4E46640A87 for ; Wed, 4 Dec 2024 14:15:10 +0100 (CET) Received: by mail-yw1-f228.google.com with SMTP id 00721157ae682-6ef7f89f628so39523937b3.0 for ; Wed, 04 Dec 2024 05:15:10 -0800 (PST) DKIM-Signature: v=1; a=rsa-sha256; c=relaxed/relaxed; d=iol.unh.edu; s=unh-iol; t=1733318109; x=1733922909; darn=dpdk.org; h=references:in-reply-to:cc:to:from:subject:message-id:date:from:to :cc:subject:date:message-id:reply-to; bh=9frUAo6iPYRdjDjQj+GT3cqzQO7Op3zBXC765HvkhzM=; b=H+ttGzpx72yzl+Z2nz5JrDmY0U9ipOeqHa/E+K5aR+riUFIndwA9RbFUPoJhafpDau VL/qsX7t4Ik5/bedd8PbSiQn4P5pdy1VFaw6SCtDmsaqwyxIyvbAqOYdOAE2mZWXbNGC k5PYcwtlUPSZpqU5LpK1Ic54NyyQZAvr3p6cE= X-Google-DKIM-Signature: v=1; a=rsa-sha256; c=relaxed/relaxed; d=1e100.net; s=20230601; t=1733318109; x=1733922909; h=references:in-reply-to:cc:to:from:subject:message-id:date :x-gm-message-state:from:to:cc:subject:date:message-id:reply-to; bh=9frUAo6iPYRdjDjQj+GT3cqzQO7Op3zBXC765HvkhzM=; b=tInpsikVVx62WHtj+LYJsslCL4ecCSHvt3mDopIBNiXBhhCNtl/df9+5NG+e76jPw5 uNPoOMOs7NViq1Ob5E59Yew/h8rLlRiHsVGrW0k+P13G7c7NECrycXIosf7w6wctbC4W LEV7v47zs1egQh/OACOrvsGrwp5AkaZdSp11bIUB1wDIU0XKbAes82hRC6ijtHVp3KNc dcpGN814mV5GzowXdfm1nUoT8WuXAClhzmjzOWqgRgD8HyNf9mjZbJWUS51x9wnvLagS M43eQ62ThHL4fFRzTTDqeUKD+4VOPZOYuXaj+eKSiWjGm7lMIUvWmpu3P/VSCQwsPCt/ +UwA== X-Gm-Message-State: AOJu0Yyb5sK7PoLvtlc9pXhUCdHgZNQ1cfrAuOwV+2yWuPlQxVThbWb1 qfKkUo4kZTLU2tMhkODF0SDtlhRcPBe1bdBZzgkuL5yvqOIYSddfIxWDOjMz+5RPRuEQLDFpwll I/H0cfBqgwVtSw94vpXGsDhA55ETij1KHQ2fndLSuXAaw2ZY7NyH67VCB X-Gm-Gg: ASbGncsHQH8f0WzwdnQA8jfjtqL4feItp6UhkTvAMJofxbgcK8amJPPOrrmY8vCS73t wgj4/pAykrlRgBoQNNZWshq6KbhblunmvUtS5wolyRC78ZuBpXL8REIyvgNpGBU86B72aHTotvt 9St3DctxBOMV8C4Ml2ThMiYfLeQNVXAn8l7oXBfeJNigJhyjkGM9euANGp9vJg4pcbXyEoY06yg K6lkYZIVrqQVHv7qtR0u7YO/ulQ745VdP1cf2sx8zDQvXzmUpmg/JKMKOmthtDqay9MsLfw2Lc= X-Google-Smtp-Source: AGHT+IH6bjpCG8DLcLnpWfjrVEzF6j38vrsLVvCaeIwNsQPguowmF3Xm0EgrHBrIFir4h9Ykgq4ZPgZuz5L1 X-Received: by 2002:a05:690c:3685:b0:6ef:5fee:1ca3 with SMTP id 00721157ae682-6efad193432mr82266437b3.10.1733318109378; Wed, 04 Dec 2024 05:15:09 -0800 (PST) Received: from postal.iol.unh.edu (postal.iol.unh.edu. [2606:4100:3880:1234::84]) by smtp-relay.gmail.com with ESMTPS id 00721157ae682-6ef4dd729e2sm4123327b3.49.2024.12.04.05.15.09 (version=TLS1_2 cipher=ECDHE-ECDSA-AES128-GCM-SHA256 bits=128/128); Wed, 04 Dec 2024 05:15:09 -0800 (PST) X-Relaying-Domain: iol.unh.edu Date: Wed, 04 Dec 2024 05:15:09 -0800 (PST) Message-ID: <675055dd.050a0220.a3a5.6666SMTPIN_ADDED_MISSING@mx.google.com> Received: from [172.21.0.5] (unknown [172.18.0.240]) by postal.iol.unh.edu (Postfix) with ESMTP id 0A8916052471; Wed, 4 Dec 2024 08:15:09 -0500 (EST) Subject: |WARNING| pw149010 [PATCH] cryptodev: not close device when secondar From: dpdklab@iol.unh.edu To: Test Report Cc: dpdk-test-reports@iol.unh.edu In-Reply-To: <20241204024630.2869-1-ming.1.yang@nokia-sbell.com> References: <20241204024630.2869-1-ming.1.yang@nokia-sbell.com> Content-Type: text/plain X-BeenThere: test-report@dpdk.org X-Mailman-Version: 2.1.29 Precedence: list List-Id: automatic DPDK test reports List-Unsubscribe: , List-Archive: List-Post: List-Help: List-Subscribe: , Errors-To: test-report-bounces@dpdk.org Test-Label: iol-compile-amd64-testing Test-Status: WARNING http://dpdk.org/patch/149010 _Testing issues_ Submitter: Yang Ming Date: Wednesday, December 04 2024 02:46:29 DPDK git baseline: Repo:dpdk Branch: master CommitID:4843aacb0d1201fef37e8a579fcd8baec4acdf98 149010 --> testing issues Upstream job id: Generic-DPDK-Compile-Meson#341134 Test environment and result as below: +---------------------+--------------------+------------------+-------------------+-------------------+ | Environment | dpdk_meson_compile | dpdk_compile_ovs | dpdk_compile_spdk | dpdk_msvc_compile | +=====================+====================+==================+===================+===================+ | CentOS Stream 9 | PASS | PASS | PASS | SKIPPED | +---------------------+--------------------+------------------+-------------------+-------------------+ | Debian 12 | PASS | PASS | PASS | SKIPPED | +---------------------+--------------------+------------------+-------------------+-------------------+ | Fedora 39 (Clang) | PASS | PASS | PASS | SKIPPED | +---------------------+--------------------+------------------+-------------------+-------------------+ | Fedora 40 | PASS | PASS | PASS | SKIPPED | +---------------------+--------------------+------------------+-------------------+-------------------+ | Fedora 40 (Clang) | PASS | PASS | PASS | SKIPPED | +---------------------+--------------------+------------------+-------------------+-------------------+ | Fedora 39 | PASS | PASS | PASS | SKIPPED | +---------------------+--------------------+------------------+-------------------+-------------------+ | RHEL8 | PASS | PASS | SKIPPED | SKIPPED | +---------------------+--------------------+------------------+-------------------+-------------------+ | openSUSE Leap 15 | PASS | PASS | SKIPPED | SKIPPED | +---------------------+--------------------+------------------+-------------------+-------------------+ | Ubuntu 20.04 | PASS | WARN | SKIPPED | SKIPPED | +---------------------+--------------------+------------------+-------------------+-------------------+ | Ubuntu 22.04 | PASS | PASS | PASS | SKIPPED | +---------------------+--------------------+------------------+-------------------+-------------------+ | Ubuntu 24.04 | PASS | PASS | PASS | SKIPPED | +---------------------+--------------------+------------------+-------------------+-------------------+ | Alpine | PASS | PASS | SKIPPED | SKIPPED | +---------------------+--------------------+------------------+-------------------+-------------------+ | FreeBSD 13.4 | PASS | SKIPPED | SKIPPED | SKIPPED | +---------------------+--------------------+------------------+-------------------+-------------------+ | FreeBSD 14.1 | PASS | SKIPPED | SKIPPED | SKIPPED | +---------------------+--------------------+------------------+-------------------+-------------------+ | RHEL9 | PASS | PASS | SKIPPED | SKIPPED | +---------------------+--------------------+------------------+-------------------+-------------------+ | Windows Server 2022 | SKIPPED | SKIPPED | SKIPPED | PASS | +---------------------+--------------------+------------------+-------------------+-------------------+ ==== 20 line log output for Ubuntu 20.04 (dpdk_compile_ovs): ==== --- Failed to get log output --- ==== End log output ==== CentOS Stream 9 Kernel: Depends on container host Compiler: gcc 11.4.1 20231218 (Red Hat 11.4.1-3) Debian 12 Kernel: Depends on container host Compiler: gcc (Debian 12.2.0-14) 12.2.0 Fedora 39 (Clang) Kernel: Depends on container host Compiler: clang 17.0.6 (Fedora 17.0.6-2.fc39) Fedora 40 Kernel: Depends on container host Compiler: gcc 14.2.1 20240801 (Red Hat 14.2.1-1) Fedora 40 (Clang) Kernel: Depends on container host Compiler: clang 18.1.6 (Fedora 18.1.6-3.fc40) Fedora 39 Kernel: Depends on container host Compiler: gcc 13.3.1 20240522 (Red Hat 13.3.1-1) RHEL8 Kernel: Depends on container host Compiler: gcc 8.5.0 20210514 (Red Hat 8.5.0-22) openSUSE Leap 15 Kernel: Depends on container host Compiler: gcc (SUSE Linux) 7.5.0 Ubuntu 20.04 Kernel: Depends on container host Compiler: gcc (Ubuntu 9.4.0-1ubuntu1~20.04.2) 9.4.0 Ubuntu 22.04 Kernel: Depends on container host Compiler: gcc (Ubuntu 11.4.0-1ubuntu1~22.04) 11.4.0 Ubuntu 24.04 Kernel: Depends on container host Compiler: gcc (Ubuntu 13.2.0-23ubuntu4) 13.2.0 Alpine Kernel: Depends on container host Compiler: gcc (Alpine 13.2.1_git20240309) 13.2.1 20240309 FreeBSD 13.4 Kernel: 13.4-RELEASE-p1 Compiler: clang 18.1.6 FreeBSD 14.1 Kernel: 14.1-RELEASE-p3 Compiler: clang 18.1.5 RHEL9 Kernel: Depends on container host Compiler: gcc 11.4.1 20231218 (Red Hat 11.4.1-3) Windows Server 2022 Kernel: 10.0.20348.2031 Compiler: clang 15.0.7, gcc 14.1.0 (MinGW), and MSVC VS 19.39.33521 To view detailed results, visit: https://lab.dpdk.org/results/dashboard/patchsets/32079/ UNH-IOL DPDK Community Lab To manage your email subscriptions, visit: https://lab.dpdk.org/results/dashboard/preferences/subscriptions/