From mboxrd@z Thu Jan 1 00:00:00 1970 Return-Path: Received: from mails.dpdk.org (mails.dpdk.org [217.70.189.124]) by inbox.dpdk.org (Postfix) with ESMTP id EFB3C45E2F for ; Wed, 4 Dec 2024 14:32:38 +0100 (CET) Received: from mails.dpdk.org (localhost [127.0.0.1]) by mails.dpdk.org (Postfix) with ESMTP id D18A940A89; Wed, 4 Dec 2024 14:32:38 +0100 (CET) Received: from mail-vk1-f226.google.com (mail-vk1-f226.google.com [209.85.221.226]) by mails.dpdk.org (Postfix) with ESMTP id 8782C40A87 for ; Wed, 4 Dec 2024 14:32:37 +0100 (CET) Received: by mail-vk1-f226.google.com with SMTP id 71dfb90a1353d-515e00da944so116960e0c.2 for ; Wed, 04 Dec 2024 05:32:37 -0800 (PST) DKIM-Signature: v=1; a=rsa-sha256; c=relaxed/relaxed; d=iol.unh.edu; s=unh-iol; t=1733319157; x=1733923957; darn=dpdk.org; h=references:in-reply-to:cc:to:from:subject:message-id:date:from:to :cc:subject:date:message-id:reply-to; bh=qZwU8ON+JzRU6hIV6UgiBcWzEiadWvlTE29ChDANs3Y=; b=Kli9Psn3zqzhPD2GWx+Y3pqupB/jft8AiIONG6o8njo06nSK25sguMmxIfWGnq1G1J BQcQOoPdYFURUAaclRSpyC3+ks4w87w1zcVqn+LggxjKrcjdZ1PWegUn2KhYIx6ob5t0 2MEuD6mGkdtN293A4hD42bDEdQ7rEIikXoo30= X-Google-DKIM-Signature: v=1; a=rsa-sha256; c=relaxed/relaxed; d=1e100.net; s=20230601; t=1733319157; x=1733923957; h=references:in-reply-to:cc:to:from:subject:message-id:date :x-gm-message-state:from:to:cc:subject:date:message-id:reply-to; bh=qZwU8ON+JzRU6hIV6UgiBcWzEiadWvlTE29ChDANs3Y=; b=iD8juQj1+CBPBNOhEym+Wdma0F44Lq/vW93ldPEmM0yAVhNxUf5OweSCrSwUUxoHsJ xFnjNK8AHw9XHgpcsn1xsEh0282Pa1p2qIYwsuKtPmBlverfgMWf9LwGF6SBIJjfbr/8 /wO6b7IKO4Gb+bYzrOZX3xDwm1yw0u1p3DbEN0rFtQ13aAFL4KV/I/PixpzKQEA0Szd/ lKsSWb7P2XFDVFFXj4Prf0r+gF8x6gc3Lq8xqpKiCJyllNn5hXoDU6y2YSXVAycC2fJx h4QfAXPJHwCB0Hi7uORKKcKyGilh7+PJfjltJyot1WHmY34XvAyzNwfh4dQZ1NyEruwe lhug== X-Gm-Message-State: AOJu0YxxKPUbqGRxyvjrLHocoxteqrNY9xBJ7O/JQV7J/IwuVd5y6u97 muxEmA7t3/XfChZRo7jZ8UqyUNaF7ucPuPzZ8RR8C8b4TTwBOWaLCj+2PSoPPiWUTxC3wHAvMiL 7/HxHl+/1Pja/Ql/qy7BnqqLlApXZdA4c14q49Ktq X-Gm-Gg: ASbGncvFx7TMaOWXkIgLii4EF54zFjjSv+9VfUMP1Cxtff68h/1MKiKnRXIWJiwhvag u4gxz+WCj1uZPd/Mfl5bBdW7wHEq1akVDBemhIow5vnuFdeaHzabvRhNn48aS/y+Qp9cbpF2cH0 oFU0pq8u6f/Fj9V8o9WvA82XrMjhEZ5gqINa672aCYIB4IuGnF/plCrGKty4G3d/iQRzvdzA2st QaVngnJMxT7K1avyb+N97AKaKyOQUdJMihs39UCOeqIjaa0/DfI8uggRgcjsgSeRbG9CE0= X-Google-Smtp-Source: AGHT+IEnC2uelvRhUoRj1urkcZHTPYFm0z/lfbTPGk0ygWL4vx4lj9yZHr+hnQvjvtkQnuJGGLFzDnDD7uXH X-Received: by 2002:a05:6122:925:b0:507:81f0:f952 with SMTP id 71dfb90a1353d-515bf5254dbmr8828907e0c.9.1733319156871; Wed, 04 Dec 2024 05:32:36 -0800 (PST) Received: from postal.iol.unh.edu (postal.iol.unh.edu. [132.177.123.84]) by smtp-relay.gmail.com with ESMTPS id a1e0cc1a2514c-85bd63d2a43sm239597241.14.2024.12.04.05.32.36 (version=TLS1_2 cipher=ECDHE-ECDSA-AES128-GCM-SHA256 bits=128/128); Wed, 04 Dec 2024 05:32:36 -0800 (PST) X-Relaying-Domain: iol.unh.edu Date: Wed, 04 Dec 2024 05:32:36 -0800 (PST) Message-ID: <675059f4.b00a0220.3a7072.d370SMTPIN_ADDED_MISSING@mx.google.com> Received: from [172.17.0.3] (unknown [172.18.0.217]) by postal.iol.unh.edu (Postfix) with ESMTP id 87DD46052471; Wed, 4 Dec 2024 08:32:36 -0500 (EST) Subject: |SUCCESS| pw149015 [PATCH] lib/gso: rte_gso_segment function increas From: dpdklab@iol.unh.edu To: Test Report Cc: dpdk-test-reports@iol.unh.edu In-Reply-To: <20241204024430.2749-1-18859237562@163.com> References: <20241204024430.2749-1-18859237562@163.com> Content-Type: text/plain X-BeenThere: test-report@dpdk.org X-Mailman-Version: 2.1.29 Precedence: list List-Id: automatic DPDK test reports List-Unsubscribe: , List-Archive: List-Post: List-Help: List-Subscribe: , Errors-To: test-report-bounces@dpdk.org Test-Label: iol-unit-amd64-testing Test-Status: SUCCESS http://dpdk.org/patch/149015 _Testing PASS_ Submitter: 18859237562 <18859237562@163.com> Date: Wednesday, December 04 2024 02:44:30 DPDK git baseline: Repo:dpdk Branch: master CommitID:7df61db6c387703a36306c1aea92225921e2eeb2 149015 --> testing pass Upstream job id: Generic-VM-Unit-Test-DPDK#26516 Test environment and result as below: +---------------------+----------------+ | Environment | dpdk_unit_test | +=====================+================+ | Fedora 39 (Clang) | PASS | +---------------------+----------------+ | Fedora 39 | PASS | +---------------------+----------------+ | CentOS Stream 9 | PASS | +---------------------+----------------+ | Fedora 40 (Clang) | PASS | +---------------------+----------------+ | Fedora 40 | PASS | +---------------------+----------------+ | RHEL8 | PASS | +---------------------+----------------+ | Debian 12 | PASS | +---------------------+----------------+ | RHEL9 | PASS | +---------------------+----------------+ | Ubuntu 22.04 | PASS | +---------------------+----------------+ | Ubuntu 20.04 | PASS | +---------------------+----------------+ | Ubuntu 24.04 | PASS | +---------------------+----------------+ | Windows Server 2022 | PASS | +---------------------+----------------+ Fedora 39 (Clang) Kernel: Depends on container host Compiler: clang 17.0.6 (Fedora 17.0.6-2.fc39) Fedora 39 Kernel: Depends on container host Compiler: gcc 13.3.1 20240522 (Red Hat 13.3.1-1) CentOS Stream 9 Kernel: Depends on container host Compiler: gcc 11.4.1 20231218 (Red Hat 11.4.1-3) Fedora 40 (Clang) Kernel: Depends on container host Compiler: clang 18.1.6 (Fedora 18.1.6-3.fc40) Fedora 40 Kernel: Depends on container host Compiler: gcc 14.2.1 20240801 (Red Hat 14.2.1-1) RHEL8 Kernel: Depends on container host Compiler: gcc 8.5.0 20210514 (Red Hat 8.5.0-22) Debian 12 Kernel: Depends on container host Compiler: gcc (Debian 12.2.0-14) 12.2.0 RHEL9 Kernel: Depends on container host Compiler: gcc 11.4.1 20231218 (Red Hat 11.4.1-3) Ubuntu 22.04 Kernel: Depends on container host Compiler: gcc (Ubuntu 11.4.0-1ubuntu1~22.04) 11.4.0 Ubuntu 20.04 Kernel: Depends on container host Compiler: gcc (Ubuntu 9.4.0-1ubuntu1~20.04.2) 9.4.0 Ubuntu 24.04 Kernel: Depends on container host Compiler: gcc (Ubuntu 13.2.0-23ubuntu4) 13.2.0 Windows Server 2022 Kernel: 10.0.20348.2031 Compiler: clang 15.0.7, gcc 14.1.0 (MinGW), and MSVC VS 19.39.33521 To view detailed results, visit: https://lab.dpdk.org/results/dashboard/patchsets/32083/ UNH-IOL DPDK Community Lab To manage your email subscriptions, visit: https://lab.dpdk.org/results/dashboard/preferences/subscriptions/