From mboxrd@z Thu Jan 1 00:00:00 1970 Return-Path: Received: from mails.dpdk.org (mails.dpdk.org [217.70.189.124]) by inbox.dpdk.org (Postfix) with ESMTP id 0A7CA45E2F for ; Wed, 4 Dec 2024 14:33:33 +0100 (CET) Received: from mails.dpdk.org (localhost [127.0.0.1]) by mails.dpdk.org (Postfix) with ESMTP id 05BA940A89; Wed, 4 Dec 2024 14:33:33 +0100 (CET) Received: from mail-il1-f226.google.com (mail-il1-f226.google.com [209.85.166.226]) by mails.dpdk.org (Postfix) with ESMTP id 2A35B40A87 for ; Wed, 4 Dec 2024 14:33:32 +0100 (CET) Received: by mail-il1-f226.google.com with SMTP id e9e14a558f8ab-3a791bfae0bso23649335ab.0 for ; Wed, 04 Dec 2024 05:33:32 -0800 (PST) DKIM-Signature: v=1; a=rsa-sha256; c=relaxed/relaxed; d=iol.unh.edu; s=unh-iol; t=1733319211; x=1733924011; darn=dpdk.org; h=references:in-reply-to:cc:to:from:subject:message-id:date:from:to :cc:subject:date:message-id:reply-to; bh=JvcEy09BNucaZbhKTpgzwPdZ2mpjRmc1kXjQquwpNSY=; b=gCZiOKZyEa+4JmX3ZZidOeFogi5Tbk5WekEVjuDjLHS5pO8JHUystIRdhzzMcSispF 3vZIB9kPK+XPl97q6PJoTz3K/zcCiaXD2w+YMT46MQLMg5wLOs+ckYlb5pTJEtlGaZQv v7+VGppRlYfzw98wNfRwOooAPYhP10soB6b78= X-Google-DKIM-Signature: v=1; a=rsa-sha256; c=relaxed/relaxed; d=1e100.net; s=20230601; t=1733319211; x=1733924011; h=references:in-reply-to:cc:to:from:subject:message-id:date :x-gm-message-state:from:to:cc:subject:date:message-id:reply-to; bh=JvcEy09BNucaZbhKTpgzwPdZ2mpjRmc1kXjQquwpNSY=; b=hjceuLJ6tK/j0VOMamMTYmZVg3ct1Y+NjjeqR4lP3qCib/GvgpfG/OqgzcPKKXD4D9 msoKGjzDNvk5J6QLY72KjslpnBO1xDeAJ/qhCYE8ng1xCyo3kC1dc5E+KsHm9D5KAe2F 1UwZ401KXAwNbmVNS/HTWOT4Lf57ypNU8gRqn3Xdnr/uCBKcYD9tCdOpEPViS0FjPdXk pDxELGckTdIm/FQ+aHch0BGIWcKjMbfHEsENRMioqd/Qcma6MqLr/VCj9kFl4Yl/ub2D 3zXHaTkF7k33+6rnXk9w4ImaL6Z8KMtIJQXHzwX8IybVB8NQSOGu7kBwlJy4z/9aIEzQ o4TQ== X-Gm-Message-State: AOJu0Yz54wkyKLVzqbLMHoag8Yn9p0TNX+8n865dX60PTKfcnhl+E7Mj o1sEJxFhJ2DuD8/uZnt5m0EF2j/eRc1vBn4g16HkCgKksA9dJC7dWqlEdSNnYXsPDVoFbXnKEs2 +I/fIsFyX/5b6ZocwNWIqqeoXYuayPoFPhm4q3cpe X-Gm-Gg: ASbGncs/GCW8TYbJ7l4jnBp57WE3mI1alujoL8YzjMYZYQGJTSDp6N/3l5YYx83UbvN CLN6NkNTJFKQZWev1PPcVyrk3hr+Nw75NvzEAYQX4L2StZMC265Ys4MSQhQ+tPhGE+isz8XVMMV KFjF5QDfdhoPhiXZmMzOIk9BuXvHtusDmo4eyrTPCv5fslfaN/OsDvtctuFnszvmg3SFvPy4V6f sMl7oCnH8cv756K9vmPsBg2tlear0u4BrtzGj+pkYBkfOsOoL6IyNP9FytoIPCDX4FCRWg= X-Google-Smtp-Source: AGHT+IHCWy2c2LWDyk23RmffiegrkFMMiPaffH4FjJNvqTsJX2MMGEEZru01af8G93Kjt+WyxTe0Po0NNq+Y X-Received: by 2002:a05:6e02:1c89:b0:3a7:e528:6ee6 with SMTP id e9e14a558f8ab-3a7f9a4e005mr84243935ab.13.1733319211407; Wed, 04 Dec 2024 05:33:31 -0800 (PST) Received: from postal.iol.unh.edu (postal.iol.unh.edu. [132.177.123.84]) by smtp-relay.gmail.com with ESMTPS id e9e14a558f8ab-3a7fdc44210sm1247785ab.11.2024.12.04.05.33.31 (version=TLS1_2 cipher=ECDHE-ECDSA-AES128-GCM-SHA256 bits=128/128); Wed, 04 Dec 2024 05:33:31 -0800 (PST) X-Relaying-Domain: iol.unh.edu Date: Wed, 04 Dec 2024 05:33:31 -0800 (PST) Message-ID: <67505a2b.050a0220.3746b4.7704SMTPIN_ADDED_MISSING@mx.google.com> Received: from [172.17.0.2] (unknown [172.18.0.217]) by postal.iol.unh.edu (Postfix) with ESMTP id 0AADC6052471; Wed, 4 Dec 2024 08:33:31 -0500 (EST) Subject: |WARNING| pw149010 [PATCH] cryptodev: not close device when secondar From: dpdklab@iol.unh.edu To: Test Report Cc: dpdk-test-reports@iol.unh.edu In-Reply-To: <20241204024630.2869-1-ming.1.yang@nokia-sbell.com> References: <20241204024630.2869-1-ming.1.yang@nokia-sbell.com> Content-Type: text/plain X-BeenThere: test-report@dpdk.org X-Mailman-Version: 2.1.29 Precedence: list List-Id: automatic DPDK test reports List-Unsubscribe: , List-Archive: List-Post: List-Help: List-Subscribe: , Errors-To: test-report-bounces@dpdk.org Test-Label: iol-compile-amd64-testing Test-Status: WARNING http://dpdk.org/patch/149010 _Testing issues_ Submitter: Yang Ming Date: Wednesday, December 04 2024 02:46:29 DPDK git baseline: Repo:dpdk Branch: master CommitID:4843aacb0d1201fef37e8a579fcd8baec4acdf98 149010 --> testing issues Upstream job id: Windows-Compile-DPDK-Native#25168 Test environment and result as below: +---------------------+--------------------+------------------+-------------------+-------------------+-----------------------+----------------------+ | Environment | dpdk_meson_compile | dpdk_compile_ovs | dpdk_compile_spdk | dpdk_msvc_compile | dpdk_win_llvm_compile | dpdk_mingw64_compile | +=====================+====================+==================+===================+===================+=======================+======================+ | CentOS Stream 9 | PASS | PASS | PASS | SKIPPED | SKIPPED | SKIPPED | +---------------------+--------------------+------------------+-------------------+-------------------+-----------------------+----------------------+ | Debian 12 | PASS | PASS | PASS | SKIPPED | SKIPPED | SKIPPED | +---------------------+--------------------+------------------+-------------------+-------------------+-----------------------+----------------------+ | Fedora 39 (Clang) | PASS | PASS | PASS | SKIPPED | SKIPPED | SKIPPED | +---------------------+--------------------+------------------+-------------------+-------------------+-----------------------+----------------------+ | Fedora 40 | PASS | PASS | PASS | SKIPPED | SKIPPED | SKIPPED | +---------------------+--------------------+------------------+-------------------+-------------------+-----------------------+----------------------+ | Fedora 40 (Clang) | PASS | PASS | PASS | SKIPPED | SKIPPED | SKIPPED | +---------------------+--------------------+------------------+-------------------+-------------------+-----------------------+----------------------+ | Fedora 39 | PASS | PASS | PASS | SKIPPED | SKIPPED | SKIPPED | +---------------------+--------------------+------------------+-------------------+-------------------+-----------------------+----------------------+ | RHEL8 | PASS | PASS | SKIPPED | SKIPPED | SKIPPED | SKIPPED | +---------------------+--------------------+------------------+-------------------+-------------------+-----------------------+----------------------+ | openSUSE Leap 15 | PASS | PASS | SKIPPED | SKIPPED | SKIPPED | SKIPPED | +---------------------+--------------------+------------------+-------------------+-------------------+-----------------------+----------------------+ | Ubuntu 20.04 | PASS | WARN | SKIPPED | SKIPPED | SKIPPED | SKIPPED | +---------------------+--------------------+------------------+-------------------+-------------------+-----------------------+----------------------+ | Ubuntu 22.04 | PASS | PASS | PASS | SKIPPED | SKIPPED | SKIPPED | +---------------------+--------------------+------------------+-------------------+-------------------+-----------------------+----------------------+ | Ubuntu 24.04 | PASS | PASS | PASS | SKIPPED | SKIPPED | SKIPPED | +---------------------+--------------------+------------------+-------------------+-------------------+-----------------------+----------------------+ | Alpine | PASS | PASS | SKIPPED | SKIPPED | SKIPPED | SKIPPED | +---------------------+--------------------+------------------+-------------------+-------------------+-----------------------+----------------------+ | FreeBSD 13.4 | PASS | SKIPPED | SKIPPED | SKIPPED | SKIPPED | SKIPPED | +---------------------+--------------------+------------------+-------------------+-------------------+-----------------------+----------------------+ | FreeBSD 14.1 | PASS | SKIPPED | SKIPPED | SKIPPED | SKIPPED | SKIPPED | +---------------------+--------------------+------------------+-------------------+-------------------+-----------------------+----------------------+ | RHEL9 | PASS | PASS | SKIPPED | SKIPPED | SKIPPED | SKIPPED | +---------------------+--------------------+------------------+-------------------+-------------------+-----------------------+----------------------+ | Windows Server 2022 | SKIPPED | SKIPPED | SKIPPED | PASS | PASS | PASS | +---------------------+--------------------+------------------+-------------------+-------------------+-----------------------+----------------------+ ==== 20 line log output for Ubuntu 20.04 (dpdk_compile_ovs): ==== --- Failed to get log output --- ==== End log output ==== CentOS Stream 9 Kernel: Depends on container host Compiler: gcc 11.4.1 20231218 (Red Hat 11.4.1-3) Debian 12 Kernel: Depends on container host Compiler: gcc (Debian 12.2.0-14) 12.2.0 Fedora 39 (Clang) Kernel: Depends on container host Compiler: clang 17.0.6 (Fedora 17.0.6-2.fc39) Fedora 40 Kernel: Depends on container host Compiler: gcc 14.2.1 20240801 (Red Hat 14.2.1-1) Fedora 40 (Clang) Kernel: Depends on container host Compiler: clang 18.1.6 (Fedora 18.1.6-3.fc40) Fedora 39 Kernel: Depends on container host Compiler: gcc 13.3.1 20240522 (Red Hat 13.3.1-1) RHEL8 Kernel: Depends on container host Compiler: gcc 8.5.0 20210514 (Red Hat 8.5.0-22) openSUSE Leap 15 Kernel: Depends on container host Compiler: gcc (SUSE Linux) 7.5.0 Ubuntu 20.04 Kernel: Depends on container host Compiler: gcc (Ubuntu 9.4.0-1ubuntu1~20.04.2) 9.4.0 Ubuntu 22.04 Kernel: Depends on container host Compiler: gcc (Ubuntu 11.4.0-1ubuntu1~22.04) 11.4.0 Ubuntu 24.04 Kernel: Depends on container host Compiler: gcc (Ubuntu 13.2.0-23ubuntu4) 13.2.0 Alpine Kernel: Depends on container host Compiler: gcc (Alpine 13.2.1_git20240309) 13.2.1 20240309 FreeBSD 13.4 Kernel: 13.4-RELEASE-p1 Compiler: clang 18.1.6 FreeBSD 14.1 Kernel: 14.1-RELEASE-p3 Compiler: clang 18.1.5 RHEL9 Kernel: Depends on container host Compiler: gcc 11.4.1 20231218 (Red Hat 11.4.1-3) Windows Server 2022 Kernel: 10.0.20348.2031 Compiler: clang 15.0.7, gcc 14.1.0 (MinGW), and MSVC VS 19.39.33521 To view detailed results, visit: https://lab.dpdk.org/results/dashboard/patchsets/32079/ UNH-IOL DPDK Community Lab To manage your email subscriptions, visit: https://lab.dpdk.org/results/dashboard/preferences/subscriptions/