From mboxrd@z Thu Jan 1 00:00:00 1970 Return-Path: Received: from mails.dpdk.org (mails.dpdk.org [217.70.189.124]) by inbox.dpdk.org (Postfix) with ESMTP id E5A9145E2F for ; Wed, 4 Dec 2024 14:41:49 +0100 (CET) Received: from mails.dpdk.org (localhost [127.0.0.1]) by mails.dpdk.org (Postfix) with ESMTP id C09CC40A89; Wed, 4 Dec 2024 14:41:49 +0100 (CET) Received: from mail-pl1-f227.google.com (mail-pl1-f227.google.com [209.85.214.227]) by mails.dpdk.org (Postfix) with ESMTP id 8A63640A87 for ; Wed, 4 Dec 2024 14:41:48 +0100 (CET) Received: by mail-pl1-f227.google.com with SMTP id d9443c01a7336-21577f65bdeso7208095ad.0 for ; Wed, 04 Dec 2024 05:41:48 -0800 (PST) DKIM-Signature: v=1; a=rsa-sha256; c=relaxed/relaxed; d=iol.unh.edu; s=unh-iol; t=1733319707; x=1733924507; darn=dpdk.org; h=references:in-reply-to:cc:to:from:subject:message-id:date:from:to :cc:subject:date:message-id:reply-to; bh=rczmWSbPEqf7dnz8HzzXDTa1610/96QnrdMvXiWGLFM=; b=aBW04E4FTCbQ18eXEaVrq0gxcBcHPZXimo13R+3qm9Sk5HIiZYAk6Mem8v3nK3jWmM k/NOGDiLEzS3VLdImNa70Y2TZTuEToP/eS+HNcpWGSRjPsjf4Gwqsqojesu7HUvfz//9 nH//ifJOudMoTe+AVh9rDv0sBF2+R1SJGeTC8= X-Google-DKIM-Signature: v=1; a=rsa-sha256; c=relaxed/relaxed; d=1e100.net; s=20230601; t=1733319707; x=1733924507; h=references:in-reply-to:cc:to:from:subject:message-id:date :x-gm-message-state:from:to:cc:subject:date:message-id:reply-to; bh=rczmWSbPEqf7dnz8HzzXDTa1610/96QnrdMvXiWGLFM=; b=Lqu6RPwkIrT36mP1b1/W42yDM9LVmbgrkF9MKg+QbmIbQSqwXT23QfppL+Oi4IJaHC jqRBTIg6fpdKviHv8Mi/MlZVxGoSD++c0sj8a7s/3fP4ueWk96RfGLOAX/KR5LblydLs cL8B6/j9FquHsVKuPOpWrd0cjIUnjreK7eQYyxJMpdTxhkCfpGhL98mAg7IZnT5S0/sU Np/lN4cmZBGcgDo8EMwfESVOU7rpuYbvDMo6nphZdKXMRBreG0zxpNyYajvWqlTb+Ka0 6tcAwrMDPNasyp51XoYbIP5VS5XvNHKxHbEpFFw6WH7m3BtASBJ6nBIDNXjHYe0AmKLj IFIA== X-Gm-Message-State: AOJu0YzWbqNHqXBQfygQFz9A2B4gK9FqnnNmSfyz3QFKxOr3AS2MogGD O1ZNBT68tDswvhpbj1INTYpJLp5GkmuJ2EiVIsklvAgvf9H9vladSClF9Ks3uyLs3cD7lIBh296 +nEuJb8CkiSEZTNBIh0q6Q4iIc8P8ZCZJ/6nGL1tg X-Gm-Gg: ASbGnctOPK4A1E3tlLd/vqAagyi1qLvdUhCnSBGfYFNDItV1Js30ai89QXskUd+ZaAA 0/YW/HmLZl3wYJqLhSpY2XFfuBCKfdE5/vGC6LsV9MWxsPmXl1vT8UtsJDNiFWfOO/GoZLeySZU Up+lfCB4VUnb2AbB3tAX+52Fo+iDWmninmE98GPdMbPOraoLzrZy5VkgFklfnbOyMUHXQ2e2QBI uCBmaPYe5OSYl2/mgzwUlunHiUKH019PmIJklsNchtzn0a1Pyqm5teO3QuTk8kL1xH3y1o= X-Google-Smtp-Source: AGHT+IHOQBrXD/8SqOs1unMj7Jc9Yx3UQZJZ6B/shsW5kG8dhM6fjzgn2axhiaudFOWF6WoMrKH279spCmte X-Received: by 2002:a17:902:d549:b0:215:5a82:3f8c with SMTP id d9443c01a7336-2155a82421cmr305754415ad.20.1733319707621; Wed, 04 Dec 2024 05:41:47 -0800 (PST) Received: from postal.iol.unh.edu (postal.iol.unh.edu. [132.177.123.84]) by smtp-relay.gmail.com with ESMTPS id d9443c01a7336-2154394436asm5175805ad.42.2024.12.04.05.41.47 (version=TLS1_2 cipher=ECDHE-ECDSA-AES128-GCM-SHA256 bits=128/128); Wed, 04 Dec 2024 05:41:47 -0800 (PST) X-Relaying-Domain: iol.unh.edu Date: Wed, 04 Dec 2024 05:41:47 -0800 (PST) Message-ID: <67505c1b.170a0220.51906.cedcSMTPIN_ADDED_MISSING@mx.google.com> Received: from [172.17.0.2] (unknown [172.18.0.217]) by postal.iol.unh.edu (Postfix) with ESMTP id 18CE46052471; Wed, 4 Dec 2024 08:41:47 -0500 (EST) Subject: |WARNING| pw149015 [PATCH] lib/gso: rte_gso_segment function increas From: dpdklab@iol.unh.edu To: Test Report Cc: dpdk-test-reports@iol.unh.edu In-Reply-To: <20241204024430.2749-1-18859237562@163.com> References: <20241204024430.2749-1-18859237562@163.com> Content-Type: text/plain X-BeenThere: test-report@dpdk.org X-Mailman-Version: 2.1.29 Precedence: list List-Id: automatic DPDK test reports List-Unsubscribe: , List-Archive: List-Post: List-Help: List-Subscribe: , Errors-To: test-report-bounces@dpdk.org Test-Label: iol-compile-amd64-testing Test-Status: WARNING http://dpdk.org/patch/149015 _Testing issues_ Submitter: 18859237562 <18859237562@163.com> Date: Wednesday, December 04 2024 02:44:30 DPDK git baseline: Repo:dpdk Branch: master CommitID:7df61db6c387703a36306c1aea92225921e2eeb2 149015 --> testing issues Upstream job id: Generic-DPDK-Compile-Meson#341156 Test environment and result as below: +---------------------+--------------------+------------------+-------------------+-------------------+-----------------------+----------------------+ | Environment | dpdk_meson_compile | dpdk_compile_ovs | dpdk_compile_spdk | dpdk_msvc_compile | dpdk_win_llvm_compile | dpdk_mingw64_compile | +=====================+====================+==================+===================+===================+=======================+======================+ | CentOS Stream 9 | PASS | PASS | PASS | SKIPPED | SKIPPED | SKIPPED | +---------------------+--------------------+------------------+-------------------+-------------------+-----------------------+----------------------+ | Debian 12 | PASS | PASS | PASS | SKIPPED | SKIPPED | SKIPPED | +---------------------+--------------------+------------------+-------------------+-------------------+-----------------------+----------------------+ | Fedora 39 (Clang) | PASS | PASS | PASS | SKIPPED | SKIPPED | SKIPPED | +---------------------+--------------------+------------------+-------------------+-------------------+-----------------------+----------------------+ | Fedora 39 | PASS | PASS | PASS | SKIPPED | SKIPPED | SKIPPED | +---------------------+--------------------+------------------+-------------------+-------------------+-----------------------+----------------------+ | Fedora 40 (Clang) | PASS | PASS | PASS | SKIPPED | SKIPPED | SKIPPED | +---------------------+--------------------+------------------+-------------------+-------------------+-----------------------+----------------------+ | Fedora 40 | PASS | PASS | PASS | SKIPPED | SKIPPED | SKIPPED | +---------------------+--------------------+------------------+-------------------+-------------------+-----------------------+----------------------+ | openSUSE Leap 15 | PASS | PASS | SKIPPED | SKIPPED | SKIPPED | SKIPPED | +---------------------+--------------------+------------------+-------------------+-------------------+-----------------------+----------------------+ | RHEL8 | PASS | PASS | SKIPPED | SKIPPED | SKIPPED | SKIPPED | +---------------------+--------------------+------------------+-------------------+-------------------+-----------------------+----------------------+ | Ubuntu 22.04 | PASS | PASS | PASS | SKIPPED | SKIPPED | SKIPPED | +---------------------+--------------------+------------------+-------------------+-------------------+-----------------------+----------------------+ | RHEL9 | PASS | PASS | SKIPPED | SKIPPED | SKIPPED | SKIPPED | +---------------------+--------------------+------------------+-------------------+-------------------+-----------------------+----------------------+ | Ubuntu 24.04 | PASS | PASS | PASS | SKIPPED | SKIPPED | SKIPPED | +---------------------+--------------------+------------------+-------------------+-------------------+-----------------------+----------------------+ | Ubuntu 20.04 | PASS | WARN | SKIPPED | SKIPPED | SKIPPED | SKIPPED | +---------------------+--------------------+------------------+-------------------+-------------------+-----------------------+----------------------+ | Alpine | PASS | PASS | SKIPPED | SKIPPED | SKIPPED | SKIPPED | +---------------------+--------------------+------------------+-------------------+-------------------+-----------------------+----------------------+ | FreeBSD 13.4 | PASS | SKIPPED | SKIPPED | SKIPPED | SKIPPED | SKIPPED | +---------------------+--------------------+------------------+-------------------+-------------------+-----------------------+----------------------+ | FreeBSD 14.1 | PASS | SKIPPED | SKIPPED | SKIPPED | SKIPPED | SKIPPED | +---------------------+--------------------+------------------+-------------------+-------------------+-----------------------+----------------------+ | Windows Server 2022 | SKIPPED | SKIPPED | SKIPPED | PASS | PASS | PASS | +---------------------+--------------------+------------------+-------------------+-------------------+-----------------------+----------------------+ ==== 20 line log output for Ubuntu 20.04 (dpdk_compile_ovs): ==== --- Failed to get log output --- ==== End log output ==== CentOS Stream 9 Kernel: Depends on container host Compiler: gcc 11.4.1 20231218 (Red Hat 11.4.1-3) Debian 12 Kernel: Depends on container host Compiler: gcc (Debian 12.2.0-14) 12.2.0 Fedora 39 (Clang) Kernel: Depends on container host Compiler: clang 17.0.6 (Fedora 17.0.6-2.fc39) Fedora 39 Kernel: Depends on container host Compiler: gcc 13.3.1 20240522 (Red Hat 13.3.1-1) Fedora 40 (Clang) Kernel: Depends on container host Compiler: clang 18.1.6 (Fedora 18.1.6-3.fc40) Fedora 40 Kernel: Depends on container host Compiler: gcc 14.2.1 20240801 (Red Hat 14.2.1-1) openSUSE Leap 15 Kernel: Depends on container host Compiler: gcc (SUSE Linux) 7.5.0 RHEL8 Kernel: Depends on container host Compiler: gcc 8.5.0 20210514 (Red Hat 8.5.0-22) Ubuntu 22.04 Kernel: Depends on container host Compiler: gcc (Ubuntu 11.4.0-1ubuntu1~22.04) 11.4.0 RHEL9 Kernel: Depends on container host Compiler: gcc 11.4.1 20231218 (Red Hat 11.4.1-3) Ubuntu 24.04 Kernel: Depends on container host Compiler: gcc (Ubuntu 13.2.0-23ubuntu4) 13.2.0 Ubuntu 20.04 Kernel: Depends on container host Compiler: gcc (Ubuntu 9.4.0-1ubuntu1~20.04.2) 9.4.0 Alpine Kernel: Depends on container host Compiler: gcc (Alpine 13.2.1_git20240309) 13.2.1 20240309 FreeBSD 13.4 Kernel: 13.4-RELEASE-p1 Compiler: clang 18.1.6 FreeBSD 14.1 Kernel: 14.1-RELEASE-p3 Compiler: clang 18.1.5 Windows Server 2022 Kernel: 10.0.20348.2031 Compiler: clang 15.0.7, gcc 14.1.0 (MinGW), and MSVC VS 19.39.33521 To view detailed results, visit: https://lab.dpdk.org/results/dashboard/patchsets/32083/ UNH-IOL DPDK Community Lab To manage your email subscriptions, visit: https://lab.dpdk.org/results/dashboard/preferences/subscriptions/