From mboxrd@z Thu Jan 1 00:00:00 1970 Return-Path: Received: from mails.dpdk.org (mails.dpdk.org [217.70.189.124]) by inbox.dpdk.org (Postfix) with ESMTP id 499E145E2F for ; Wed, 4 Dec 2024 14:55:16 +0100 (CET) Received: from mails.dpdk.org (localhost [127.0.0.1]) by mails.dpdk.org (Postfix) with ESMTP id 2876340A89; Wed, 4 Dec 2024 14:55:16 +0100 (CET) Received: from mail-qv1-f99.google.com (mail-qv1-f99.google.com [209.85.219.99]) by mails.dpdk.org (Postfix) with ESMTP id C412040A87 for ; Wed, 4 Dec 2024 14:55:14 +0100 (CET) Received: by mail-qv1-f99.google.com with SMTP id 6a1803df08f44-6d8d44e177cso950166d6.1 for ; Wed, 04 Dec 2024 05:55:14 -0800 (PST) DKIM-Signature: v=1; a=rsa-sha256; c=relaxed/relaxed; d=iol.unh.edu; s=unh-iol; t=1733320514; x=1733925314; darn=dpdk.org; h=references:in-reply-to:cc:to:from:subject:message-id:date:from:to :cc:subject:date:message-id:reply-to; bh=8Egg8U/aLieMIvvMxBpoDUVORxFwcTXeNVS5VorCgaE=; b=cl++Bp5fTqdjtNkvrzHuWAnsovLHdCyd2PNaZIknfiSj5Qwomnvc+q+nUtLQnbaJPc SRg8ggReuEWXLP5nVYARa3BCBcEWf4yGjz3M+dn9/C35NGo/r1cSBARfQRtuHQVw66A6 oZbAC4CU1pk4uYAY2bVDxPIgTJ8mbrbJqvt/4= X-Google-DKIM-Signature: v=1; a=rsa-sha256; c=relaxed/relaxed; d=1e100.net; s=20230601; t=1733320514; x=1733925314; h=references:in-reply-to:cc:to:from:subject:message-id:date :x-gm-message-state:from:to:cc:subject:date:message-id:reply-to; bh=8Egg8U/aLieMIvvMxBpoDUVORxFwcTXeNVS5VorCgaE=; b=KOaOZobQRNKyafX0mw1moerRHHy8MU9+UYx1Q581iZyAe0OE40fg9hjribfXCkJl5I NPPg1lG+UfsekLM9rObWipEX+HgvVSdZSwDiyCRD2o+tbyBSor20O+YDxVm1KXBupm8X sEIOK41FjiYjFpIZh3XbCvo6VXAC5/YixRggRQlJ2iDefelqibUababEcFldMQPvPmMx tjZljL5+FI3fIeuijrL1IIBd6BfHYig5kK8PCSltUhpOHbdbfd/KNwjG1R/4t5pisgfl KifwZlRIAuSJGHH6jbLtPWCb7p4LpfbBLlT/TlpFJep+KUw6YPa7CYlZVw7UEF3yS0PN ORZw== X-Gm-Message-State: AOJu0Yw7ZdXvK7IGAgZctGPUORcJ/fmcBYXMnQPcvR9UwUeJdR2u0cWO NoGj0BAFoY9hVxWjV040Mywb1I39Ri5ndH+0tzxMfl5a3PXX96O3/lGVynZ4TjWCw7gMbJoAzSG PynC4HfD1OOwv19jtA0GsLxwDbBK/FN0YzB2QVXTe4xw62FEt4nX03Rsm X-Gm-Gg: ASbGnctCZ2YZQRKCE7KGa9zblRZcuWQpWtMu4nyvSCfWLKUY8qCECfUKiYYSQLzmVJ5 2TZpkZtX7F2sYFgsEVJP4jo19C/juSb5Uh+6ECbpfUkhmnPD6sK+bzeZnVpn8bS1lxyfX45bXX5 1YpY+BDINu1H6mP/rIeOpAWOeqGz4ehd2tOLPH6wtgxmvNxAS3/vOjJPnIRxERIKWFAxhd6Y6bP at0Aab5E9BdKIgZbL3qVoW2/8yzjUGYhOaSHxuHS5kTkzdy19QZ3PmJ2Ci+A1zMXaeLq/mvUh4= X-Google-Smtp-Source: AGHT+IH4nsupzXYDpz+7HTgQW0aIFlci2eSM1mjm1rxC10HahNZTcp8t4IGqX+c06ZbOaN1/hXntoG7aHlDu X-Received: by 2002:a0c:f34a:0:b0:6d8:d024:bc41 with SMTP id 6a1803df08f44-6d8d024bd31mr19494826d6.19.1733320514139; Wed, 04 Dec 2024 05:55:14 -0800 (PST) Received: from postal.iol.unh.edu (postal.iol.unh.edu. [2606:4100:3880:1234::84]) by smtp-relay.gmail.com with ESMTPS id 6a1803df08f44-6d8bc2e93a7sm1678926d6.21.2024.12.04.05.55.14 (version=TLS1_2 cipher=ECDHE-ECDSA-AES128-GCM-SHA256 bits=128/128); Wed, 04 Dec 2024 05:55:14 -0800 (PST) X-Relaying-Domain: iol.unh.edu Date: Wed, 04 Dec 2024 05:55:14 -0800 (PST) Message-ID: <67505f42.d40a0220.2670e9.a067SMTPIN_ADDED_MISSING@mx.google.com> Received: from [172.17.0.3] (unknown [172.18.0.217]) by postal.iol.unh.edu (Postfix) with ESMTP id A0F106052471; Wed, 4 Dec 2024 08:55:13 -0500 (EST) Subject: |SUCCESS| pw149015 [PATCH] lib/gso: rte_gso_segment function increas From: dpdklab@iol.unh.edu To: Test Report Cc: dpdk-test-reports@iol.unh.edu In-Reply-To: <20241204024430.2749-1-18859237562@163.com> References: <20241204024430.2749-1-18859237562@163.com> Content-Type: text/plain X-BeenThere: test-report@dpdk.org X-Mailman-Version: 2.1.29 Precedence: list List-Id: automatic DPDK test reports List-Unsubscribe: , List-Archive: List-Post: List-Help: List-Subscribe: , Errors-To: test-report-bounces@dpdk.org Test-Label: iol-unit-arm64-testing Test-Status: SUCCESS http://dpdk.org/patch/149015 _Testing PASS_ Submitter: 18859237562 <18859237562@163.com> Date: Wednesday, December 04 2024 02:44:30 DPDK git baseline: Repo:dpdk Branch: master CommitID:7df61db6c387703a36306c1aea92225921e2eeb2 149015 --> testing pass Upstream job id: Aarch32-Unit-Test#4566 Test environment and result as below: +-----------------------------+----------------+--------------+---------------------------+------------------------------+ | Environment | dpdk_unit_test | lpm_autotest | cryptodev_sw_zuc_autotest | cryptodev_sw_snow3g_autotest | +=============================+================+==============+===========================+==============================+ | Fedora 40 (ARM Clang) | PASS | SKIPPED | SKIPPED | SKIPPED | +-----------------------------+----------------+--------------+---------------------------+------------------------------+ | Fedora 39 (ARM) | PASS | SKIPPED | SKIPPED | SKIPPED | +-----------------------------+----------------+--------------+---------------------------+------------------------------+ | CentOS Stream 9 (ARM) | PASS | SKIPPED | SKIPPED | SKIPPED | +-----------------------------+----------------+--------------+---------------------------+------------------------------+ | Fedora 39 (ARM Clang) | PASS | SKIPPED | SKIPPED | SKIPPED | +-----------------------------+----------------+--------------+---------------------------+------------------------------+ | Debian 12 (arm) | PASS | SKIPPED | PASS | PASS | +-----------------------------+----------------+--------------+---------------------------+------------------------------+ | RHEL9 (ARM) | PASS | SKIPPED | SKIPPED | SKIPPED | +-----------------------------+----------------+--------------+---------------------------+------------------------------+ | Fedora 40 (ARM) | PASS | SKIPPED | SKIPPED | SKIPPED | +-----------------------------+----------------+--------------+---------------------------+------------------------------+ | Ubuntu 20.04 (ARM) | PASS | SKIPPED | SKIPPED | SKIPPED | +-----------------------------+----------------+--------------+---------------------------+------------------------------+ | Ubuntu 24.04 (ARM) | PASS | SKIPPED | SKIPPED | SKIPPED | +-----------------------------+----------------+--------------+---------------------------+------------------------------+ | Ubuntu 22.04 (ARM) | PASS | SKIPPED | SKIPPED | SKIPPED | +-----------------------------+----------------+--------------+---------------------------+------------------------------+ | 32-bit Ubuntu 22.04.4 (ARM) | PASS | SKIPPED | SKIPPED | SKIPPED | +-----------------------------+----------------+--------------+---------------------------+------------------------------+ | Ubuntu 20.04 ARM SVE | SKIPPED | PASS | SKIPPED | SKIPPED | +-----------------------------+----------------+--------------+---------------------------+------------------------------+ Fedora 40 (ARM Clang) Kernel: Depends on container host Compiler: clang 18.1.6 (Fedora 18.1.6-3.fc40) Fedora 39 (ARM) Kernel: Depends on container host Compiler: gcc 13.3.1 20240522 (Red Hat 13.3.1-1) CentOS Stream 9 (ARM) Kernel: Depends on container host Compiler: gcc 11.4.1 20231218 (Red Hat 11.4.1-3) Fedora 39 (ARM Clang) Kernel: Depends on container host Compiler: clang 17.0.6 (Fedora 17.0.6-2.fc39) Debian 12 (arm) Kernel: Depends on container host Compiler: gcc (Debian 12.2.0-14) 12.2.0 RHEL9 (ARM) Kernel: Depends on container host Compiler: gcc 11.4.1 20231218 (Red Hat 11.4.1-3) Fedora 40 (ARM) Kernel: Depends on container host Compiler: gcc 14.2.1 20240801 (Red Hat 14.2.1-1) Ubuntu 20.04 (ARM) Kernel: Depends on container host Compiler: gcc (Ubuntu 9.4.0-1ubuntu1~20.04.2) 9.4.0 Ubuntu 24.04 (ARM) Kernel: Depends on container host Compiler: gcc (Ubuntu 13.2.0-23ubuntu4) 13.2.0 Ubuntu 22.04 (ARM) Kernel: Depends on container host Compiler: gcc (Ubuntu 11.4.0-1ubuntu1~22.04) 11.4.0 32-bit Ubuntu 22.04.4 (ARM) Kernel: 5.15.83+ aarch64 Compiler: gcc (Ubuntu 11.4.0-1ubuntu1~22.04) 11.4.0 Ubuntu 20.04 ARM SVE Kernel: Depends on container host Compiler: gcc (Ubuntu 10.5.0-1ubuntu1~20.04) 10.5.0 To view detailed results, visit: https://lab.dpdk.org/results/dashboard/patchsets/32083/ UNH-IOL DPDK Community Lab To manage your email subscriptions, visit: https://lab.dpdk.org/results/dashboard/preferences/subscriptions/