From mboxrd@z Thu Jan 1 00:00:00 1970 Return-Path: Received: from mails.dpdk.org (mails.dpdk.org [217.70.189.124]) by inbox.dpdk.org (Postfix) with ESMTP id C391645E2F for ; Wed, 4 Dec 2024 15:38:53 +0100 (CET) Received: from mails.dpdk.org (localhost [127.0.0.1]) by mails.dpdk.org (Postfix) with ESMTP id 9B06F40A89; Wed, 4 Dec 2024 15:38:53 +0100 (CET) Received: from mail-pf1-f227.google.com (mail-pf1-f227.google.com [209.85.210.227]) by mails.dpdk.org (Postfix) with ESMTP id 8DFB140A87 for ; Wed, 4 Dec 2024 15:38:52 +0100 (CET) Received: by mail-pf1-f227.google.com with SMTP id d2e1a72fcca58-724d57a9f7cso6042769b3a.3 for ; Wed, 04 Dec 2024 06:38:52 -0800 (PST) DKIM-Signature: v=1; a=rsa-sha256; c=relaxed/relaxed; d=iol.unh.edu; s=unh-iol; t=1733323131; x=1733927931; darn=dpdk.org; h=references:in-reply-to:cc:to:from:subject:message-id:date:from:to :cc:subject:date:message-id:reply-to; bh=wyUeHdeRxntwqydqcDhewiadtBQ486rc7hkSds0Tq28=; b=CShBA5pcXhOuUw3dJ8XoJAOyoI4R2M9Ds6jJ9MoZcUNs3WX322a0oLkMk4rxrjbQaH OMjYBNdhh/cJ2QL1/+gsYCji508RFA0HWnCThldEi1o1NOdEHChIDuxN9C4n0lpvRgM+ q8GQNYEygjVCLx82Bq2CGj07wATy7jCFBHQgY= X-Google-DKIM-Signature: v=1; a=rsa-sha256; c=relaxed/relaxed; d=1e100.net; s=20230601; t=1733323131; x=1733927931; h=references:in-reply-to:cc:to:from:subject:message-id:date :x-gm-message-state:from:to:cc:subject:date:message-id:reply-to; bh=wyUeHdeRxntwqydqcDhewiadtBQ486rc7hkSds0Tq28=; b=LJyitrd3lqeRfyZLD87DwGKhMAFxi2Upco6A3LFkDUpkt7RCOMuBvmr/EmrdfJgWFP pa5O5CLKT2fGvPBJVhf2ihKYKFmVGRW58v+h/jRifRPH7WNI1FX5ytcgL4OriHlnJn/v Mdb+NRFmifMojCNsgAUxuJGMKO5+sREN9XAE/scWNEmIL78MPVeVhRdPKzPOnaiKaaKX s2eOL4ohqX7l7RuGiDVtpfL5KBiWmsG8Ib9nJVAz4sDTSCkELpcaNChBMCQXNgvIl8xe sgjs67e0NorYly8+hJGPPBRXs6Ubj8johAlcOQWdQc/PC7urXvFyJeO+ERroD3570J7d IeVg== X-Gm-Message-State: AOJu0Yz7kyBXium8facL39MzCi6SAlwWeo93ogPx6lKpCQHspD57gcKL XqhA9JOLjHO5mYZzOvMTWgjV56l8m2QkSIqQrczOZ7BYlo8kJWo5cTrxzJc3+camXzLLmT6Fu6h 5YzL9oaLdXNTthKkZQpXmBhYxG3XYHDiedZmIm+ks X-Gm-Gg: ASbGnctRNPgGCDV/fR4/i84M6kkepnSSz2fmodLyArwyfrR/Sk4iTtjCkuFpOhUq/f4 U8bdYjPZwtdHsdRGzQWpH/qdaX8bwyWME8dWuk4cm6djrTzPOsQ5nZLPyrYTT6p74izgi4yHJeA s2eh2U6cxZd4YOgTlByPk/gGlo1cQKYtNR4KujUaAl5gZ7R2jKFAjSTwnUX/ORgGUxjqTEWPyXn Tpf+s4J5dWWCf4zUF6A+JhdCx0gS7wLsmEuhYVzZqRXA6uxLOWh2HINlojzHkRvX03bc9s= X-Google-Smtp-Source: AGHT+IGsmRO2Der0CPGfIjBOcy2NHpVUVdal+C62e6uHgQw9Xm//9XkAe/cQK0QK0paooawznSEPCOzhWlRS X-Received: by 2002:a17:902:d4d2:b0:215:827e:3a6 with SMTP id d9443c01a7336-215bd16863amr83389885ad.40.1733323131580; Wed, 04 Dec 2024 06:38:51 -0800 (PST) Received: from postal.iol.unh.edu (postal.iol.unh.edu. [132.177.123.84]) by smtp-relay.gmail.com with ESMTPS id d9443c01a7336-21596a79795sm2893045ad.16.2024.12.04.06.38.51 (version=TLS1_2 cipher=ECDHE-ECDSA-AES128-GCM-SHA256 bits=128/128); Wed, 04 Dec 2024 06:38:51 -0800 (PST) X-Relaying-Domain: iol.unh.edu Date: Wed, 04 Dec 2024 06:38:51 -0800 (PST) Message-ID: <6750697b.170a0220.2eb00f.0c05SMTPIN_ADDED_MISSING@mx.google.com> Received: from [172.17.0.2] (unknown [172.18.0.217]) by postal.iol.unh.edu (Postfix) with ESMTP id C71B16052471; Wed, 4 Dec 2024 09:38:50 -0500 (EST) Subject: |SUCCESS| pw149010 [PATCH] cryptodev: not close device when secondar From: dpdklab@iol.unh.edu To: Test Report Cc: dpdk-test-reports@iol.unh.edu In-Reply-To: <20241204024630.2869-1-ming.1.yang@nokia-sbell.com> References: <20241204024630.2869-1-ming.1.yang@nokia-sbell.com> Content-Type: text/plain X-BeenThere: test-report@dpdk.org X-Mailman-Version: 2.1.29 Precedence: list List-Id: automatic DPDK test reports List-Unsubscribe: , List-Archive: List-Post: List-Help: List-Subscribe: , Errors-To: test-report-bounces@dpdk.org Test-Label: iol-compile-arm64-testing Test-Status: SUCCESS http://dpdk.org/patch/149010 _Testing PASS_ Submitter: Yang Ming Date: Wednesday, December 04 2024 02:46:29 DPDK git baseline: Repo:dpdk Branch: master CommitID:4843aacb0d1201fef37e8a579fcd8baec4acdf98 149010 --> testing pass Upstream job id: Generic-DPDK-Compile-Meson#341144 Test environment and result as below: +----------------------------------------+--------------------+ | Environment | dpdk_meson_compile | +========================================+====================+ | RHEL9 (ARM) | PASS | +----------------------------------------+--------------------+ | Ubuntu 20.04 ARM GCC Cross Compile | PASS | +----------------------------------------+--------------------+ | Fedora 39 (ARM Clang) | PASS | +----------------------------------------+--------------------+ | Fedora 39 (ARM) | PASS | +----------------------------------------+--------------------+ | Ubuntu 20.04 ARM SVE | PASS | +----------------------------------------+--------------------+ | Debian 12 with MUSDK | PASS | +----------------------------------------+--------------------+ | Fedora 40 (ARM) | PASS | +----------------------------------------+--------------------+ | Ubuntu 24.04 (ARM) | PASS | +----------------------------------------+--------------------+ | Ubuntu 22.04 (ARM) | PASS | +----------------------------------------+--------------------+ | CentOS Stream 9 (ARM) | PASS | +----------------------------------------+--------------------+ | Ubuntu 20.04 (ARM) | PASS | +----------------------------------------+--------------------+ | Fedora 40 (ARM Clang) | PASS | +----------------------------------------+--------------------+ | Ubuntu 20.04 ARM Clang Cross Compile | PASS | +----------------------------------------+--------------------+ | Ubuntu 20.04 aarch32 GCC Cross Compile | PASS | +----------------------------------------+--------------------+ | Debian 12 (arm) | PASS | +----------------------------------------+--------------------+ RHEL9 (ARM) Kernel: Depends on container host Compiler: gcc 11.4.1 20231218 (Red Hat 11.4.1-3) Ubuntu 20.04 ARM GCC Cross Compile Kernel: Depends on container host Compiler: aarch64-linux-gnu-gcc (Ubuntu 9.4.0-1ubuntu1~20.04.2) 9.4.0 Fedora 39 (ARM Clang) Kernel: Depends on container host Compiler: clang 17.0.6 (Fedora 17.0.6-2.fc39) Fedora 39 (ARM) Kernel: Depends on container host Compiler: gcc 13.3.1 20240522 (Red Hat 13.3.1-1) Ubuntu 20.04 ARM SVE Kernel: Depends on container host Compiler: gcc (Ubuntu 10.5.0-1ubuntu1~20.04) 10.5.0 Debian 12 with MUSDK Kernel: Depends on container host Compiler: gcc (Debian 12.2.0-14) 12.2.0 Fedora 40 (ARM) Kernel: Depends on container host Compiler: gcc 14.2.1 20240801 (Red Hat 14.2.1-1) Ubuntu 24.04 (ARM) Kernel: Depends on container host Compiler: gcc (Ubuntu 13.2.0-23ubuntu4) 13.2.0 Ubuntu 22.04 (ARM) Kernel: Depends on container host Compiler: gcc (Ubuntu 11.4.0-1ubuntu1~22.04) 11.4.0 CentOS Stream 9 (ARM) Kernel: Depends on container host Compiler: gcc 11.4.1 20231218 (Red Hat 11.4.1-3) Ubuntu 20.04 (ARM) Kernel: Depends on container host Compiler: gcc (Ubuntu 9.4.0-1ubuntu1~20.04.2) 9.4.0 Fedora 40 (ARM Clang) Kernel: Depends on container host Compiler: clang 18.1.6 (Fedora 18.1.6-3.fc40) Ubuntu 20.04 ARM Clang Cross Compile Kernel: Depends on container host Compiler: clang 10.0.0-4ubuntu1 Ubuntu 20.04 aarch32 GCC Cross Compile Kernel: Depends on container host Compiler: gcc 9.4.0 Debian 12 (arm) Kernel: Depends on container host Compiler: gcc (Debian 12.2.0-14) 12.2.0 To view detailed results, visit: https://lab.dpdk.org/results/dashboard/patchsets/32079/ UNH-IOL DPDK Community Lab To manage your email subscriptions, visit: https://lab.dpdk.org/results/dashboard/preferences/subscriptions/