From mboxrd@z Thu Jan 1 00:00:00 1970 Return-Path: Received: from mails.dpdk.org (mails.dpdk.org [217.70.189.124]) by inbox.dpdk.org (Postfix) with ESMTP id 8469C45E30 for ; Wed, 4 Dec 2024 16:42:32 +0100 (CET) Received: from mails.dpdk.org (localhost [127.0.0.1]) by mails.dpdk.org (Postfix) with ESMTP id 6153440DCE; Wed, 4 Dec 2024 16:42:32 +0100 (CET) Received: from mail-qv1-f100.google.com (mail-qv1-f100.google.com [209.85.219.100]) by mails.dpdk.org (Postfix) with ESMTP id 1DF1B40A6D for ; Wed, 4 Dec 2024 16:42:31 +0100 (CET) Received: by mail-qv1-f100.google.com with SMTP id 6a1803df08f44-6d8d44e177cso2366886d6.1 for ; Wed, 04 Dec 2024 07:42:31 -0800 (PST) DKIM-Signature: v=1; a=rsa-sha256; c=relaxed/relaxed; d=iol.unh.edu; s=unh-iol; t=1733326950; x=1733931750; darn=dpdk.org; h=references:in-reply-to:cc:to:from:subject:message-id:date:from:to :cc:subject:date:message-id:reply-to; bh=bSMW0Ft884lYdTPb4FTyzlgO1XBRV1AmezCjkNOG+Mk=; b=MIcgFDG1D/SaeEol1e2A1cpiwaFcaHShlYg95Z2xzZXB4cH5R75w/ptwJOa19qQhnc Yp3AzHKq3XBRhjaRYiy8yjZ2Qjcoz8w30m7qasltkdwb7o2mx34CKC1kGjApnuvzYeKD yqpqtMZjzX+YRZA3BTgX7xU8XTC7+jk2vGstk= X-Google-DKIM-Signature: v=1; a=rsa-sha256; c=relaxed/relaxed; d=1e100.net; s=20230601; t=1733326950; x=1733931750; h=references:in-reply-to:cc:to:from:subject:message-id:date :x-gm-message-state:from:to:cc:subject:date:message-id:reply-to; bh=bSMW0Ft884lYdTPb4FTyzlgO1XBRV1AmezCjkNOG+Mk=; b=mnLiL5dlHuMVcJOjZK2GfttqDp05MT5ZpltnDuQNFtdkRkolAEBCOWA5Q6XjNBuA7u 3scC9G3bzgiM6GnGwkBDDQEnlTruSOCi6B3cJh/fRZcaTKsLOBiY41GgBCn1alA3xnzV 2p++0RBStnVV+EUhKL9wyqFBgbp7zR0iCZT3D0AOIZ5NXcZGaThshWWJ8SAGz38oDV29 im6vUsJwzL3f74663TwpA98PbyzIokVck5Bj1dXq1KIDpuVRem+1Tr0AUJVHhjSyOGGh 9M0hWRotUXX+0TM+5NayeNOLThA7BlGdpYKUpyL1n2GqXoFnK7h09BIdzakIhzHftqyV tWuw== X-Gm-Message-State: AOJu0Yw4ynNO82SOgUkilI4xS3F3LWAHjZluaH4RO8dCQKnT81B+kSL8 JURVcNt7lpDdpSg/zI9Q9NRLIRjn9s0rPhmXFOo3JlwUgujjLfIq1Ucws1Bn3VZjaItKdMOaHHZ vABaPKnhUaXyhHcMz2tCKuhB71gAiJIf3lIK+g400 X-Gm-Gg: ASbGnctzuCNZE9CZdkCFLqr3KA3XQ/VypEl6x57pLlClos39f6Vof4n8dHqk6wjhu+z hQiJdOuN5oFvLGjNaEt+x1yE+v1VZUx9Oo8XK0IrcM0uHScxZyOilan/KfjyUnCjRjpwUWAjbVG CqBh5yVi84iqMCuzoDSJozmLKB8tJ2kFYhDzFWELZJbXQPnwGeUhGw97Epwpo34rVy214OCH9md uTSmwq57q8yGS2rcXv9mcdiQ2RFpnyL1LtsmbqsblWlVDWvY+frmxPliJsY8zWaVLjf8Tk= X-Google-Smtp-Source: AGHT+IHcCRY4aVZ1SbZXp/pXJLv3ZBxXU6tIhWACV4elbSnQSnCy8VXFvrjXMrHjgLLYQiez7PeJj5OOMYZ7 X-Received: by 2002:a05:6214:301a:b0:6d8:88c2:af5f with SMTP id 6a1803df08f44-6d8b8d60a77mr115187796d6.1.1733326950470; Wed, 04 Dec 2024 07:42:30 -0800 (PST) Received: from postal.iol.unh.edu (postal.iol.unh.edu. [132.177.123.84]) by smtp-relay.gmail.com with ESMTPS id 6a1803df08f44-6d87522ccdesm7224056d6.62.2024.12.04.07.42.30 (version=TLS1_2 cipher=ECDHE-ECDSA-AES128-GCM-SHA256 bits=128/128); Wed, 04 Dec 2024 07:42:30 -0800 (PST) X-Relaying-Domain: iol.unh.edu Date: Wed, 04 Dec 2024 07:42:30 -0800 (PST) Message-ID: <67507866.050a0220.3dd67.9746SMTPIN_ADDED_MISSING@mx.google.com> Received: from [172.17.0.2] (unknown [172.18.0.217]) by postal.iol.unh.edu (Postfix) with ESMTP id 29E3D6052471; Wed, 4 Dec 2024 10:42:30 -0500 (EST) Subject: |SUCCESS| pw149011 [PATCH] lib/fib: remove warning about implicit 64 From: dpdklab@iol.unh.edu To: Test Report Cc: dpdk-test-reports@iol.unh.edu In-Reply-To: <1733281010-23780-1-git-send-email-andremue@linux.microsoft.com> References: <1733281010-23780-1-git-send-email-andremue@linux.microsoft.com> Content-Type: text/plain X-BeenThere: test-report@dpdk.org X-Mailman-Version: 2.1.29 Precedence: list List-Id: automatic DPDK test reports List-Unsubscribe: , List-Archive: List-Post: List-Help: List-Subscribe: , Errors-To: test-report-bounces@dpdk.org Test-Label: iol-sample-apps-testing Test-Status: SUCCESS http://dpdk.org/patch/149011 _Testing PASS_ Submitter: Andre Muezerie Date: Wednesday, December 04 2024 02:56:50 DPDK git baseline: Repo:dpdk Branch: master CommitID:7df61db6c387703a36306c1aea92225921e2eeb2 149011 --> testing pass Upstream job id: ACVP-FIPS-testing#8212 Test environment and result as below: +--------------------+----------------------+----------------------+ | Environment | compressdev_zlib_pmd | dpdk_fips_validation | +====================+======================+======================+ | Ubuntu 22.04 (ARM) | PASS | SKIPPED | +--------------------+----------------------+----------------------+ | Ubuntu 22.04 | PASS | SKIPPED | +--------------------+----------------------+----------------------+ | Ubuntu 20.04 | SKIPPED | PASS | +--------------------+----------------------+----------------------+ Ubuntu 22.04 (ARM) Kernel: 5.15.0-97-generic Compiler: gcc gcc (Ubuntu 11.4.0-1ubuntu1~22.04) 11.4.0 Ubuntu 22.04 Kernel: 5.15.0-100-generic Compiler: gcc gcc (Ubuntu 11.4.0-1ubuntu1~22.04) 11.4.0 Ubuntu 20.04 Kernel: Depends on container host Compiler: gcc (Ubuntu 9.4.0-1ubuntu1~20.04.2) 9.4.0 To view detailed results, visit: https://lab.dpdk.org/results/dashboard/patchsets/32080/ UNH-IOL DPDK Community Lab To manage your email subscriptions, visit: https://lab.dpdk.org/results/dashboard/preferences/subscriptions/