From mboxrd@z Thu Jan 1 00:00:00 1970 Return-Path: Received: from mails.dpdk.org (mails.dpdk.org [217.70.189.124]) by inbox.dpdk.org (Postfix) with ESMTP id 883A545E30 for ; Wed, 4 Dec 2024 17:08:08 +0100 (CET) Received: from mails.dpdk.org (localhost [127.0.0.1]) by mails.dpdk.org (Postfix) with ESMTP id 669EC40A87; Wed, 4 Dec 2024 17:08:08 +0100 (CET) Received: from mail-pl1-f227.google.com (mail-pl1-f227.google.com [209.85.214.227]) by mails.dpdk.org (Postfix) with ESMTP id 3630140A6D for ; Wed, 4 Dec 2024 17:08:07 +0100 (CET) Received: by mail-pl1-f227.google.com with SMTP id d9443c01a7336-215936688aeso35588615ad.1 for ; Wed, 04 Dec 2024 08:08:07 -0800 (PST) DKIM-Signature: v=1; a=rsa-sha256; c=relaxed/relaxed; d=iol.unh.edu; s=unh-iol; t=1733328486; x=1733933286; darn=dpdk.org; h=references:in-reply-to:cc:to:from:subject:message-id:date:from:to :cc:subject:date:message-id:reply-to; bh=xGHGVMHRzms4ccyg9xuKijBFma5bcT57GUMph1MXV+s=; b=i3fgZjwILU8l/z5c5/Mg41u4KAdLDbdWvU4pcHEbTGDbiM7JKKW6mQDC1Ebks/mxdZ 4jS2AVA92klGE25PjrQbZ77I5zaEjqajNzdbMEiHySmAv1u9o++yLncaH/lSEPUOF21o JIdNkT02fZ5StEddrTJDbApQhTbmivvIMRsIY= X-Google-DKIM-Signature: v=1; a=rsa-sha256; c=relaxed/relaxed; d=1e100.net; s=20230601; t=1733328486; x=1733933286; h=references:in-reply-to:cc:to:from:subject:message-id:date :x-gm-message-state:from:to:cc:subject:date:message-id:reply-to; bh=xGHGVMHRzms4ccyg9xuKijBFma5bcT57GUMph1MXV+s=; b=NT7Lu3+z+VcCYxl9KTT2ehrQLumVYE/pi0Sz0poVtaezsxz9v9//BtV0YNuugQri5a z12XBxOE9Ekyb6OHz5nNeDIZiDtbI18VsjJ8QfUf7CZXTi5gAWfn+v3RpKev6doKQGrq cIu13dEBUKmbDcLBkPwtz82FnqmXJRtQs8V2DxTeuFoNiGnHOp0/UKtV3IyIvfiRAgRq XDUPv1TI/6RrpYr0Rap04zcmGUYGzOBrKyIMYCUzE52IkdbcanYArn4T661TkGghYFwl avAMFRuhTDYI/SMipaSwjsP3hGCv5L/6WTp9TN6e/CSjH/KwOtELNPM0gUlI4NNcvJVe QuSQ== X-Gm-Message-State: AOJu0YxLAHDJ+s0yOdxTDQTd+GSgh1AS7QX1DahUWvt2n7jMtnI5pMJe tbpjbS4nabh/Jdml1+JdvOudlnQAwnhFOMCzB/dskMnePqfCatLXaYzhT+lsK60+dJY+Ng3IqLJ 2nMHjdw2A8ubNeGwixRqH8TxhS7k5ykHQ5igcelVA X-Gm-Gg: ASbGnct+qAGwJ+konMxJ9sReKvUP6yq7z+Rm5R+dY/DONd7hSEG1cSj31iQjtr2ff3L PWZGTXatISVtXhnmZ2JIKD8STOXPmCxpIou6/Ca8maOdg772DAJH285CQSuI4K46qt4oHbnANGT +O314ZL8+u0H/dSAvofoFEKaEFirWDbwfxG/Uf6TwXg6eRkUjiGWtq6fqd5fWP94jLwNJsOTARg siz6jRIhv40vwYRIvLb3AasNABFgcBx7S2dUDy5zdbFjUgV6C0Dr/WjZCDPfNJJ8L+TcvM= X-Google-Smtp-Source: AGHT+IFukFPCKk7eq01KxjMqE9VOs/7hoNCoZFtn8RCHVw9nMDauMqYlwFk2vQISDLlxDtM9qmRlgpvr8bnW X-Received: by 2002:a17:902:c952:b0:215:713a:5fe5 with SMTP id d9443c01a7336-215d0076750mr62467835ad.34.1733328485865; Wed, 04 Dec 2024 08:08:05 -0800 (PST) Received: from postal.iol.unh.edu (postal.iol.unh.edu. [132.177.123.84]) by smtp-relay.gmail.com with ESMTPS id d9443c01a7336-21591373466sm3090695ad.117.2024.12.04.08.08.05 (version=TLS1_2 cipher=ECDHE-ECDSA-AES128-GCM-SHA256 bits=128/128); Wed, 04 Dec 2024 08:08:05 -0800 (PST) X-Relaying-Domain: iol.unh.edu Date: Wed, 04 Dec 2024 08:08:05 -0800 (PST) Message-ID: <67507e65.170a0220.139851.1e59SMTPIN_ADDED_MISSING@mx.google.com> Received: from [172.17.0.2] (unknown [172.18.0.217]) by postal.iol.unh.edu (Postfix) with ESMTP id 5415A6052471; Wed, 4 Dec 2024 11:08:05 -0500 (EST) Subject: |SUCCESS| pw149011 [PATCH] lib/fib: remove warning about implicit 64 From: dpdklab@iol.unh.edu To: Test Report Cc: dpdk-test-reports@iol.unh.edu In-Reply-To: <1733281010-23780-1-git-send-email-andremue@linux.microsoft.com> References: <1733281010-23780-1-git-send-email-andremue@linux.microsoft.com> Content-Type: text/plain X-BeenThere: test-report@dpdk.org X-Mailman-Version: 2.1.29 Precedence: list List-Id: automatic DPDK test reports List-Unsubscribe: , List-Archive: List-Post: List-Help: List-Subscribe: , Errors-To: test-report-bounces@dpdk.org Test-Label: iol-compile-arm64-testing Test-Status: SUCCESS http://dpdk.org/patch/149011 _Testing PASS_ Submitter: Andre Muezerie Date: Wednesday, December 04 2024 02:56:50 DPDK git baseline: Repo:dpdk Branch: master CommitID:7df61db6c387703a36306c1aea92225921e2eeb2 149011 --> testing pass Upstream job id: Generic-DPDK-Compile-Meson#341116 Test environment and result as below: +----------------------------------------+--------------------+ | Environment | dpdk_meson_compile | +========================================+====================+ | RHEL9 (ARM) | PASS | +----------------------------------------+--------------------+ | Ubuntu 20.04 ARM GCC Cross Compile | PASS | +----------------------------------------+--------------------+ | Debian 12 with MUSDK | PASS | +----------------------------------------+--------------------+ | Ubuntu 20.04 ARM SVE | PASS | +----------------------------------------+--------------------+ | Fedora 39 (ARM) | PASS | +----------------------------------------+--------------------+ | Fedora 39 (ARM Clang) | PASS | +----------------------------------------+--------------------+ | Fedora 40 (ARM) | PASS | +----------------------------------------+--------------------+ | Fedora 40 (ARM Clang) | PASS | +----------------------------------------+--------------------+ | Ubuntu 20.04 (ARM) | PASS | +----------------------------------------+--------------------+ | Ubuntu 22.04 (ARM) | PASS | +----------------------------------------+--------------------+ | CentOS Stream 9 (ARM) | PASS | +----------------------------------------+--------------------+ | Ubuntu 24.04 (ARM) | PASS | +----------------------------------------+--------------------+ | Debian 12 (arm) | PASS | +----------------------------------------+--------------------+ | Ubuntu 20.04 ARM Clang Cross Compile | PASS | +----------------------------------------+--------------------+ | Ubuntu 20.04 aarch32 GCC Cross Compile | PASS | +----------------------------------------+--------------------+ RHEL9 (ARM) Kernel: Depends on container host Compiler: gcc 11.4.1 20231218 (Red Hat 11.4.1-3) Ubuntu 20.04 ARM GCC Cross Compile Kernel: Depends on container host Compiler: aarch64-linux-gnu-gcc (Ubuntu 9.4.0-1ubuntu1~20.04.2) 9.4.0 Debian 12 with MUSDK Kernel: Depends on container host Compiler: gcc (Debian 12.2.0-14) 12.2.0 Ubuntu 20.04 ARM SVE Kernel: Depends on container host Compiler: gcc (Ubuntu 10.5.0-1ubuntu1~20.04) 10.5.0 Fedora 39 (ARM) Kernel: Depends on container host Compiler: gcc 13.3.1 20240522 (Red Hat 13.3.1-1) Fedora 39 (ARM Clang) Kernel: Depends on container host Compiler: clang 17.0.6 (Fedora 17.0.6-2.fc39) Fedora 40 (ARM) Kernel: Depends on container host Compiler: gcc 14.2.1 20240801 (Red Hat 14.2.1-1) Fedora 40 (ARM Clang) Kernel: Depends on container host Compiler: clang 18.1.6 (Fedora 18.1.6-3.fc40) Ubuntu 20.04 (ARM) Kernel: Depends on container host Compiler: gcc (Ubuntu 9.4.0-1ubuntu1~20.04.2) 9.4.0 Ubuntu 22.04 (ARM) Kernel: Depends on container host Compiler: gcc (Ubuntu 11.4.0-1ubuntu1~22.04) 11.4.0 CentOS Stream 9 (ARM) Kernel: Depends on container host Compiler: gcc 11.4.1 20231218 (Red Hat 11.4.1-3) Ubuntu 24.04 (ARM) Kernel: Depends on container host Compiler: gcc (Ubuntu 13.2.0-23ubuntu4) 13.2.0 Debian 12 (arm) Kernel: Depends on container host Compiler: gcc (Debian 12.2.0-14) 12.2.0 Ubuntu 20.04 ARM Clang Cross Compile Kernel: Depends on container host Compiler: clang 10.0.0-4ubuntu1 Ubuntu 20.04 aarch32 GCC Cross Compile Kernel: Depends on container host Compiler: gcc 9.4.0 To view detailed results, visit: https://lab.dpdk.org/results/dashboard/patchsets/32080/ UNH-IOL DPDK Community Lab To manage your email subscriptions, visit: https://lab.dpdk.org/results/dashboard/preferences/subscriptions/