From mboxrd@z Thu Jan 1 00:00:00 1970 Return-Path: Received: from mails.dpdk.org (mails.dpdk.org [217.70.189.124]) by inbox.dpdk.org (Postfix) with ESMTP id E585A45E30 for ; Wed, 4 Dec 2024 17:52:57 +0100 (CET) Received: from mails.dpdk.org (localhost [127.0.0.1]) by mails.dpdk.org (Postfix) with ESMTP id D37D540A6D; Wed, 4 Dec 2024 17:52:57 +0100 (CET) Received: from mail-qv1-f100.google.com (mail-qv1-f100.google.com [209.85.219.100]) by mails.dpdk.org (Postfix) with ESMTP id 01791402EF for ; Wed, 4 Dec 2024 17:52:57 +0100 (CET) Received: by mail-qv1-f100.google.com with SMTP id 6a1803df08f44-6d89ec77177so276156d6.3 for ; Wed, 04 Dec 2024 08:52:56 -0800 (PST) DKIM-Signature: v=1; a=rsa-sha256; c=relaxed/relaxed; d=iol.unh.edu; s=unh-iol; t=1733331176; x=1733935976; darn=dpdk.org; h=references:in-reply-to:cc:to:from:subject:message-id:date:from:to :cc:subject:date:message-id:reply-to; bh=x7bWfwK4JggdYOGGcNzc+0hzPpUGueu1mS4US5vdfKs=; b=SNXaXrxMLSy2VWWekgwEiRzauiK4JmCGEwZMLBrwCXNkvvGpcTtLQfBMkAATQ8AGvW JsEfwFQFWL9uuFtRiey790z+LkX3QxhC+cQldTEzXRo4Qdia3uzv371OKQk3CRKRRKTR npbGfDmxu6Zc+XdBMstoEtnqU8TbKVMz1cRSA= X-Google-DKIM-Signature: v=1; a=rsa-sha256; c=relaxed/relaxed; d=1e100.net; s=20230601; t=1733331176; x=1733935976; h=references:in-reply-to:cc:to:from:subject:message-id:date :x-gm-message-state:from:to:cc:subject:date:message-id:reply-to; bh=x7bWfwK4JggdYOGGcNzc+0hzPpUGueu1mS4US5vdfKs=; b=GSzzkGXC6xxUkTsoCYOI6d/5rvmj9otoXxyECVTkYhAz8PziZYXD3/NXaKe2v+L7qv vIm/5KXTQctUn0toIxQQe5Vv7/82cjzZlCSsyiH+MKcw+3mULdKp7uslrYcNCIFV5YCM JUl0RxeQWb7QZMCZ8hMScmawyWl2Ca2XvDArBf7U+h5kIiUKNoMuhrk8Zn2sS+YJv0aI CZHMONlXS8q94PdHPlPZukG52T1uYlNJgQbmgOmDCoG62u6JgNpQhM6xypJH6mIbGc6H HTXhzhSHKL6MmXP4wRUul+EmesT92UhQkbSaDn9bMakoRFm19nUuk7M6FeHe7VjgFGnj 3WyQ== X-Gm-Message-State: AOJu0YxX0+6Cp6CDTjLhzEcaa7EUeugHAK2C8zmfnrStccZWl3iEHzsD Uv8rk99Iwii2PkRJhbxJ7I836wa1Ds3bSvJ6uYzL7GVPlF0PAwyaFdaWSi7K4Fv1GfzCp0Wa6ge iRqMgBG9CXBhDnL0hZM4zdPzOg/ZdclyBwX5xCj7z9jY9fkmdxyK1ESHM X-Gm-Gg: ASbGncu5OWRa/x+eqGEp3SLmltYJjKk95YbxlElOK4GT4rWG+pVfR6EN8bviU9wzMGX GKDh4ZNdUlaaPbo0vkDgSYQYf6LGFTuNBDLFMJBQmm5HNh1rrozbswX30w2rxIyC2gEiSi5N8pD kuIrSn2RWeh9mbN0af5YJgJ8WpSN686tmhrzJ5aJY5Wr2GiU2DJyzYRLhqECVB+6aBgrLK8kPWO ILJwN36LWKkcZrWnZrjrp9zqI/fz/huFyIe848BhzeaEhMa7AAV4pcKn/PBgErr9dowYdCjx1I= X-Google-Smtp-Source: AGHT+IHsr4a8TO/GW+eM6QUCosuxdB9oxAMrmAhgHkUHIG+2SA7qCrws9UJ3A6vxL6C2LIUZcFrEPRU1JgdT X-Received: by 2002:a05:6214:3014:b0:6d8:8874:2126 with SMTP id 6a1803df08f44-6d8b732b14bmr106618106d6.11.1733331176285; Wed, 04 Dec 2024 08:52:56 -0800 (PST) Received: from postal.iol.unh.edu (postal.iol.unh.edu. [2606:4100:3880:1234::84]) by smtp-relay.gmail.com with ESMTPS id 6a1803df08f44-6d8959a5f28sm5325096d6.47.2024.12.04.08.52.56 (version=TLS1_2 cipher=ECDHE-ECDSA-AES128-GCM-SHA256 bits=128/128); Wed, 04 Dec 2024 08:52:56 -0800 (PST) X-Relaying-Domain: iol.unh.edu Date: Wed, 04 Dec 2024 08:52:56 -0800 (PST) Message-ID: <675088e8.050a0220.e83e2.df9eSMTPIN_ADDED_MISSING@mx.google.com> Received: from [172.17.0.3] (unknown [172.18.0.217]) by postal.iol.unh.edu (Postfix) with ESMTP id 0F0796052471; Wed, 4 Dec 2024 11:52:56 -0500 (EST) Subject: |SUCCESS| pw149015 [PATCH] lib/gso: rte_gso_segment function increas From: dpdklab@iol.unh.edu To: Test Report Cc: dpdk-test-reports@iol.unh.edu In-Reply-To: <20241204024430.2749-1-18859237562@163.com> References: <20241204024430.2749-1-18859237562@163.com> Content-Type: text/plain X-BeenThere: test-report@dpdk.org X-Mailman-Version: 2.1.29 Precedence: list List-Id: automatic DPDK test reports List-Unsubscribe: , List-Archive: List-Post: List-Help: List-Subscribe: , Errors-To: test-report-bounces@dpdk.org Test-Label: iol-sample-apps-testing Test-Status: SUCCESS http://dpdk.org/patch/149015 _Testing PASS_ Submitter: 18859237562 <18859237562@163.com> Date: Wednesday, December 04 2024 02:44:30 DPDK git baseline: Repo:dpdk Branch: master CommitID:7df61db6c387703a36306c1aea92225921e2eeb2 149015 --> testing pass Upstream job id: ACVP-FIPS-testing#8214 Test environment and result as below: +--------------------+----------------------+----------------------+ | Environment | compressdev_zlib_pmd | dpdk_fips_validation | +====================+======================+======================+ | Ubuntu 22.04 (ARM) | PASS | SKIPPED | +--------------------+----------------------+----------------------+ | Ubuntu 22.04 | PASS | SKIPPED | +--------------------+----------------------+----------------------+ | Ubuntu 20.04 | SKIPPED | PASS | +--------------------+----------------------+----------------------+ Ubuntu 22.04 (ARM) Kernel: 5.15.0-97-generic Compiler: gcc gcc (Ubuntu 11.4.0-1ubuntu1~22.04) 11.4.0 Ubuntu 22.04 Kernel: 5.15.0-100-generic Compiler: gcc gcc (Ubuntu 11.4.0-1ubuntu1~22.04) 11.4.0 Ubuntu 20.04 Kernel: Depends on container host Compiler: gcc (Ubuntu 9.4.0-1ubuntu1~20.04.2) 9.4.0 To view detailed results, visit: https://lab.dpdk.org/results/dashboard/patchsets/32083/ UNH-IOL DPDK Community Lab To manage your email subscriptions, visit: https://lab.dpdk.org/results/dashboard/preferences/subscriptions/