From mboxrd@z Thu Jan 1 00:00:00 1970 Return-Path: Received: from mails.dpdk.org (mails.dpdk.org [217.70.189.124]) by inbox.dpdk.org (Postfix) with ESMTP id C3A5245E33 for ; Wed, 4 Dec 2024 22:09:55 +0100 (CET) Received: from mails.dpdk.org (localhost [127.0.0.1]) by mails.dpdk.org (Postfix) with ESMTP id BA290402AE; Wed, 4 Dec 2024 22:09:55 +0100 (CET) Received: from mail-oa1-f99.google.com (mail-oa1-f99.google.com [209.85.160.99]) by mails.dpdk.org (Postfix) with ESMTP id 161344014F for ; Wed, 4 Dec 2024 22:09:55 +0100 (CET) Received: by mail-oa1-f99.google.com with SMTP id 586e51a60fabf-29e7516ee77so241886fac.1 for ; Wed, 04 Dec 2024 13:09:55 -0800 (PST) DKIM-Signature: v=1; a=rsa-sha256; c=relaxed/relaxed; d=iol.unh.edu; s=unh-iol; t=1733346594; x=1733951394; darn=dpdk.org; h=references:in-reply-to:cc:to:from:subject:message-id:date:from:to :cc:subject:date:message-id:reply-to; bh=xeSDFQE5o2/npaFZ4bJ5qPDi3RryrboQMFx5PZ3vcG4=; b=YoV9gdWwcKPHTICarxXIV6yOgC5/I4cA7cPAtNBf6nQFqe6o0O/7cZXyBHhKbTBy0Y Ul7Z0eaD8Na1CVAtT66zRNXM9O6M6eTTv2N0Nb91G8ip2Cbq+TY3bUZEZ4niTBBCtgLT rF0KwaBucFDsRs7tzn9U4NTKu545ERD3OqUnA= X-Google-DKIM-Signature: v=1; a=rsa-sha256; c=relaxed/relaxed; d=1e100.net; s=20230601; t=1733346594; x=1733951394; h=references:in-reply-to:cc:to:from:subject:message-id:date :x-gm-message-state:from:to:cc:subject:date:message-id:reply-to; bh=xeSDFQE5o2/npaFZ4bJ5qPDi3RryrboQMFx5PZ3vcG4=; b=jKeCdzKuBQyjB1yNyalJYqM1oeqQWEONJiAT13mrY6Y7q+wKlMi7XM7LD/QvH1RQHM AeOK97de2lNG5UWqf0NrxmKr3pms+WIcIesaxKSMC7OM6tVEFsP+Bw8vqbWeF+sE6w3U OuGdPcmDjt/lx/ye+4UiCgRqjVRM5kzRNmK8bNiXQV3nQ7BwIWlQFHlNjQGWGggBDd6x 3BO+DJ7+b0V6doOxfb0PitBYsXWAZQhUURfMZVDZXnQBYL9GVzMAWFqTDzmu+joC3+Dd x+AUEjzp7YiWna+og9IN7iKvJ6tXBjyALqewDzIykojm7s3g1y2w1gWatMliRvC7sXB0 mN1Q== X-Gm-Message-State: AOJu0Yygpy0T0KpyEEDXDVIkdHpG6lNZbwJ33joULBTQFYij3Raa/gQ6 AZLVK5WCMzvebPgo0y6EfMjPlu85rP5NYUs/8+lAOGsuZhLK3dgXt7NRgW2QV+ZY3OiSNeZNHI+ so8B0NXgjLuWv9NbdTJdFv7Kh9Aqy6PzXYxsgNtl6 X-Gm-Gg: ASbGncsVcGGAPF9g3NqPeUgOTt1j0fcAr4/3k+cVnMIMni64tUPhbi2dK4eEPJi6LUx KT+j8/noErB+PH2muvMmvG5TW7E10fD9XSMhxES4CN0UOVintRF6r4yL1E3XUUEzP/EvTmPh2NZ fyTukQZxGoK/dfhx446J9X7xLsyEZjBcTT0Wo5upDqd0udWCIycJayiRlD2mwVJ79oJuzWsEidh s7jEE9LuvYU2e9K0C5aj+NzxBHBS0yKhXJ0sDvYX7QK9eWeqoTaXLr/8XaOStrFsI2Lse8= X-Google-Smtp-Source: AGHT+IHzDkQGY5r/Yw4XmZxcxPxbHSFXm+nRdbmTqOBQIn244HqUrwlPwUl2sd9mBn3g/ZUq7xVaeWsc6pFr X-Received: by 2002:a05:6870:9d8c:b0:296:dd30:e90f with SMTP id 586e51a60fabf-29e886124eemr8239426fac.16.1733346594313; Wed, 04 Dec 2024 13:09:54 -0800 (PST) Received: from postal.iol.unh.edu (postal.iol.unh.edu. [132.177.123.84]) by smtp-relay.gmail.com with ESMTPS id 586e51a60fabf-29e3d0b0defsm523437fac.36.2024.12.04.13.09.54 (version=TLS1_2 cipher=ECDHE-ECDSA-AES128-GCM-SHA256 bits=128/128); Wed, 04 Dec 2024 13:09:54 -0800 (PST) X-Relaying-Domain: iol.unh.edu Date: Wed, 04 Dec 2024 13:09:54 -0800 (PST) Message-ID: <6750c522.050a0220.17bd72.c8bbSMTPIN_ADDED_MISSING@mx.google.com> Received: from [172.17.0.2] (unknown [172.18.0.217]) by postal.iol.unh.edu (Postfix) with ESMTP id C0F0E6052471; Wed, 4 Dec 2024 16:09:53 -0500 (EST) Subject: |SUCCESS| pw149018-149023 [PATCH] [6/6] lib/mldev: eliminate depende From: dpdklab@iol.unh.edu To: Test Report Cc: dpdk-test-reports@iol.unh.edu In-Reply-To: <1733342995-3722-7-git-send-email-andremue@linux.microsoft.com> References: <1733342995-3722-7-git-send-email-andremue@linux.microsoft.com> Content-Type: text/plain X-BeenThere: test-report@dpdk.org X-Mailman-Version: 2.1.29 Precedence: list List-Id: automatic DPDK test reports List-Unsubscribe: , List-Archive: List-Post: List-Help: List-Subscribe: , Errors-To: test-report-bounces@dpdk.org Test-Label: iol-unit-amd64-testing Test-Status: SUCCESS http://dpdk.org/patch/149023 _Testing PASS_ Submitter: Andre Muezerie Date: Wednesday, December 04 2024 20:09:55 DPDK git baseline: Repo:dpdk Branch: master CommitID:7df61db6c387703a36306c1aea92225921e2eeb2 149018-149023 --> testing pass Upstream job id: Generic-Unit-Test-DPDK#297621 Test environment and result as below: +---------------------+----------------+ | Environment | dpdk_unit_test | +=====================+================+ | Windows Server 2022 | PASS | +---------------------+----------------+ | Fedora 39 | PASS | +---------------------+----------------+ | CentOS Stream 9 | PASS | +---------------------+----------------+ | Debian 12 | PASS | +---------------------+----------------+ | Fedora 39 (Clang) | PASS | +---------------------+----------------+ | Fedora 40 | PASS | +---------------------+----------------+ | Fedora 40 (Clang) | PASS | +---------------------+----------------+ | Ubuntu 20.04 | PASS | +---------------------+----------------+ | Ubuntu 22.04 | PASS | +---------------------+----------------+ | Ubuntu 24.04 | PASS | +---------------------+----------------+ | RHEL9 | PASS | +---------------------+----------------+ | RHEL8 | PASS | +---------------------+----------------+ Windows Server 2022 Kernel: 10.0.20348.2031 Compiler: clang 15.0.7, gcc 14.1.0 (MinGW), and MSVC VS 19.39.33521 Fedora 39 Kernel: Depends on container host Compiler: gcc 13.3.1 20240522 (Red Hat 13.3.1-1) CentOS Stream 9 Kernel: Depends on container host Compiler: gcc 11.4.1 20231218 (Red Hat 11.4.1-3) Debian 12 Kernel: Depends on container host Compiler: gcc (Debian 12.2.0-14) 12.2.0 Fedora 39 (Clang) Kernel: Depends on container host Compiler: clang 17.0.6 (Fedora 17.0.6-2.fc39) Fedora 40 Kernel: Depends on container host Compiler: gcc 14.2.1 20240801 (Red Hat 14.2.1-1) Fedora 40 (Clang) Kernel: Depends on container host Compiler: clang 18.1.6 (Fedora 18.1.6-3.fc40) Ubuntu 20.04 Kernel: Depends on container host Compiler: gcc (Ubuntu 9.4.0-1ubuntu1~20.04.2) 9.4.0 Ubuntu 22.04 Kernel: Depends on container host Compiler: gcc (Ubuntu 11.4.0-1ubuntu1~22.04) 11.4.0 Ubuntu 24.04 Kernel: Depends on container host Compiler: gcc (Ubuntu 13.2.0-23ubuntu4) 13.2.0 RHEL9 Kernel: Depends on container host Compiler: gcc 11.4.1 20231218 (Red Hat 11.4.1-3) RHEL8 Kernel: Depends on container host Compiler: gcc 8.5.0 20210514 (Red Hat 8.5.0-22) To view detailed results, visit: https://lab.dpdk.org/results/dashboard/patchsets/32086/ UNH-IOL DPDK Community Lab To manage your email subscriptions, visit: https://lab.dpdk.org/results/dashboard/preferences/subscriptions/