From mboxrd@z Thu Jan 1 00:00:00 1970 Return-Path: Received: from mails.dpdk.org (mails.dpdk.org [217.70.189.124]) by inbox.dpdk.org (Postfix) with ESMTP id B615945E33 for ; Thu, 5 Dec 2024 00:04:33 +0100 (CET) Received: from mails.dpdk.org (localhost [127.0.0.1]) by mails.dpdk.org (Postfix) with ESMTP id 9399A402AF; Thu, 5 Dec 2024 00:04:33 +0100 (CET) Received: from mail-il1-f225.google.com (mail-il1-f225.google.com [209.85.166.225]) by mails.dpdk.org (Postfix) with ESMTP id CD3E04029B for ; Thu, 5 Dec 2024 00:04:32 +0100 (CET) Received: by mail-il1-f225.google.com with SMTP id e9e14a558f8ab-3a7df790371so2055525ab.0 for ; Wed, 04 Dec 2024 15:04:32 -0800 (PST) DKIM-Signature: v=1; a=rsa-sha256; c=relaxed/relaxed; d=iol.unh.edu; s=unh-iol; t=1733353472; x=1733958272; darn=dpdk.org; h=references:in-reply-to:cc:to:from:subject:message-id:date:from:to :cc:subject:date:message-id:reply-to; bh=9YH7Ln4rIKMmFXBZCLGWTTfr1OC6mKlfu/IMD59R+uY=; b=QfmTzA9YrR3lqiEGln/g7iEX/5eon1YULUqUesO5Up+fx6DMsB63a6meC+u+g6Wgvz dCK0QbL2+lKm5101059aPs7UhVw3ttdlUYOqMgf8IB3HnDPOfGVYY5h90uGTTX8j7ORq eL9GSrqz3rLAPPmePdqSegmfqdH6r2Y7/fJKY= X-Google-DKIM-Signature: v=1; a=rsa-sha256; c=relaxed/relaxed; d=1e100.net; s=20230601; t=1733353472; x=1733958272; h=references:in-reply-to:cc:to:from:subject:message-id:date :x-gm-message-state:from:to:cc:subject:date:message-id:reply-to; bh=9YH7Ln4rIKMmFXBZCLGWTTfr1OC6mKlfu/IMD59R+uY=; b=rPdQk1BRPZ/rNyEN6dVMP4eIGNzHftN1StL9Nq2LnVDvuoy+NzmR5EFfhuhbYmcoeg xFOMgMbCyoqCmB1s8PdYjBa/iAdHzhpNEaWAZJPHMWGwVdRSEF/2QwGeaWELEmqIp5Aw cJYPuxv+k0Hf4ms9RzIB+SJ1ktRVFctiHz1fW1sGN+9cH9ujEgRJjX2jUXBL+0n6jqli T5H72rv+iJ77ZrfF+a+fcMTwqELLRVaW8ivyXNyKsP0laBgYwp0VDzenFplbJUpRpdbK u8YGvUY4UMvlMOA9PLTpkz87Hlzx2Q+RcjUHH+4h/jTnmZ4TAVNjfl4ANAxLiFukFo4e XzOQ== X-Gm-Message-State: AOJu0Ywq5CQXz/3yRbaUCkNaQ536JLYIELcPzMET7cG66hn33GtUE4ug 5eXydwgOjFTgsggYW6btiSoVjqJi74oeGCfH9UWC0owuCgva9r2F6XTkeGPm9C8jvG0JtbQuvL3 kyRg1uMglv92EobDiMR0AjDmiWbpNTWHzwoM8rGa+HdXnwHBmQfGU+jH4 X-Gm-Gg: ASbGncvbiAuS6Da1NiicipAoXJBY0i7BvfT7IplfvPZ7gttMInbs2/zy3GIG/G6gcye 8DN7uGdGoeY41qxhj/q9ZvaIxG31VvRRxZL+dZO9UabE0Ip2UTdh3i5HPty402+SaIsK0afJ2jJ x/W9wka+tjygxAuUxjLNEH10x2wUZyyLuqDTTBwdLrY09nCQV/5g85pcHCo5KiN+Jm6MQQ17hj/ qL7n6TixK9aj/K74qck+WFXlmyTs3BJCGMFzapo7u+tszi6CzXxrOaveZyRcbGPbiuPuvxUbo0= X-Google-Smtp-Source: AGHT+IFjdbXnPw4/ZwL1QMisDhkBvRg+vA4jtSVhnJ65HigD/gI5sQ7cVA7YrBSMabP3m79i6F63q/UO5PWH X-Received: by 2002:a05:6e02:1947:b0:3a7:7d26:4ce4 with SMTP id e9e14a558f8ab-3a7fecc8ddemr70493875ab.9.1733353472194; Wed, 04 Dec 2024 15:04:32 -0800 (PST) Received: from postal.iol.unh.edu (postal.iol.unh.edu. [2606:4100:3880:1234::84]) by smtp-relay.gmail.com with ESMTPS id e9e14a558f8ab-3a808e1b586sm148785ab.55.2024.12.04.15.04.32 (version=TLS1_2 cipher=ECDHE-ECDSA-AES128-GCM-SHA256 bits=128/128); Wed, 04 Dec 2024 15:04:32 -0800 (PST) X-Relaying-Domain: iol.unh.edu Date: Wed, 04 Dec 2024 15:04:32 -0800 (PST) Message-ID: <6750e000.920a0220.22b491.0db2SMTPIN_ADDED_MISSING@mx.google.com> Received: from [172.17.0.2] (unknown [172.18.0.217]) by postal.iol.unh.edu (Postfix) with ESMTP id 6826A6052471; Wed, 4 Dec 2024 18:04:31 -0500 (EST) Subject: |SUCCESS| pw149018-149023 [PATCH] [6/6] lib/mldev: eliminate depende From: dpdklab@iol.unh.edu To: Test Report Cc: dpdk-test-reports@iol.unh.edu In-Reply-To: <1733342995-3722-7-git-send-email-andremue@linux.microsoft.com> References: <1733342995-3722-7-git-send-email-andremue@linux.microsoft.com> Content-Type: text/plain X-BeenThere: test-report@dpdk.org X-Mailman-Version: 2.1.29 Precedence: list List-Id: automatic DPDK test reports List-Unsubscribe: , List-Archive: List-Post: List-Help: List-Subscribe: , Errors-To: test-report-bounces@dpdk.org Test-Label: iol-unit-arm64-testing Test-Status: SUCCESS http://dpdk.org/patch/149023 _Testing PASS_ Submitter: Andre Muezerie Date: Wednesday, December 04 2024 20:09:55 DPDK git baseline: Repo:dpdk Branch: master CommitID:7df61db6c387703a36306c1aea92225921e2eeb2 149018-149023 --> testing pass Upstream job id: Generic-Unit-Test-DPDK#297630 Test environment and result as below: +-----------------------------+----------------+------------------------------+--------------+---------------------------+ | Environment | dpdk_unit_test | cryptodev_sw_snow3g_autotest | lpm_autotest | cryptodev_sw_zuc_autotest | +=============================+================+==============================+==============+===========================+ | Fedora 39 (ARM Clang) | PASS | SKIPPED | SKIPPED | SKIPPED | +-----------------------------+----------------+------------------------------+--------------+---------------------------+ | Fedora 39 (ARM) | PASS | SKIPPED | SKIPPED | SKIPPED | +-----------------------------+----------------+------------------------------+--------------+---------------------------+ | CentOS Stream 9 (ARM) | PASS | SKIPPED | SKIPPED | SKIPPED | +-----------------------------+----------------+------------------------------+--------------+---------------------------+ | Debian 12 (arm) | PASS | PASS | SKIPPED | PASS | +-----------------------------+----------------+------------------------------+--------------+---------------------------+ | Fedora 40 (ARM) | PASS | SKIPPED | SKIPPED | SKIPPED | +-----------------------------+----------------+------------------------------+--------------+---------------------------+ | Ubuntu 20.04 (ARM) | PASS | SKIPPED | SKIPPED | SKIPPED | +-----------------------------+----------------+------------------------------+--------------+---------------------------+ | RHEL9 (ARM) | PASS | SKIPPED | SKIPPED | SKIPPED | +-----------------------------+----------------+------------------------------+--------------+---------------------------+ | Fedora 40 (ARM Clang) | PASS | SKIPPED | SKIPPED | SKIPPED | +-----------------------------+----------------+------------------------------+--------------+---------------------------+ | Ubuntu 24.04 (ARM) | PASS | SKIPPED | SKIPPED | SKIPPED | +-----------------------------+----------------+------------------------------+--------------+---------------------------+ | Ubuntu 22.04 (ARM) | PASS | SKIPPED | SKIPPED | SKIPPED | +-----------------------------+----------------+------------------------------+--------------+---------------------------+ | 32-bit Ubuntu 22.04.4 (ARM) | PASS | SKIPPED | SKIPPED | SKIPPED | +-----------------------------+----------------+------------------------------+--------------+---------------------------+ | Ubuntu 20.04 ARM SVE | SKIPPED | SKIPPED | PASS | SKIPPED | +-----------------------------+----------------+------------------------------+--------------+---------------------------+ Fedora 39 (ARM Clang) Kernel: Depends on container host Compiler: clang 17.0.6 (Fedora 17.0.6-2.fc39) Fedora 39 (ARM) Kernel: Depends on container host Compiler: gcc 13.3.1 20240522 (Red Hat 13.3.1-1) CentOS Stream 9 (ARM) Kernel: Depends on container host Compiler: gcc 11.4.1 20231218 (Red Hat 11.4.1-3) Debian 12 (arm) Kernel: Depends on container host Compiler: gcc (Debian 12.2.0-14) 12.2.0 Fedora 40 (ARM) Kernel: Depends on container host Compiler: gcc 14.2.1 20240801 (Red Hat 14.2.1-1) Ubuntu 20.04 (ARM) Kernel: Depends on container host Compiler: gcc (Ubuntu 9.4.0-1ubuntu1~20.04.2) 9.4.0 RHEL9 (ARM) Kernel: Depends on container host Compiler: gcc 11.4.1 20231218 (Red Hat 11.4.1-3) Fedora 40 (ARM Clang) Kernel: Depends on container host Compiler: clang 18.1.6 (Fedora 18.1.6-3.fc40) Ubuntu 24.04 (ARM) Kernel: Depends on container host Compiler: gcc (Ubuntu 13.2.0-23ubuntu4) 13.2.0 Ubuntu 22.04 (ARM) Kernel: Depends on container host Compiler: gcc (Ubuntu 11.4.0-1ubuntu1~22.04) 11.4.0 32-bit Ubuntu 22.04.4 (ARM) Kernel: 5.15.83+ aarch64 Compiler: gcc (Ubuntu 11.4.0-1ubuntu1~22.04) 11.4.0 Ubuntu 20.04 ARM SVE Kernel: Depends on container host Compiler: gcc (Ubuntu 10.5.0-1ubuntu1~20.04) 10.5.0 To view detailed results, visit: https://lab.dpdk.org/results/dashboard/patchsets/32086/ UNH-IOL DPDK Community Lab To manage your email subscriptions, visit: https://lab.dpdk.org/results/dashboard/preferences/subscriptions/