From mboxrd@z Thu Jan  1 00:00:00 1970
Return-Path: <test-report-bounces@dpdk.org>
Received: from mails.dpdk.org (mails.dpdk.org [217.70.189.124])
	by inbox.dpdk.org (Postfix) with ESMTP id 25A1445E33
	for <public@inbox.dpdk.org>; Thu,  5 Dec 2024 01:22:11 +0100 (CET)
Received: from mails.dpdk.org (localhost [127.0.0.1])
	by mails.dpdk.org (Postfix) with ESMTP id 1C569402AF;
	Thu,  5 Dec 2024 01:22:11 +0100 (CET)
Received: from mail-il1-f225.google.com (mail-il1-f225.google.com
 [209.85.166.225])
 by mails.dpdk.org (Postfix) with ESMTP id E74E74029B
 for <test-report@dpdk.org>; Thu,  5 Dec 2024 01:22:09 +0100 (CET)
Received: by mail-il1-f225.google.com with SMTP id
 e9e14a558f8ab-3a7750318a2so2072075ab.2
 for <test-report@dpdk.org>; Wed, 04 Dec 2024 16:22:09 -0800 (PST)
DKIM-Signature: v=1; a=rsa-sha256; c=relaxed/relaxed;
 d=iol.unh.edu; s=unh-iol; t=1733358129; x=1733962929; darn=dpdk.org;
 h=references:in-reply-to:cc:to:from:subject:message-id:date:from:to
 :cc:subject:date:message-id:reply-to;
 bh=oc4vYtGzKVfcHLSGVUZEXK5aMXGCcWT/18sFga6/s0Y=;
 b=HzGGkzqY6sqF6Pu2HmkJ4k+b9+mfeDpJ65eLE+SPUFxUUQfAAp/Oh6kVofTdJBZziC
 pakggjn2bBZnoQ8btquqMQDwRRLxjt7EA4j5BZUCJqkvgruaBTzpddGFWZlN61YUYe9+
 GZ/2Af8god6hV1rMeQMAr64q3ihL5D0N/M3wk=
X-Google-DKIM-Signature: v=1; a=rsa-sha256; c=relaxed/relaxed;
 d=1e100.net; s=20230601; t=1733358129; x=1733962929;
 h=references:in-reply-to:cc:to:from:subject:message-id:date
 :x-gm-message-state:from:to:cc:subject:date:message-id:reply-to;
 bh=oc4vYtGzKVfcHLSGVUZEXK5aMXGCcWT/18sFga6/s0Y=;
 b=n5QBjqk2vIDYhY35qZ52GWNAV+EqY/zxqaWfQ35Ij/dTs9FJl8vwKW5VvDwxpxJgRR
 j1zlEIQjEZBBIwnGZUcJn4zfRy/m/ImPPesnaQdxQWoc/P47Is33j5w52srnM6Bm5lIl
 jN420hAuKUS/c1nu7ZZGWkXyUEOCj+K0N6WNxRtSOYp6Ew6cwNfL7P4JYB6xmi2aQazK
 ic+an6NsyxJl4bP5bLxkZAhV6PwRrx4hRscGTOfQBSwutCeFxmE30bbIKd6E4JWoQNK1
 wjrH127eTOpzdKnCu2Fzv2C7CvSXD533pCRdVhrvSbOHRV0Vm7jXswktoJr3ohGUNz6M
 Hy3w==
X-Gm-Message-State: AOJu0YwxuLyuffrYOYK0lpuTyLkFE76ndLOl6a45cUCPH3ucyzDSCLep
 h8j2JBWI8FeGxh3Wo6Zdt1ol4+4qI994wYJn7yWOluZEKdJxEcW+yVquPfX46f2bXAau859CfZT
 rTV/M43bockZBhsxPILN8rRWCimCXwBdAtzhR4+fZ
X-Gm-Gg: ASbGnctXK4FTrAYLjbNKb6xZPV6JepVvfaDNuWx6VpmrDbaB/eVqsJ1dqUOTVJXbTF8
 5OtSHvCv6XyMFX7h8ETpsyA312A2zaCn/j79a1JLeYhHO9y+T87SLzYSFQSp/j/xu5KoVihK14i
 NpO5cHc0jKh3VM8gTpmMfY0GJsZMDsqlgxx70qPeOuFi/jtLQabHA+Qd+tEjZBgFVLaAtdH+AKf
 lyAZzfiBbTyjqooY2II0L4p2aB+Q8e6UgqK8zR54ct23NroG2/lLW9e7rhdmzA9gSBF02I=
X-Google-Smtp-Source: AGHT+IH6ip0MU2Hy76BASZfKyTNVNLnDFw/B6Jkcjq8L71ypuYDFBldOT5GpL3DS+3DdpopwHnAJt5B3p6CZ
X-Received: by 2002:a05:6e02:4407:10b0:3a7:956c:61a4 with SMTP id
 e9e14a558f8ab-3a7fecc8dd3mr41645945ab.10.1733358129285; 
 Wed, 04 Dec 2024 16:22:09 -0800 (PST)
Received: from postal.iol.unh.edu (postal.iol.unh.edu. [132.177.123.84])
 by smtp-relay.gmail.com with ESMTPS id
 e9e14a558f8ab-3a808da80e5sm205265ab.24.2024.12.04.16.22.09
 (version=TLS1_2 cipher=ECDHE-ECDSA-AES128-GCM-SHA256 bits=128/128);
 Wed, 04 Dec 2024 16:22:09 -0800 (PST)
X-Relaying-Domain: iol.unh.edu
Date: Wed, 04 Dec 2024 16:22:09 -0800 (PST)
Message-ID: <6750f231.920a0220.fa9de.13fcSMTPIN_ADDED_MISSING@mx.google.com>
Received: from [172.17.0.2] (unknown [172.18.0.217])
 by postal.iol.unh.edu (Postfix) with ESMTP id C18C26052471;
 Wed,  4 Dec 2024 19:22:08 -0500 (EST)
Subject: |SUCCESS| pw149024-149028 [PATCH] [v2,6/6] lib/mldev: eliminate depe
From: dpdklab@iol.unh.edu
To: Test Report <test-report@dpdk.org>
Cc: dpdk-test-reports@iol.unh.edu
In-Reply-To: <1733348466-16057-7-git-send-email-andremue@linux.microsoft.com>
References: <1733348466-16057-7-git-send-email-andremue@linux.microsoft.com>
Content-Type: text/plain
X-BeenThere: test-report@dpdk.org
X-Mailman-Version: 2.1.29
Precedence: list
List-Id: automatic DPDK test reports <test-report.dpdk.org>
List-Unsubscribe: <https://mails.dpdk.org/options/test-report>,
 <mailto:test-report-request@dpdk.org?subject=unsubscribe>
List-Archive: <http://mails.dpdk.org/archives/test-report/>
List-Post: <mailto:test-report@dpdk.org>
List-Help: <mailto:test-report-request@dpdk.org?subject=help>
List-Subscribe: <https://mails.dpdk.org/listinfo/test-report>,
 <mailto:test-report-request@dpdk.org?subject=subscribe>
Errors-To: test-report-bounces@dpdk.org

Test-Label: iol-unit-arm64-testing
Test-Status: SUCCESS
http://dpdk.org/patch/149028

_Testing PASS_

Submitter: Andre Muezerie <andremue@linux.microsoft.com>
Date: Wednesday, December 04 2024 21:41:06 
DPDK git baseline: Repo:dpdk
  Branch: master
  CommitID:7df61db6c387703a36306c1aea92225921e2eeb2

149024-149028 --> testing pass

Upstream job id: Generic-Unit-Test-DPDK#297654

Test environment and result as below:

+-----------------------------+---------------------------+--------------+----------------+------------------------------+
|         Environment         | cryptodev_sw_zuc_autotest | lpm_autotest | dpdk_unit_test | cryptodev_sw_snow3g_autotest |
+=============================+===========================+==============+================+==============================+
| Debian 12 (arm)             | PASS                      | SKIPPED      | PASS           | PASS                         |
+-----------------------------+---------------------------+--------------+----------------+------------------------------+
| Ubuntu 20.04 ARM SVE        | SKIPPED                   | PASS         | SKIPPED        | SKIPPED                      |
+-----------------------------+---------------------------+--------------+----------------+------------------------------+
| CentOS Stream 9 (ARM)       | SKIPPED                   | SKIPPED      | PASS           | SKIPPED                      |
+-----------------------------+---------------------------+--------------+----------------+------------------------------+
| Fedora 39 (ARM)             | SKIPPED                   | SKIPPED      | PASS           | SKIPPED                      |
+-----------------------------+---------------------------+--------------+----------------+------------------------------+
| Fedora 40 (ARM)             | SKIPPED                   | SKIPPED      | PASS           | SKIPPED                      |
+-----------------------------+---------------------------+--------------+----------------+------------------------------+
| RHEL9 (ARM)                 | SKIPPED                   | SKIPPED      | PASS           | SKIPPED                      |
+-----------------------------+---------------------------+--------------+----------------+------------------------------+
| Fedora 40 (ARM Clang)       | SKIPPED                   | SKIPPED      | PASS           | SKIPPED                      |
+-----------------------------+---------------------------+--------------+----------------+------------------------------+
| Fedora 39 (ARM Clang)       | SKIPPED                   | SKIPPED      | PASS           | SKIPPED                      |
+-----------------------------+---------------------------+--------------+----------------+------------------------------+
| Ubuntu 20.04 (ARM)          | SKIPPED                   | SKIPPED      | PASS           | SKIPPED                      |
+-----------------------------+---------------------------+--------------+----------------+------------------------------+
| Ubuntu 24.04 (ARM)          | SKIPPED                   | SKIPPED      | PASS           | SKIPPED                      |
+-----------------------------+---------------------------+--------------+----------------+------------------------------+
| Ubuntu 22.04 (ARM)          | SKIPPED                   | SKIPPED      | PASS           | SKIPPED                      |
+-----------------------------+---------------------------+--------------+----------------+------------------------------+
| 32-bit Ubuntu 22.04.4 (ARM) | SKIPPED                   | SKIPPED      | PASS           | SKIPPED                      |
+-----------------------------+---------------------------+--------------+----------------+------------------------------+


Debian 12 (arm)
	Kernel: Depends on container host
	Compiler: gcc (Debian 12.2.0-14) 12.2.0

Ubuntu 20.04 ARM SVE
	Kernel: Depends on container host
	Compiler: gcc (Ubuntu 10.5.0-1ubuntu1~20.04) 10.5.0

CentOS Stream 9 (ARM)
	Kernel: Depends on container host
	Compiler: gcc 11.4.1 20231218 (Red Hat 11.4.1-3)

Fedora 39 (ARM)
	Kernel: Depends on container host
	Compiler: gcc 13.3.1 20240522 (Red Hat 13.3.1-1)

Fedora 40 (ARM)
	Kernel: Depends on container host
	Compiler: gcc 14.2.1 20240801 (Red Hat 14.2.1-1)

RHEL9 (ARM)
	Kernel: Depends on container host
	Compiler: gcc 11.4.1 20231218 (Red Hat 11.4.1-3)

Fedora 40 (ARM Clang)
	Kernel: Depends on container host
	Compiler: clang 18.1.6 (Fedora 18.1.6-3.fc40)

Fedora 39 (ARM Clang)
	Kernel: Depends on container host
	Compiler: clang 17.0.6 (Fedora 17.0.6-2.fc39)

Ubuntu 20.04 (ARM)
	Kernel: Depends on container host
	Compiler: gcc (Ubuntu 9.4.0-1ubuntu1~20.04.2) 9.4.0

Ubuntu 24.04 (ARM)
	Kernel: Depends on container host
	Compiler: gcc (Ubuntu 13.2.0-23ubuntu4) 13.2.0

Ubuntu 22.04 (ARM)
	Kernel: Depends on container host
	Compiler: gcc (Ubuntu 11.4.0-1ubuntu1~22.04) 11.4.0

32-bit Ubuntu 22.04.4 (ARM)
	Kernel: 5.15.83+ aarch64
	Compiler: gcc (Ubuntu 11.4.0-1ubuntu1~22.04) 11.4.0

To view detailed results, visit:
https://lab.dpdk.org/results/dashboard/patchsets/32087/

UNH-IOL DPDK Community Lab

To manage your email subscriptions, visit: 
https://lab.dpdk.org/results/dashboard/preferences/subscriptions/