From mboxrd@z Thu Jan  1 00:00:00 1970
Return-Path: <test-report-bounces@dpdk.org>
Received: from mails.dpdk.org (mails.dpdk.org [217.70.189.124])
	by inbox.dpdk.org (Postfix) with ESMTP id 5A4F645E25
	for <public@inbox.dpdk.org>; Thu,  5 Dec 2024 01:47:05 +0100 (CET)
Received: from mails.dpdk.org (localhost [127.0.0.1])
	by mails.dpdk.org (Postfix) with ESMTP id 1EACC41149;
	Thu,  5 Dec 2024 01:47:05 +0100 (CET)
Received: from mail-pg1-f226.google.com (mail-pg1-f226.google.com
 [209.85.215.226])
 by mails.dpdk.org (Postfix) with ESMTP id 4D9F64111C
 for <test-report@dpdk.org>; Thu,  5 Dec 2024 01:47:03 +0100 (CET)
Received: by mail-pg1-f226.google.com with SMTP id
 41be03b00d2f7-7fc99fc2b16so298978a12.3
 for <test-report@dpdk.org>; Wed, 04 Dec 2024 16:47:03 -0800 (PST)
DKIM-Signature: v=1; a=rsa-sha256; c=relaxed/relaxed;
 d=iol.unh.edu; s=unh-iol; t=1733359622; x=1733964422; darn=dpdk.org;
 h=references:in-reply-to:cc:to:from:subject:message-id:date:from:to
 :cc:subject:date:message-id:reply-to;
 bh=E8ym0x/y1weSW39y5HAERRMeBL4q8Wo7KPcLrqvF3ig=;
 b=ir/V3B/a402DFVrP3jffPmwNIdnkn38DQ9CcJTmoruSJtqzkcIolAlIN+LHNHLsoLw
 MtSeOI6YTrWk4AcYYN37KNo2hRF6CYMefY8BWGprT5X8ZbSYFk1a7L+/jTNrafZpmycp
 M0cryxtGfheC2ewFooAH4BiIG1dzuMHuHUi6I=
X-Google-DKIM-Signature: v=1; a=rsa-sha256; c=relaxed/relaxed;
 d=1e100.net; s=20230601; t=1733359622; x=1733964422;
 h=references:in-reply-to:cc:to:from:subject:message-id:date
 :x-gm-message-state:from:to:cc:subject:date:message-id:reply-to;
 bh=E8ym0x/y1weSW39y5HAERRMeBL4q8Wo7KPcLrqvF3ig=;
 b=dCrNqGKym/ZQF/dzBIl55sct3zr/Zqt8osJ46JsdiYd5SDZ3cmcyAjpLZsL6NZ+U4y
 FWqJHR6WaYLkKxgZgPZlZM53BD0dudd+wuki/yjglumwiSPSE99egDJqlTMD+mxG2D9b
 WJjtpFUI6nCRFEFsUtrKANLSDBZzL4DuGDWgjEpP7mTiP+BrC8KLzFPlfydYefZKpYxa
 4zdCD1RQMi2blb6tJbSpwl0jGcg5rFHDqIKBfGpQu6w3EtM9PII5FDRd2ZnbkZRNXG3w
 4Ff1XOl8rBaPeNR7xfvW6inceMNl5QD+HjkrRrtoZRh10pueUzmP5Tp9qg/uKN5koeGw
 OmHA==
X-Gm-Message-State: AOJu0YxOc09srFjFGXSUEwJ2wCH4d2Zl0mih3uOmIcAoUW4CQPq7ELkx
 5Ge2z2MWkLlrlIzYDAwmgB1XlsIz5P33V5Cpvrlhyg6aTP4Qlr/RimNwJ92l+EGarLwUZlyLogH
 j/45x+Sw/5d79rWh45s9RsqfnlztVlz9PHWBzQZKqbKfTyz4s1Rp4nYN9
X-Gm-Gg: ASbGncssY9XccXtpLHUE5bBBM7XEoG4cB7a1AeOREYuO/3HkYqmC/bwiQEpNyjlIyB+
 MImyiLdP29D2HuGDrxQkgp+f8JVeWQ8JfCK2EUqXgmcyZNRl0lo221uHkvA0Rxv09pIVbkAKL11
 cShf95nGYxfVYTac7uzEXRzxfG3y5RitdXRcHN9mWNmraew2WBU6Y2i1pPkNy3dC/55S4XkZCpg
 7uJbPgHXUl24DYpdBHel5tKRqnCyYk0EERLKHcM3Vg9259ZUmsKzzphPxWermAs9JNc0MKxPyE=
X-Google-Smtp-Source: AGHT+IFdBAbs2yCjrWqaljoWdLMkKg7sUCQVhNfRYBf6S8WxQNe4jlH7UYG9sysazw/E/7EbLQFv8CsUrP2D
X-Received: by 2002:a05:6a20:734b:b0:1e0:c6c0:1e08 with SMTP id
 adf61e73a8af0-1e1653c579dmr10753701637.25.1733359622375; 
 Wed, 04 Dec 2024 16:47:02 -0800 (PST)
Received: from postal.iol.unh.edu (postal.iol.unh.edu.
 [2606:4100:3880:1234::84]) by smtp-relay.gmail.com with ESMTPS id
 d2e1a72fcca58-725a29ce8c3sm10655b3a.2.2024.12.04.16.47.02
 (version=TLS1_2 cipher=ECDHE-ECDSA-AES128-GCM-SHA256 bits=128/128);
 Wed, 04 Dec 2024 16:47:02 -0800 (PST)
X-Relaying-Domain: iol.unh.edu
Date: Wed, 04 Dec 2024 16:47:02 -0800 (PST)
Message-ID: <6750f806.050a0220.230631.0b22SMTPIN_ADDED_MISSING@mx.google.com>
Received: from [172.17.0.2] (unknown [172.18.0.217])
 by postal.iol.unh.edu (Postfix) with ESMTP id 8538E6052471;
 Wed,  4 Dec 2024 19:47:01 -0500 (EST)
Subject: |SUCCESS| pw149024-149028 [PATCH] [v2,6/6] lib/mldev: eliminate depe
From: dpdklab@iol.unh.edu
To: Test Report <test-report@dpdk.org>
Cc: dpdk-test-reports@iol.unh.edu
In-Reply-To: <1733348466-16057-7-git-send-email-andremue@linux.microsoft.com>
References: <1733348466-16057-7-git-send-email-andremue@linux.microsoft.com>
Content-Type: text/plain
X-BeenThere: test-report@dpdk.org
X-Mailman-Version: 2.1.29
Precedence: list
List-Id: automatic DPDK test reports <test-report.dpdk.org>
List-Unsubscribe: <https://mails.dpdk.org/options/test-report>,
 <mailto:test-report-request@dpdk.org?subject=unsubscribe>
List-Archive: <http://mails.dpdk.org/archives/test-report/>
List-Post: <mailto:test-report@dpdk.org>
List-Help: <mailto:test-report-request@dpdk.org?subject=help>
List-Subscribe: <https://mails.dpdk.org/listinfo/test-report>,
 <mailto:test-report-request@dpdk.org?subject=subscribe>
Errors-To: test-report-bounces@dpdk.org

Test-Label: iol-compile-arm64-testing
Test-Status: SUCCESS
http://dpdk.org/patch/149028

_Testing PASS_

Submitter: Andre Muezerie <andremue@linux.microsoft.com>
Date: Wednesday, December 04 2024 21:41:06 
DPDK git baseline: Repo:dpdk
  Branch: master
  CommitID:7df61db6c387703a36306c1aea92225921e2eeb2

149024-149028 --> testing pass

Upstream job id: Generic-DPDK-Compile-Meson#341249

Test environment and result as below:

+----------------------------------------+--------------------+
|              Environment               | dpdk_meson_compile |
+========================================+====================+
| Ubuntu 20.04 ARM SVE                   | PASS               |
+----------------------------------------+--------------------+
| RHEL9 (ARM)                            | PASS               |
+----------------------------------------+--------------------+
| Ubuntu 20.04 ARM GCC Cross Compile     | PASS               |
+----------------------------------------+--------------------+
| Fedora 39 (ARM)                        | PASS               |
+----------------------------------------+--------------------+
| Debian 12 with MUSDK                   | PASS               |
+----------------------------------------+--------------------+
| Fedora 40 (ARM Clang)                  | PASS               |
+----------------------------------------+--------------------+
| Fedora 39 (ARM Clang)                  | PASS               |
+----------------------------------------+--------------------+
| Fedora 40 (ARM)                        | PASS               |
+----------------------------------------+--------------------+
| Ubuntu 24.04 (ARM)                     | PASS               |
+----------------------------------------+--------------------+
| Ubuntu 22.04 (ARM)                     | PASS               |
+----------------------------------------+--------------------+
| Ubuntu 20.04 (ARM)                     | PASS               |
+----------------------------------------+--------------------+
| Ubuntu 20.04 aarch32 GCC Cross Compile | PASS               |
+----------------------------------------+--------------------+
| Debian 12 (arm)                        | PASS               |
+----------------------------------------+--------------------+
| Ubuntu 20.04 ARM Clang Cross Compile   | PASS               |
+----------------------------------------+--------------------+
| CentOS Stream 9 (ARM)                  | PASS               |
+----------------------------------------+--------------------+


Ubuntu 20.04 ARM SVE
	Kernel: Depends on container host
	Compiler: gcc (Ubuntu 10.5.0-1ubuntu1~20.04) 10.5.0

RHEL9 (ARM)
	Kernel: Depends on container host
	Compiler: gcc 11.4.1 20231218 (Red Hat 11.4.1-3)

Ubuntu 20.04 ARM GCC Cross Compile
	Kernel: Depends on container host
	Compiler: aarch64-linux-gnu-gcc (Ubuntu 9.4.0-1ubuntu1~20.04.2) 9.4.0

Fedora 39 (ARM)
	Kernel: Depends on container host
	Compiler: gcc 13.3.1 20240522 (Red Hat 13.3.1-1)

Debian 12 with MUSDK
	Kernel: Depends on container host
	Compiler: gcc (Debian 12.2.0-14) 12.2.0

Fedora 40 (ARM Clang)
	Kernel: Depends on container host
	Compiler: clang 18.1.6 (Fedora 18.1.6-3.fc40)

Fedora 39 (ARM Clang)
	Kernel: Depends on container host
	Compiler: clang 17.0.6 (Fedora 17.0.6-2.fc39)

Fedora 40 (ARM)
	Kernel: Depends on container host
	Compiler: gcc 14.2.1 20240801 (Red Hat 14.2.1-1)

Ubuntu 24.04 (ARM)
	Kernel: Depends on container host
	Compiler: gcc (Ubuntu 13.2.0-23ubuntu4) 13.2.0

Ubuntu 22.04 (ARM)
	Kernel: Depends on container host
	Compiler: gcc (Ubuntu 11.4.0-1ubuntu1~22.04) 11.4.0

Ubuntu 20.04 (ARM)
	Kernel: Depends on container host
	Compiler: gcc (Ubuntu 9.4.0-1ubuntu1~20.04.2) 9.4.0

Ubuntu 20.04 aarch32 GCC Cross Compile
	Kernel: Depends on container host
	Compiler: gcc 9.4.0

Debian 12 (arm)
	Kernel: Depends on container host
	Compiler: gcc (Debian 12.2.0-14) 12.2.0

Ubuntu 20.04 ARM Clang Cross Compile
	Kernel: Depends on container host
	Compiler: clang 10.0.0-4ubuntu1

CentOS Stream 9 (ARM)
	Kernel: Depends on container host
	Compiler: gcc 11.4.1 20231218 (Red Hat 11.4.1-3)

To view detailed results, visit:
https://lab.dpdk.org/results/dashboard/patchsets/32087/

UNH-IOL DPDK Community Lab

To manage your email subscriptions, visit: 
https://lab.dpdk.org/results/dashboard/preferences/subscriptions/