From mboxrd@z Thu Jan  1 00:00:00 1970
Return-Path: <test-report-bounces@dpdk.org>
Received: from mails.dpdk.org (mails.dpdk.org [217.70.189.124])
	by inbox.dpdk.org (Postfix) with ESMTP id 7E05545E34
	for <public@inbox.dpdk.org>; Thu,  5 Dec 2024 02:01:52 +0100 (CET)
Received: from mails.dpdk.org (localhost [127.0.0.1])
	by mails.dpdk.org (Postfix) with ESMTP id 63EA84111C;
	Thu,  5 Dec 2024 02:01:52 +0100 (CET)
Received: from mail-il1-f227.google.com (mail-il1-f227.google.com
 [209.85.166.227])
 by mails.dpdk.org (Postfix) with ESMTP id 8FB7A40691
 for <test-report@dpdk.org>; Thu,  5 Dec 2024 02:01:51 +0100 (CET)
Received: by mail-il1-f227.google.com with SMTP id
 e9e14a558f8ab-3a75c24f447so1127355ab.0
 for <test-report@dpdk.org>; Wed, 04 Dec 2024 17:01:51 -0800 (PST)
DKIM-Signature: v=1; a=rsa-sha256; c=relaxed/relaxed;
 d=iol.unh.edu; s=unh-iol; t=1733360510; x=1733965310; darn=dpdk.org;
 h=references:in-reply-to:cc:to:from:subject:message-id:date:from:to
 :cc:subject:date:message-id:reply-to;
 bh=nRXAVBfcz4qb+MBsTuO0GBxoujDNKieIanC7kT2fjh8=;
 b=JU3whIuCPAEDWG0p7aG+8QPN/kz+LNBSxBVB8EEHfUZRq1PAZJg+JP7oFw4Uel8g5M
 j3MQhUVUHO5mNSuhuJGl0Dy8wnlRr+2tm7pR0Po8KK9qsDrsZGylDnepoiZhNUUbMwPP
 Zpy9PyZpGF6TZQxSyJ4hwCO8KIsEeXmbVGWRk=
X-Google-DKIM-Signature: v=1; a=rsa-sha256; c=relaxed/relaxed;
 d=1e100.net; s=20230601; t=1733360510; x=1733965310;
 h=references:in-reply-to:cc:to:from:subject:message-id:date
 :x-gm-message-state:from:to:cc:subject:date:message-id:reply-to;
 bh=nRXAVBfcz4qb+MBsTuO0GBxoujDNKieIanC7kT2fjh8=;
 b=BhhV73dos+o6YN+8kUzh9yZMYQnwIeBW9jK+DB67+OagOf0eVo2KTTBHBd2XJu/xr/
 T848I2VInEeqWHi4IHBOw2zHiY1zOaoG7qg1D9AgpB3vAXx14O857hIMoa2iIhxBVpiQ
 ERDqyzSLQWlRwoeS6hW5h+Mkx1pH5KoXOGyW4Nk1EaORuuissA3UsmVkvovDUeXKPXY2
 TCNFa40+eU4JkEANIkeySw+5Itb4SqBMfpc3IAk/kABiI/G+ZnDURZKWDf6Pqx09sTHt
 K5mItyVO8Yyjo8LTEP8vaxlECCNru1v6465SsS/49mqEWqdixz07EeT76lKp6bnZOR60
 +Ipg==
X-Gm-Message-State: AOJu0YzKh3+KvNqngL+OcpWhuUwePyEJUXDjQiBE8v+nwezNdmDxJ3J9
 5VblgLYq8df2XPK0y/tk49jB/o5y4NYSRcGC9Q/G3jlOsGgCc3xm/vKmPdFQa4yj6WGVqIB/Cgb
 rmkNzvm33496bQ2R5GjnL+ioddzEE+gP1ZiXMS0X6
X-Gm-Gg: ASbGnctWPhq4si1wo3R++NbOMxfzxg+WEVPQiq4CoshcyXaLhROAcm8jFohd23s2hCv
 11CEEmezKEkpQeHwBSrQejMLfL/2tVvrt3b7c5xRSThKdmJcvz/9RrSXeJqZ08a7Rq7MVdsL5ie
 EqzGZpPYxElwt5TTn53D+W/PjmtoEsPi63+mP/1Gu9l2y25bnwP/MQFIwu3uVMuBaW80CWBSySc
 FJPOJhF73X/H4HVoMJKgzFRShkoh4tCW3KdIFUC4DiPgNL5MQAFYt/ddjYw9etCWiQLGTE=
X-Google-Smtp-Source: AGHT+IHmxlSMAGwLTZsbVUqjXC5VrQ1rlgLFjWHYyvAqLq8uNa+/9HNl81QyxyshaT29vr9/iznrb9fJJXGr
X-Received: by 2002:a05:6e02:1ca5:b0:3a7:e7a9:8a78 with SMTP id
 e9e14a558f8ab-3a7f9a9800dmr92565525ab.17.1733360510740; 
 Wed, 04 Dec 2024 17:01:50 -0800 (PST)
Received: from postal.iol.unh.edu (postal.iol.unh.edu. [132.177.123.84])
 by smtp-relay.gmail.com with ESMTPS id
 e9e14a558f8ab-3a808e1b0fcsm231505ab.47.2024.12.04.17.01.50
 (version=TLS1_2 cipher=ECDHE-ECDSA-AES128-GCM-SHA256 bits=128/128);
 Wed, 04 Dec 2024 17:01:50 -0800 (PST)
X-Relaying-Domain: iol.unh.edu
Date: Wed, 04 Dec 2024 17:01:50 -0800 (PST)
Message-ID: <6750fb7e.050a0220.11f244.160fSMTPIN_ADDED_MISSING@mx.google.com>
Received: from [172.17.0.2] (unknown [172.18.0.217])
 by postal.iol.unh.edu (Postfix) with ESMTP id 358136052471;
 Wed,  4 Dec 2024 20:01:50 -0500 (EST)
Subject: |SUCCESS| pw149018-149023 [PATCH] [6/6] lib/mldev: eliminate depende
From: dpdklab@iol.unh.edu
To: Test Report <test-report@dpdk.org>
Cc: dpdk-test-reports@iol.unh.edu
In-Reply-To: <1733342995-3722-7-git-send-email-andremue@linux.microsoft.com>
References: <1733342995-3722-7-git-send-email-andremue@linux.microsoft.com>
Content-Type: text/plain
X-BeenThere: test-report@dpdk.org
X-Mailman-Version: 2.1.29
Precedence: list
List-Id: automatic DPDK test reports <test-report.dpdk.org>
List-Unsubscribe: <https://mails.dpdk.org/options/test-report>,
 <mailto:test-report-request@dpdk.org?subject=unsubscribe>
List-Archive: <http://mails.dpdk.org/archives/test-report/>
List-Post: <mailto:test-report@dpdk.org>
List-Help: <mailto:test-report-request@dpdk.org?subject=help>
List-Subscribe: <https://mails.dpdk.org/listinfo/test-report>,
 <mailto:test-report-request@dpdk.org?subject=subscribe>
Errors-To: test-report-bounces@dpdk.org

Test-Label: iol-compile-arm64-testing
Test-Status: SUCCESS
http://dpdk.org/patch/149023

_Testing PASS_

Submitter: Andre Muezerie <andremue@linux.microsoft.com>
Date: Wednesday, December 04 2024 20:09:55 
DPDK git baseline: Repo:dpdk
  Branch: master
  CommitID:7df61db6c387703a36306c1aea92225921e2eeb2

149018-149023 --> testing pass

Upstream job id: Generic-DPDK-Compile-Meson#341231

Test environment and result as below:

+----------------------------------------+--------------------+
|              Environment               | dpdk_meson_compile |
+========================================+====================+
| RHEL9 (ARM)                            | PASS               |
+----------------------------------------+--------------------+
| Ubuntu 20.04 ARM SVE                   | PASS               |
+----------------------------------------+--------------------+
| Ubuntu 20.04 ARM GCC Cross Compile     | PASS               |
+----------------------------------------+--------------------+
| Debian 12 with MUSDK                   | PASS               |
+----------------------------------------+--------------------+
| Fedora 39 (ARM Clang)                  | PASS               |
+----------------------------------------+--------------------+
| Fedora 39 (ARM)                        | PASS               |
+----------------------------------------+--------------------+
| Fedora 40 (ARM)                        | PASS               |
+----------------------------------------+--------------------+
| Ubuntu 22.04 (ARM)                     | PASS               |
+----------------------------------------+--------------------+
| Fedora 40 (ARM Clang)                  | PASS               |
+----------------------------------------+--------------------+
| Ubuntu 24.04 (ARM)                     | PASS               |
+----------------------------------------+--------------------+
| Ubuntu 20.04 (ARM)                     | PASS               |
+----------------------------------------+--------------------+
| CentOS Stream 9 (ARM)                  | PASS               |
+----------------------------------------+--------------------+
| Debian 12 (arm)                        | PASS               |
+----------------------------------------+--------------------+
| Ubuntu 20.04 aarch32 GCC Cross Compile | PASS               |
+----------------------------------------+--------------------+
| Ubuntu 20.04 ARM Clang Cross Compile   | PASS               |
+----------------------------------------+--------------------+


RHEL9 (ARM)
	Kernel: Depends on container host
	Compiler: gcc 11.4.1 20231218 (Red Hat 11.4.1-3)

Ubuntu 20.04 ARM SVE
	Kernel: Depends on container host
	Compiler: gcc (Ubuntu 10.5.0-1ubuntu1~20.04) 10.5.0

Ubuntu 20.04 ARM GCC Cross Compile
	Kernel: Depends on container host
	Compiler: aarch64-linux-gnu-gcc (Ubuntu 9.4.0-1ubuntu1~20.04.2) 9.4.0

Debian 12 with MUSDK
	Kernel: Depends on container host
	Compiler: gcc (Debian 12.2.0-14) 12.2.0

Fedora 39 (ARM Clang)
	Kernel: Depends on container host
	Compiler: clang 17.0.6 (Fedora 17.0.6-2.fc39)

Fedora 39 (ARM)
	Kernel: Depends on container host
	Compiler: gcc 13.3.1 20240522 (Red Hat 13.3.1-1)

Fedora 40 (ARM)
	Kernel: Depends on container host
	Compiler: gcc 14.2.1 20240801 (Red Hat 14.2.1-1)

Ubuntu 22.04 (ARM)
	Kernel: Depends on container host
	Compiler: gcc (Ubuntu 11.4.0-1ubuntu1~22.04) 11.4.0

Fedora 40 (ARM Clang)
	Kernel: Depends on container host
	Compiler: clang 18.1.6 (Fedora 18.1.6-3.fc40)

Ubuntu 24.04 (ARM)
	Kernel: Depends on container host
	Compiler: gcc (Ubuntu 13.2.0-23ubuntu4) 13.2.0

Ubuntu 20.04 (ARM)
	Kernel: Depends on container host
	Compiler: gcc (Ubuntu 9.4.0-1ubuntu1~20.04.2) 9.4.0

CentOS Stream 9 (ARM)
	Kernel: Depends on container host
	Compiler: gcc 11.4.1 20231218 (Red Hat 11.4.1-3)

Debian 12 (arm)
	Kernel: Depends on container host
	Compiler: gcc (Debian 12.2.0-14) 12.2.0

Ubuntu 20.04 aarch32 GCC Cross Compile
	Kernel: Depends on container host
	Compiler: gcc 9.4.0

Ubuntu 20.04 ARM Clang Cross Compile
	Kernel: Depends on container host
	Compiler: clang 10.0.0-4ubuntu1

To view detailed results, visit:
https://lab.dpdk.org/results/dashboard/patchsets/32086/

UNH-IOL DPDK Community Lab

To manage your email subscriptions, visit: 
https://lab.dpdk.org/results/dashboard/preferences/subscriptions/