From mboxrd@z Thu Jan 1 00:00:00 1970 Return-Path: Received: from mails.dpdk.org (mails.dpdk.org [217.70.189.124]) by inbox.dpdk.org (Postfix) with ESMTP id 5DE9345DF4 for ; Fri, 6 Dec 2024 10:02:31 +0100 (CET) Received: from mails.dpdk.org (localhost [127.0.0.1]) by mails.dpdk.org (Postfix) with ESMTP id 58F6340430; Fri, 6 Dec 2024 10:02:31 +0100 (CET) Received: from mail-pg1-f226.google.com (mail-pg1-f226.google.com [209.85.215.226]) by mails.dpdk.org (Postfix) with ESMTP id 2AC48402C9 for ; Fri, 6 Dec 2024 10:02:30 +0100 (CET) Received: by mail-pg1-f226.google.com with SMTP id 41be03b00d2f7-7e6d04f74faso1308368a12.1 for ; Fri, 06 Dec 2024 01:02:30 -0800 (PST) DKIM-Signature: v=1; a=rsa-sha256; c=relaxed/relaxed; d=iol.unh.edu; s=unh-iol; t=1733475749; x=1734080549; darn=dpdk.org; h=references:in-reply-to:cc:to:from:subject:message-id:date:from:to :cc:subject:date:message-id:reply-to; bh=T3s3tOVzAFpPzmECu4iPSaACRsHkOJbbxvK9of9ba9U=; b=Ryy158IwCGKoHrItt2boQ43teQuh1oOO/8pFB5iLlFeIkzhpYKQo6WQfibTAFETLP2 UNHxibB8yKekfZi9xDBhh+ZW0BMQbZmx2tdG7nOjo2ZhfNhIzpHN3zx2OLLw5fG2rQOh iqjqIewhmmqBKd5GnNEJW3VviR+nIPQjv5Tqs= X-Google-DKIM-Signature: v=1; a=rsa-sha256; c=relaxed/relaxed; d=1e100.net; s=20230601; t=1733475749; x=1734080549; h=references:in-reply-to:cc:to:from:subject:message-id:date :x-gm-message-state:from:to:cc:subject:date:message-id:reply-to; bh=T3s3tOVzAFpPzmECu4iPSaACRsHkOJbbxvK9of9ba9U=; b=EZWLNfTsHNYjgmUxyXcIglgRKc9bfMzGXV2yUY0H2XfpWTs7pNquqkI0oocns8gHDh XfAyOJfcW0+Al9ByqpEnkMIAN5rwoFFSFsT7UvxYpPxeLRW082yvDnxWupJ9pAzb02Yo ADNiPUr5Rkvg2o8vxWBX9dYkrzBYWU5mdgfGSdWRHs++qBYBw4PGddhntJQMcbC4+XZA 9chny126oTIZ1/elF3JfrFc5clb8mbZqkC1dY9mEXQe9CTZagZYPPbkw7FfgMD3PkqbY jnjiLeG3Qyuc+jOdi0T0xrd6nqTU894qaUlal0gpXKTNDQTM7dWa+0vxFIonmA51CgCr o4Ig== X-Gm-Message-State: AOJu0YyTTsF3SrhJL62zvSoO4pY9CxFcf1mYxLB6mZ1087COMDuVQR4M OkqToSfVZIEXXYv8sbpKDpFZwhD28HKt8Y3kW4fFXg0A8qBOT0sfe5wRQ/ELnJlXwtKBqSbtF0z 3mTHawn5Rs9mPBE6sN1nFike/ULJnbdogxAbObJuN X-Gm-Gg: ASbGncvnckPz4k1L4AlYobY/oYf+UI7/9byehFciyZpgnvvhBi+88qrC0WkW4fUwoMQ g2VlYZhjflT82eW8mgUfrNn18q8tDdCoXoNeNDLYIcdyrWl87KMAoWzXe1olaSWMy7Wj3qkUgpP Ataj7Qz3IrFqXFsfwThOFKxS7VhFboo6ZnSfKDZOKXd8pLq68XQ7kptARPYrBLm/nIARiqM9W7A 3JbQjQeaI8afOdkoB98GVBdSh+oxD6AyZyORJpU7cD8l2A/z1sme/+0gqEEDYheTg0c5gQ= X-Google-Smtp-Source: AGHT+IHKWbG7m6HeVx6mDy9/X2wtAqudMwwEAmTl3zd7cXPnNpwcsvqfE65a+Ewgr5IkSAna5frNxg8lxl03 X-Received: by 2002:a17:90b:3f44:b0:2e2:c2b0:d03e with SMTP id 98e67ed59e1d1-2ef68d99261mr3894739a91.5.1733475749057; Fri, 06 Dec 2024 01:02:29 -0800 (PST) Received: from postal.iol.unh.edu (postal.iol.unh.edu. [132.177.123.84]) by smtp-relay.gmail.com with ESMTPS id 98e67ed59e1d1-2ef2708aa79sm241439a91.11.2024.12.06.01.02.28 (version=TLS1_2 cipher=ECDHE-ECDSA-AES128-GCM-SHA256 bits=128/128); Fri, 06 Dec 2024 01:02:29 -0800 (PST) X-Relaying-Domain: iol.unh.edu Date: Fri, 06 Dec 2024 01:02:29 -0800 (PST) Message-ID: <6752bda5.170a0220.39d5b2.df99SMTPIN_ADDED_MISSING@mx.google.com> Received: from [172.17.0.4] (unknown [172.18.0.217]) by postal.iol.unh.edu (Postfix) with ESMTP id 3E96E6052471; Fri, 6 Dec 2024 04:02:28 -0500 (EST) Subject: |SUCCESS| pw149065 [PATCH] [V1] doc: add tested Intel platforms two From: dpdklab@iol.unh.edu To: Test Report Cc: dpdk-test-reports@iol.unh.edu In-Reply-To: <20241206053928.1640200-1-linglix.chen@intel.com> References: <20241206053928.1640200-1-linglix.chen@intel.com> Content-Type: text/plain X-BeenThere: test-report@dpdk.org X-Mailman-Version: 2.1.29 Precedence: list List-Id: automatic DPDK test reports List-Unsubscribe: , List-Archive: List-Post: List-Help: List-Subscribe: , Errors-To: test-report-bounces@dpdk.org Test-Label: iol-sample-apps-testing Test-Status: SUCCESS http://dpdk.org/patch/149065 _Testing PASS_ Submitter: Lingli Chen Date: Friday, December 06 2024 05:39:28 DPDK git baseline: Repo:dpdk Branch: master CommitID:7df61db6c387703a36306c1aea92225921e2eeb2 149065 --> testing pass Upstream job id: Template-DTS-Pipeline#201376 Test environment and result as below: +--------------------+----------------------+----------------------+ | Environment | compressdev_zlib_pmd | dpdk_fips_validation | +====================+======================+======================+ | Ubuntu 22.04 (ARM) | PASS | SKIPPED | +--------------------+----------------------+----------------------+ | Ubuntu 22.04 | PASS | SKIPPED | +--------------------+----------------------+----------------------+ | Ubuntu 20.04 | SKIPPED | PASS | +--------------------+----------------------+----------------------+ Ubuntu 22.04 (ARM) Kernel: 5.15.0-97-generic Compiler: gcc gcc (Ubuntu 11.4.0-1ubuntu1~22.04) 11.4.0 Ubuntu 22.04 Kernel: 5.15.0-100-generic Compiler: gcc gcc (Ubuntu 11.4.0-1ubuntu1~22.04) 11.4.0 Ubuntu 20.04 Kernel: Depends on container host Compiler: gcc (Ubuntu 9.4.0-1ubuntu1~20.04.2) 9.4.0 To view detailed results, visit: https://lab.dpdk.org/results/dashboard/patchsets/32098/ UNH-IOL DPDK Community Lab To manage your email subscriptions, visit: https://lab.dpdk.org/results/dashboard/preferences/subscriptions/