From mboxrd@z Thu Jan 1 00:00:00 1970 Return-Path: Received: from mails.dpdk.org (mails.dpdk.org [217.70.189.124]) by inbox.dpdk.org (Postfix) with ESMTP id 93D9145DF4 for ; Fri, 6 Dec 2024 10:23:31 +0100 (CET) Received: from mails.dpdk.org (localhost [127.0.0.1]) by mails.dpdk.org (Postfix) with ESMTP id 8973040430; Fri, 6 Dec 2024 10:23:31 +0100 (CET) Received: from mail-pl1-f228.google.com (mail-pl1-f228.google.com [209.85.214.228]) by mails.dpdk.org (Postfix) with ESMTP id 52158402C9 for ; Fri, 6 Dec 2024 10:23:29 +0100 (CET) Received: by mail-pl1-f228.google.com with SMTP id d9443c01a7336-215b9a754fbso17927515ad.1 for ; Fri, 06 Dec 2024 01:23:29 -0800 (PST) DKIM-Signature: v=1; a=rsa-sha256; c=relaxed/relaxed; d=iol.unh.edu; s=unh-iol; t=1733477008; x=1734081808; darn=dpdk.org; h=references:in-reply-to:cc:to:from:subject:message-id:date:from:to :cc:subject:date:message-id:reply-to; bh=PMoZqjRZ3Z2K9NVJvahoVw9pfjIfgvldFkM4UICk5DA=; b=SvxI1e8/1MjlmVGNCQ6/zbM8JwOgdfDcM0GZFUoSmQtUNJHYpeMO8ksU1D0T0wdA/f dVSUUGyFQxDdBoy9k34us6TctfhwHVx8KgcyRayev99WM5n1FBIyBrLjFhMdjQW6eqZh mHouBIATTPdNxhfBoxRPCDtC8M5n+2pLuu5UA= X-Google-DKIM-Signature: v=1; a=rsa-sha256; c=relaxed/relaxed; d=1e100.net; s=20230601; t=1733477008; x=1734081808; h=references:in-reply-to:cc:to:from:subject:message-id:date :x-gm-message-state:from:to:cc:subject:date:message-id:reply-to; bh=PMoZqjRZ3Z2K9NVJvahoVw9pfjIfgvldFkM4UICk5DA=; b=RSilzJ1HjOcGhnmwQTP0BSAHVKv5rRgaa4Arf+5i1AO6aX5pDqeYqlosVPsFoX21Nx E68EaY4Js3hJz4ztfTU3ai2mF2P95fYLOafbBHQlsx4Pw0/nyFuk832L4+rO2y/Dpdxp MPOnH5q1p5CXirF+aIk6HsHMsCNazsXTRvYlb2wFFORDb5+V7kO9UZrhOFn7VzLAaYM8 C+bcb+OoXy7wtuehBGPySlyAO1H0pewX2B4NtGn2Q4kDYlQAqBNbbqyMcA2KLl8JjL5r lhCLgLGumiL2MKQWl/f3xT5nRZt/cxIH8tg+Qq6uCc1ctWmPDDdlfD8a9vtH3rYy1T6r I5qA== X-Gm-Message-State: AOJu0YzXNV1mwK2/ifQCIpf5+iZcofuIzCGY1EearOylkU04h7xQHufc dCwW9a7X2A4srHp5sWq4A/vEs1wp/zyrHOko/O5UJPPdMZhRUBhXaQA2R0GyQlowbysKnVNvudv hzanhzFiZrAl9/LqJ5A/9ZQtWZ16uFdQkUvvb8BJO X-Gm-Gg: ASbGnctJiPv27o0cSN7eiCUgP3xI98Fql/4garqrzx4uoglp5kqJMzN6f4FNvhbivXs hVrdoSpFoFHqTSpkKF5r59ZQ82Mt92sLfZ1ejVw4ltaL/ZtU8ak7OnBReYk2F4ZG9/7nPn+T7nx //nfIhkeEXY2si56ideQmFck6RpkDIJSGA4feAyh0qqgtgq+BihJDW+Jv60M14ZaXMVkBgc+ylo hyUpyJvbfRr4i2slCVGRRr7Pl8ce2OGdGF5FbUTi+8NEgkZHjOB3vLk14lFKQwCXaDg1Gs= X-Google-Smtp-Source: AGHT+IH3cqktrCu9sEN4a7rYkZakqDboYEQhc3lCNB/pdQ2WowDWQdnh32nFKRy2hb1gULVw9e9EAxg/8cTU X-Received: by 2002:a17:902:c405:b0:215:72a7:f39f with SMTP id d9443c01a7336-21614da30dfmr27544625ad.36.1733477008249; Fri, 06 Dec 2024 01:23:28 -0800 (PST) Received: from postal.iol.unh.edu (postal.iol.unh.edu. [132.177.123.84]) by smtp-relay.gmail.com with ESMTPS id d9443c01a7336-215f8f22a73sm1371695ad.108.2024.12.06.01.23.28 (version=TLS1_2 cipher=ECDHE-ECDSA-AES128-GCM-SHA256 bits=128/128); Fri, 06 Dec 2024 01:23:28 -0800 (PST) X-Relaying-Domain: iol.unh.edu Date: Fri, 06 Dec 2024 01:23:28 -0800 (PST) Message-ID: <6752c290.170a0220.1babfd.8051SMTPIN_ADDED_MISSING@mx.google.com> Received: from [172.17.0.3] (unknown [172.18.0.217]) by postal.iol.unh.edu (Postfix) with ESMTP id A71E66052471; Fri, 6 Dec 2024 04:23:27 -0500 (EST) Subject: |SUCCESS| pw149065 [PATCH] [V1] doc: add tested Intel platforms two From: dpdklab@iol.unh.edu To: Test Report Cc: dpdk-test-reports@iol.unh.edu In-Reply-To: <20241206053928.1640200-1-linglix.chen@intel.com> References: <20241206053928.1640200-1-linglix.chen@intel.com> Content-Type: text/plain X-BeenThere: test-report@dpdk.org X-Mailman-Version: 2.1.29 Precedence: list List-Id: automatic DPDK test reports List-Unsubscribe: , List-Archive: List-Post: List-Help: List-Subscribe: , Errors-To: test-report-bounces@dpdk.org Test-Label: iol-unit-arm64-testing Test-Status: SUCCESS http://dpdk.org/patch/149065 _Testing PASS_ Submitter: Lingli Chen Date: Friday, December 06 2024 05:39:28 DPDK git baseline: Repo:dpdk Branch: master CommitID:7df61db6c387703a36306c1aea92225921e2eeb2 149065 --> testing pass Upstream job id: Generic-Unit-Test-DPDK#298019 Test environment and result as below: +-----------------------------+----------------+---------------------------+------------------------------+--------------+ | Environment | dpdk_unit_test | cryptodev_sw_zuc_autotest | cryptodev_sw_snow3g_autotest | lpm_autotest | +=============================+================+===========================+==============================+==============+ | Ubuntu 24.04 (ARM) | PASS | SKIPPED | SKIPPED | SKIPPED | +-----------------------------+----------------+---------------------------+------------------------------+--------------+ | RHEL9 (ARM) | PASS | SKIPPED | SKIPPED | SKIPPED | +-----------------------------+----------------+---------------------------+------------------------------+--------------+ | Ubuntu 22.04 (ARM) | PASS | SKIPPED | SKIPPED | SKIPPED | +-----------------------------+----------------+---------------------------+------------------------------+--------------+ | Ubuntu 20.04 (ARM) | PASS | SKIPPED | SKIPPED | SKIPPED | +-----------------------------+----------------+---------------------------+------------------------------+--------------+ | Fedora 39 (ARM) | PASS | SKIPPED | SKIPPED | SKIPPED | +-----------------------------+----------------+---------------------------+------------------------------+--------------+ | CentOS Stream 9 (ARM) | PASS | SKIPPED | SKIPPED | SKIPPED | +-----------------------------+----------------+---------------------------+------------------------------+--------------+ | Fedora 39 (ARM Clang) | PASS | SKIPPED | SKIPPED | SKIPPED | +-----------------------------+----------------+---------------------------+------------------------------+--------------+ | Debian 12 (arm) | PASS | PASS | PASS | SKIPPED | +-----------------------------+----------------+---------------------------+------------------------------+--------------+ | Fedora 40 (ARM) | PASS | SKIPPED | SKIPPED | SKIPPED | +-----------------------------+----------------+---------------------------+------------------------------+--------------+ | Fedora 40 (ARM Clang) | PASS | SKIPPED | SKIPPED | SKIPPED | +-----------------------------+----------------+---------------------------+------------------------------+--------------+ | 32-bit Ubuntu 22.04.4 (ARM) | PASS | SKIPPED | SKIPPED | SKIPPED | +-----------------------------+----------------+---------------------------+------------------------------+--------------+ | Ubuntu 20.04 ARM SVE | SKIPPED | SKIPPED | SKIPPED | PASS | +-----------------------------+----------------+---------------------------+------------------------------+--------------+ Ubuntu 24.04 (ARM) Kernel: Depends on container host Compiler: gcc (Ubuntu 13.2.0-23ubuntu4) 13.2.0 RHEL9 (ARM) Kernel: Depends on container host Compiler: gcc 11.4.1 20231218 (Red Hat 11.4.1-3) Ubuntu 22.04 (ARM) Kernel: Depends on container host Compiler: gcc (Ubuntu 11.4.0-1ubuntu1~22.04) 11.4.0 Ubuntu 20.04 (ARM) Kernel: Depends on container host Compiler: gcc (Ubuntu 9.4.0-1ubuntu1~20.04.2) 9.4.0 Fedora 39 (ARM) Kernel: Depends on container host Compiler: gcc 13.3.1 20240522 (Red Hat 13.3.1-1) CentOS Stream 9 (ARM) Kernel: Depends on container host Compiler: gcc 11.4.1 20231218 (Red Hat 11.4.1-3) Fedora 39 (ARM Clang) Kernel: Depends on container host Compiler: clang 17.0.6 (Fedora 17.0.6-2.fc39) Debian 12 (arm) Kernel: Depends on container host Compiler: gcc (Debian 12.2.0-14) 12.2.0 Fedora 40 (ARM) Kernel: Depends on container host Compiler: gcc 14.2.1 20240801 (Red Hat 14.2.1-1) Fedora 40 (ARM Clang) Kernel: Depends on container host Compiler: clang 18.1.6 (Fedora 18.1.6-3.fc40) 32-bit Ubuntu 22.04.4 (ARM) Kernel: 5.15.83+ aarch64 Compiler: gcc (Ubuntu 11.4.0-1ubuntu1~22.04) 11.4.0 Ubuntu 20.04 ARM SVE Kernel: Depends on container host Compiler: gcc (Ubuntu 10.5.0-1ubuntu1~20.04) 10.5.0 To view detailed results, visit: https://lab.dpdk.org/results/dashboard/patchsets/32098/ UNH-IOL DPDK Community Lab To manage your email subscriptions, visit: https://lab.dpdk.org/results/dashboard/preferences/subscriptions/