From mboxrd@z Thu Jan 1 00:00:00 1970 Return-Path: Received: from mails.dpdk.org (mails.dpdk.org [217.70.189.124]) by inbox.dpdk.org (Postfix) with ESMTP id A49E145DEE for ; Fri, 6 Dec 2024 13:04:58 +0100 (CET) Received: from mails.dpdk.org (localhost [127.0.0.1]) by mails.dpdk.org (Postfix) with ESMTP id 702214027D; Fri, 6 Dec 2024 13:04:58 +0100 (CET) Received: from mail-ot1-f99.google.com (mail-ot1-f99.google.com [209.85.210.99]) by mails.dpdk.org (Postfix) with ESMTP id 37AA840267 for ; Fri, 6 Dec 2024 13:04:57 +0100 (CET) Received: by mail-ot1-f99.google.com with SMTP id 46e09a7af769-71d4d0516e6so1042449a34.2 for ; Fri, 06 Dec 2024 04:04:57 -0800 (PST) DKIM-Signature: v=1; a=rsa-sha256; c=relaxed/relaxed; d=iol.unh.edu; s=unh-iol; t=1733486696; x=1734091496; darn=dpdk.org; h=references:in-reply-to:cc:to:from:subject:message-id:date:from:to :cc:subject:date:message-id:reply-to; bh=uF/uSc4y5lKlTw3Uw7Xg8xjmJMmDP6u4/VNA0GUSawM=; b=h0OyCdoJe/wSDyGTlh6sjKX6UJiKrqLwp0J1Hronokmlc9Vu058QHqIexoJZoHLLVN QKugQs0zoHEceHJ4h9dYFLknDa5wOHL5EYD9A6x1fBK9hX8c7FsAEf0QQ9OO7xAE1THS iYKZTYhqMLFPBrHg7J+cRDf9rRj9a3pJD+woo= X-Google-DKIM-Signature: v=1; a=rsa-sha256; c=relaxed/relaxed; d=1e100.net; s=20230601; t=1733486696; x=1734091496; h=references:in-reply-to:cc:to:from:subject:message-id:date :x-gm-message-state:from:to:cc:subject:date:message-id:reply-to; bh=uF/uSc4y5lKlTw3Uw7Xg8xjmJMmDP6u4/VNA0GUSawM=; b=kLmcc6VPbdRrlus9dpuOBnPWUyIMziwTYJoDmL3MXhXDnVC6ekgFGGCvLzpi1N2PLH Ec0RKAlC6mm2YzYKblSounRdiBVLEpSKvHfxRmy1y8mjydJi2Bs08BI1Ia/MDlyhKQ+j oCpcVusGt71Np0Qk9ue3vmxU1GszfVUfRAyLttiddRpElZotoLs389ZSDumTVHt3Xtgv OwT6KtDXLQmuhDdMmGQNulOEer//Cgcd80AwrNyEk801/wgcm5PZto3PhVD7B/Gk490E fRqd+eat2QmLTHqitIv6HMO6PN3L+jz4Q7lZrJCEbTMD2V7f2xxyE9oce7eQmoFig4qe IH9A== X-Gm-Message-State: AOJu0YwEaQQN/MZ3tcm5pwvk4UCuvvzdaJtYJYu/zv7F3/DB8B4mf2tr Mong0YtuQ2a+xcJUzmK8nw1H/v2eycl7O9VhLBYEhVBxm02Kr5P/eBd5UdWT4IDe0ZpWnQfzUhT VdBXI//J4VhC04BjWTwuPXJgqH/DfjnuxW8TAJpDhZfAUyIUyDwDLq75f X-Gm-Gg: ASbGncuUig2L7cNthFFQYyJ9cOXxiTfelsVnWrABhvUJv1yJskIAWS31BEh7NHZQUbG ACulHaLOlvZo5vSggXUMi9W4rb5yZsBL/sW3RUCBYg5Qn0xc4b4uM5yUpwfAhmwY6EoziY3GGdb eDGo1NeVkvmbpBMcA7aoUrTVJ2Q3eEpGeOvkTQshowhjOQ26Ux87JuMe0z19P6Pl1e+xIol/pFN pcINX//aefm73JmJXupbIpnb0BgFPDAlEHpTP1D14jXUKu9jQXcQeBS/vyPoZ+asW/dfJzs0MA= X-Google-Smtp-Source: AGHT+IEyK5MhCQYylZsHekNHX9za2Tn+yyXOCUWVR21SpJM/75wVIasuUwZ3gvovzy5w0KYQkk/Cg6ifP1Vt X-Received: by 2002:a05:6830:2589:b0:718:6cc:b5a2 with SMTP id 46e09a7af769-71dcf55879emr2782033a34.20.1733486696404; Fri, 06 Dec 2024 04:04:56 -0800 (PST) Received: from postal.iol.unh.edu (postal.iol.unh.edu. [2606:4100:3880:1234::84]) by smtp-relay.gmail.com with ESMTPS id 3f1490d57ef6-e39f6a4263esm71207276.3.2024.12.06.04.04.56 (version=TLS1_2 cipher=ECDHE-ECDSA-AES128-GCM-SHA256 bits=128/128); Fri, 06 Dec 2024 04:04:56 -0800 (PST) X-Relaying-Domain: iol.unh.edu Date: Fri, 06 Dec 2024 04:04:56 -0800 (PST) Message-ID: <6752e868.050a0220.1f3252.3fdfSMTPIN_ADDED_MISSING@mx.google.com> Received: from [172.17.0.2] (unknown [172.18.0.217]) by postal.iol.unh.edu (Postfix) with ESMTP id 002806052471; Fri, 6 Dec 2024 07:04:55 -0500 (EST) Subject: |SUCCESS| pw149065 [PATCH] [V1] doc: add tested Intel platforms two From: dpdklab@iol.unh.edu To: Test Report Cc: dpdk-test-reports@iol.unh.edu In-Reply-To: <20241206053928.1640200-1-linglix.chen@intel.com> References: <20241206053928.1640200-1-linglix.chen@intel.com> Content-Type: text/plain X-BeenThere: test-report@dpdk.org X-Mailman-Version: 2.1.29 Precedence: list List-Id: automatic DPDK test reports List-Unsubscribe: , List-Archive: List-Post: List-Help: List-Subscribe: , Errors-To: test-report-bounces@dpdk.org Test-Label: iol-compile-arm64-testing Test-Status: SUCCESS http://dpdk.org/patch/149065 _Testing PASS_ Submitter: Lingli Chen Date: Friday, December 06 2024 05:39:28 DPDK git baseline: Repo:dpdk Branch: master CommitID:7df61db6c387703a36306c1aea92225921e2eeb2 149065 --> testing pass Upstream job id: Generic-DPDK-Compile-Meson#341488 Test environment and result as below: +----------------------------------------+--------------------+ | Environment | dpdk_meson_compile | +========================================+====================+ | RHEL9 (ARM) | PASS | +----------------------------------------+--------------------+ | Ubuntu 20.04 ARM SVE | PASS | +----------------------------------------+--------------------+ | Ubuntu 20.04 ARM GCC Cross Compile | PASS | +----------------------------------------+--------------------+ | Fedora 40 (ARM) | PASS | +----------------------------------------+--------------------+ | Debian 12 with MUSDK | PASS | +----------------------------------------+--------------------+ | Fedora 39 (ARM Clang) | PASS | +----------------------------------------+--------------------+ | Fedora 39 (ARM) | PASS | +----------------------------------------+--------------------+ | Ubuntu 22.04 (ARM) | PASS | +----------------------------------------+--------------------+ | Ubuntu 20.04 (ARM) | PASS | +----------------------------------------+--------------------+ | Ubuntu 24.04 (ARM) | PASS | +----------------------------------------+--------------------+ | Debian 12 (arm) | PASS | +----------------------------------------+--------------------+ | Fedora 40 (ARM Clang) | PASS | +----------------------------------------+--------------------+ | CentOS Stream 9 (ARM) | PASS | +----------------------------------------+--------------------+ | Ubuntu 20.04 ARM Clang Cross Compile | PASS | +----------------------------------------+--------------------+ | Ubuntu 20.04 aarch32 GCC Cross Compile | PASS | +----------------------------------------+--------------------+ RHEL9 (ARM) Kernel: Depends on container host Compiler: gcc 11.4.1 20231218 (Red Hat 11.4.1-3) Ubuntu 20.04 ARM SVE Kernel: Depends on container host Compiler: gcc (Ubuntu 10.5.0-1ubuntu1~20.04) 10.5.0 Ubuntu 20.04 ARM GCC Cross Compile Kernel: Depends on container host Compiler: aarch64-linux-gnu-gcc (Ubuntu 9.4.0-1ubuntu1~20.04.2) 9.4.0 Fedora 40 (ARM) Kernel: Depends on container host Compiler: gcc 14.2.1 20240801 (Red Hat 14.2.1-1) Debian 12 with MUSDK Kernel: Depends on container host Compiler: gcc (Debian 12.2.0-14) 12.2.0 Fedora 39 (ARM Clang) Kernel: Depends on container host Compiler: clang 17.0.6 (Fedora 17.0.6-2.fc39) Fedora 39 (ARM) Kernel: Depends on container host Compiler: gcc 13.3.1 20240522 (Red Hat 13.3.1-1) Ubuntu 22.04 (ARM) Kernel: Depends on container host Compiler: gcc (Ubuntu 11.4.0-1ubuntu1~22.04) 11.4.0 Ubuntu 20.04 (ARM) Kernel: Depends on container host Compiler: gcc (Ubuntu 9.4.0-1ubuntu1~20.04.2) 9.4.0 Ubuntu 24.04 (ARM) Kernel: Depends on container host Compiler: gcc (Ubuntu 13.2.0-23ubuntu4) 13.2.0 Debian 12 (arm) Kernel: Depends on container host Compiler: gcc (Debian 12.2.0-14) 12.2.0 Fedora 40 (ARM Clang) Kernel: Depends on container host Compiler: clang 18.1.6 (Fedora 18.1.6-3.fc40) CentOS Stream 9 (ARM) Kernel: Depends on container host Compiler: gcc 11.4.1 20231218 (Red Hat 11.4.1-3) Ubuntu 20.04 ARM Clang Cross Compile Kernel: Depends on container host Compiler: clang 10.0.0-4ubuntu1 Ubuntu 20.04 aarch32 GCC Cross Compile Kernel: Depends on container host Compiler: gcc 9.4.0 To view detailed results, visit: https://lab.dpdk.org/results/dashboard/patchsets/32098/ UNH-IOL DPDK Community Lab To manage your email subscriptions, visit: https://lab.dpdk.org/results/dashboard/preferences/subscriptions/