From mboxrd@z Thu Jan  1 00:00:00 1970
Return-Path: <test-report-bounces@dpdk.org>
Received: from mails.dpdk.org (mails.dpdk.org [217.70.189.124])
	by inbox.dpdk.org (Postfix) with ESMTP id 443B245DEB
	for <public@inbox.dpdk.org>; Sat,  7 Dec 2024 00:40:48 +0100 (CET)
Received: from mails.dpdk.org (localhost [127.0.0.1])
	by mails.dpdk.org (Postfix) with ESMTP id 3CE214027C;
	Sat,  7 Dec 2024 00:40:48 +0100 (CET)
Received: from mail-il1-f227.google.com (mail-il1-f227.google.com
 [209.85.166.227])
 by mails.dpdk.org (Postfix) with ESMTP id 1C5CC40268
 for <test-report@dpdk.org>; Sat,  7 Dec 2024 00:40:47 +0100 (CET)
Received: by mail-il1-f227.google.com with SMTP id
 e9e14a558f8ab-3a8160382d4so3807335ab.0
 for <test-report@dpdk.org>; Fri, 06 Dec 2024 15:40:47 -0800 (PST)
DKIM-Signature: v=1; a=rsa-sha256; c=relaxed/relaxed;
 d=iol.unh.edu; s=unh-iol; t=1733528446; x=1734133246; darn=dpdk.org;
 h=references:in-reply-to:cc:to:from:subject:message-id:date:from:to
 :cc:subject:date:message-id:reply-to;
 bh=UALwtgjcG9Rmvj7VCF40wXcnqmfhxnt3ZNpiuxW46Jg=;
 b=Y+17vX1QC6iouyauz5bURId0autO6Hm+xyHa1CHqn6/MUGkCmvOJIbQPuUUrwDe5gw
 rsXuA4bwwnW9MsTO8viAijTSQjPHaLwQtG89w/ADLNw85vNRBtr1f8MGGTUKliMCLBkl
 O2nyzd7XBQ2+jXmHG9BfTeV6wWYMkevaCKaBw=
X-Google-DKIM-Signature: v=1; a=rsa-sha256; c=relaxed/relaxed;
 d=1e100.net; s=20230601; t=1733528446; x=1734133246;
 h=references:in-reply-to:cc:to:from:subject:message-id:date
 :x-gm-message-state:from:to:cc:subject:date:message-id:reply-to;
 bh=UALwtgjcG9Rmvj7VCF40wXcnqmfhxnt3ZNpiuxW46Jg=;
 b=QBSNusE6Ol6u+IJgGYeF3+rw3JghiPabIUD90mkfCIeQb32NK9dx3blOAqyFKxjs3t
 vcNGa4y6hQTOWUerHkg7Jb3NivhfG7rnRV1jvubjLpxjl8QbEhgcCwtJOJxN+ghBqbQX
 Qvp2L1ndvxjKYzbl4oAswvH6SgFQrWSHgqLiAE+Wf6uhuob35F0UXBX6Y56HxmWtHaX/
 oQ/6ZpduynvDM7u3TFyU/wz/5ckxUnrITUzB6v0plZ33m2V5SOr6HhcKw83LP8suCf9k
 1X3sqYaTJQTePF2JpWQXnatmCSm0kaLpMEvohQVEOuJb2sbRH+yMSfzd6O9wM7MIzu9T
 RG1w==
X-Gm-Message-State: AOJu0Yz89ert1kBKqd7hwm8pRaJ3mZejCTFNNPtLvLMU3tqiXC+fVrzB
 qhs9dPBQVjH5kw4AxdYoz8/KuPOKOtuIelwcADJxdMcG2dfVm4Yehsr4L0eMofoCz1ZHGz4IAjc
 yNqPUNnKmBNYGWT7U2CXhsqieT4RAAyw98lmFCl0L1Tl/6MZCbC5cjAwK
X-Gm-Gg: ASbGnct4LpCO2brc9Z6rv7K94Jp1WzpdgJ1GwSoBB1iOUpMkfW+LIXs7x1oqA01qe4b
 9k1dOk3Z+oEGkIM21OVCeR33uvof2dlSTdWPdApm0h8Bl4LDGcC65oPTUobJHB3s7lxEpd86lSE
 LbbC9XRvlIzL6+XX6nLsUlohuu//So5/vWbXRCGyK5u3uuONMFmrR7i9C4vwW3QTN4uJ8xQYQ5a
 spQz+y4BXnz9ZxVjRwpE8Zl1f2g0JcGGFL1hfCr5P7h8oor/1IELWj2URnLJQKzAKk7YU46H54=
X-Google-Smtp-Source: AGHT+IGEuH2TX6wFFYAqfUtJXhCbvX07ZeoYxQubjNXpZEYovEtMxa3CX+B8uMa9hZ/M23/PuZJA2fRqPVmC
X-Received: by 2002:a05:6e02:20c6:b0:3a7:e8e1:cbcd with SMTP id
 e9e14a558f8ab-3a811e47510mr53294345ab.22.1733528446440; 
 Fri, 06 Dec 2024 15:40:46 -0800 (PST)
Received: from postal.iol.unh.edu (postal.iol.unh.edu.
 [2606:4100:3880:1234::84]) by smtp-relay.gmail.com with ESMTPS id
 8926c6da1cb9f-4e28627ac1esm184544173.54.2024.12.06.15.40.46
 (version=TLS1_2 cipher=ECDHE-ECDSA-AES128-GCM-SHA256 bits=128/128);
 Fri, 06 Dec 2024 15:40:46 -0800 (PST)
X-Relaying-Domain: iol.unh.edu
Date: Fri, 06 Dec 2024 15:40:46 -0800 (PST)
Message-ID: <67538b7e.050a0220.2a2b0d.affeSMTPIN_ADDED_MISSING@mx.google.com>
Received: from [172.21.0.5] (unknown [172.18.0.240])
 by postal.iol.unh.edu (Postfix) with ESMTP id 0045E6052471;
 Fri,  6 Dec 2024 18:40:45 -0500 (EST)
Subject: |SUCCESS| pw149071-149077 [PATCH] [v11,7/7] test: add stress test su
From: dpdklab@iol.unh.edu
To: Test Report <test-report@dpdk.org>
Cc: dpdk-test-reports@iol.unh.edu
In-Reply-To: <20241206183600.34758-8-konstantin.ananyev@huawei.com>
References: <20241206183600.34758-8-konstantin.ananyev@huawei.com>
Content-Type: text/plain
X-BeenThere: test-report@dpdk.org
X-Mailman-Version: 2.1.29
Precedence: list
List-Id: automatic DPDK test reports <test-report.dpdk.org>
List-Unsubscribe: <https://mails.dpdk.org/options/test-report>,
 <mailto:test-report-request@dpdk.org?subject=unsubscribe>
List-Archive: <http://mails.dpdk.org/archives/test-report/>
List-Post: <mailto:test-report@dpdk.org>
List-Help: <mailto:test-report-request@dpdk.org?subject=help>
List-Subscribe: <https://mails.dpdk.org/listinfo/test-report>,
 <mailto:test-report-request@dpdk.org?subject=subscribe>
Errors-To: test-report-bounces@dpdk.org

Test-Label: iol-compile-arm64-testing
Test-Status: SUCCESS
http://dpdk.org/patch/149077

_Testing PASS_

Submitter: Konstantin Ananyev <konstantin.ananyev@huawei.com>
Date: Friday, December 06 2024 18:36:00 
DPDK git baseline: Repo:dpdk
  Branch: master
  CommitID:7df61db6c387703a36306c1aea92225921e2eeb2

149071-149077 --> testing pass

Upstream job id: Generic-DPDK-Compile-Meson#341562

Test environment and result as below:

+----------------------------------------+--------------------+
|              Environment               | dpdk_meson_compile |
+========================================+====================+
| RHEL9 (ARM)                            | PASS               |
+----------------------------------------+--------------------+
| Ubuntu 20.04 ARM SVE                   | PASS               |
+----------------------------------------+--------------------+
| Ubuntu 20.04 ARM GCC Cross Compile     | PASS               |
+----------------------------------------+--------------------+
| Debian 12 with MUSDK                   | PASS               |
+----------------------------------------+--------------------+
| Fedora 39 (ARM)                        | PASS               |
+----------------------------------------+--------------------+
| Fedora 39 (ARM Clang)                  | PASS               |
+----------------------------------------+--------------------+
| Fedora 40 (ARM)                        | PASS               |
+----------------------------------------+--------------------+
| Fedora 40 (ARM Clang)                  | PASS               |
+----------------------------------------+--------------------+
| Ubuntu 20.04 (ARM)                     | PASS               |
+----------------------------------------+--------------------+
| Ubuntu 22.04 (ARM)                     | PASS               |
+----------------------------------------+--------------------+
| Ubuntu 24.04 (ARM)                     | PASS               |
+----------------------------------------+--------------------+
| CentOS Stream 9 (ARM)                  | PASS               |
+----------------------------------------+--------------------+
| Ubuntu 20.04 ARM Clang Cross Compile   | PASS               |
+----------------------------------------+--------------------+
| Debian 12 (arm)                        | PASS               |
+----------------------------------------+--------------------+
| Ubuntu 20.04 aarch32 GCC Cross Compile | PASS               |
+----------------------------------------+--------------------+


RHEL9 (ARM)
	Kernel: Depends on container host
	Compiler: gcc 11.4.1 20231218 (Red Hat 11.4.1-3)

Ubuntu 20.04 ARM SVE
	Kernel: Depends on container host
	Compiler: gcc (Ubuntu 10.5.0-1ubuntu1~20.04) 10.5.0

Ubuntu 20.04 ARM GCC Cross Compile
	Kernel: Depends on container host
	Compiler: aarch64-linux-gnu-gcc (Ubuntu 9.4.0-1ubuntu1~20.04.2) 9.4.0

Debian 12 with MUSDK
	Kernel: Depends on container host
	Compiler: gcc (Debian 12.2.0-14) 12.2.0

Fedora 39 (ARM)
	Kernel: Depends on container host
	Compiler: gcc 13.3.1 20240522 (Red Hat 13.3.1-1)

Fedora 39 (ARM Clang)
	Kernel: Depends on container host
	Compiler: clang 17.0.6 (Fedora 17.0.6-2.fc39)

Fedora 40 (ARM)
	Kernel: Depends on container host
	Compiler: gcc 14.2.1 20240801 (Red Hat 14.2.1-1)

Fedora 40 (ARM Clang)
	Kernel: Depends on container host
	Compiler: clang 18.1.6 (Fedora 18.1.6-3.fc40)

Ubuntu 20.04 (ARM)
	Kernel: Depends on container host
	Compiler: gcc (Ubuntu 9.4.0-1ubuntu1~20.04.2) 9.4.0

Ubuntu 22.04 (ARM)
	Kernel: Depends on container host
	Compiler: gcc (Ubuntu 11.4.0-1ubuntu1~22.04) 11.4.0

Ubuntu 24.04 (ARM)
	Kernel: Depends on container host
	Compiler: gcc (Ubuntu 13.2.0-23ubuntu4) 13.2.0

CentOS Stream 9 (ARM)
	Kernel: Depends on container host
	Compiler: gcc 11.4.1 20231218 (Red Hat 11.4.1-3)

Ubuntu 20.04 ARM Clang Cross Compile
	Kernel: Depends on container host
	Compiler: clang 10.0.0-4ubuntu1

Debian 12 (arm)
	Kernel: Depends on container host
	Compiler: gcc (Debian 12.2.0-14) 12.2.0

Ubuntu 20.04 aarch32 GCC Cross Compile
	Kernel: Depends on container host
	Compiler: gcc 9.4.0

To view detailed results, visit:
https://lab.dpdk.org/results/dashboard/patchsets/32102/

UNH-IOL DPDK Community Lab

To manage your email subscriptions, visit: 
https://lab.dpdk.org/results/dashboard/preferences/subscriptions/