From mboxrd@z Thu Jan 1 00:00:00 1970 Return-Path: Received: from mails.dpdk.org (mails.dpdk.org [217.70.189.124]) by inbox.dpdk.org (Postfix) with ESMTP id 1F8E945DF2 for ; Sat, 7 Dec 2024 02:32:08 +0100 (CET) Received: from mails.dpdk.org (localhost [127.0.0.1]) by mails.dpdk.org (Postfix) with ESMTP id 0823E4027C; Sat, 7 Dec 2024 02:32:08 +0100 (CET) Received: from mail-pf1-f227.google.com (mail-pf1-f227.google.com [209.85.210.227]) by mails.dpdk.org (Postfix) with ESMTP id 2F14540268 for ; Sat, 7 Dec 2024 02:32:07 +0100 (CET) Received: by mail-pf1-f227.google.com with SMTP id d2e1a72fcca58-7259a26ad10so2168948b3a.1 for ; Fri, 06 Dec 2024 17:32:07 -0800 (PST) DKIM-Signature: v=1; a=rsa-sha256; c=relaxed/relaxed; d=iol.unh.edu; s=unh-iol; t=1733535126; x=1734139926; darn=dpdk.org; h=references:in-reply-to:cc:to:from:subject:message-id:date:from:to :cc:subject:date:message-id:reply-to; bh=KS0LHnJ4/+5vIsbMMsCLYh6diwC2rliyjICJPvSIeKs=; b=cUIazFB90/ptreAYT3BNCqhTaPi4yZE4a7R/l18az5Kv7LzdJcGvrs8CntRXGJOzbK 2WP1pIJnUyfPwP3j/1lsFOW04S845R9En5/58enbOnCSEzS7ATWpWNpC2fEcqBkCj8Yb XPagiexxddPC6l844TsfUuxIUL4GD5WDL8liw= X-Google-DKIM-Signature: v=1; a=rsa-sha256; c=relaxed/relaxed; d=1e100.net; s=20230601; t=1733535126; x=1734139926; h=references:in-reply-to:cc:to:from:subject:message-id:date :x-gm-message-state:from:to:cc:subject:date:message-id:reply-to; bh=KS0LHnJ4/+5vIsbMMsCLYh6diwC2rliyjICJPvSIeKs=; b=OWdP+PTlpfntd/eYe6uzkZms5zH6YWsQaqEyctKmDOHmRR8vyn93VVnzQaEhRPT0el 68aHT5WN/G8COjhjwZbqj6FusxnUbLhashNx+UNeaTZqeoYC83uCmRr2oTnbE/i2AVwD Lk/0UbycSALNtSv+QabNQrpmK90NND7z97KIC+347wwvqPsILDUcJtqT3/a1ayiugH0L QAvN43tWNj3zDnsFSwz6JxWY41hLNoKgccR8MB+PK05vwN8Dwqv5PtJgKbg/wSV/DOIp xMyzsNi8QCOLyGO4nM7EILz5M2MuIwCSLuiv2Q1UvDnJFmLPUFexiBaWkpj0uQ61a5fl tW5g== X-Gm-Message-State: AOJu0Yyro87irQzcBdOCQnBG/Si88vKiF0phDxcpoY8V/XKPLZoeny73 MH9LTbxCyW/6b0KxiWiYB33+9MJ1/l7CoJW4DeH4m1PFlkHiPOVJO2ILbIRJvyaS5MC7ckqztDr lXar664KTs/qN3VQbI3EleAHgKRYSuePa/tkfgBsl X-Gm-Gg: ASbGnctw8WN8Cs1a3//V6jbR2dc1xoLBvw26u41J/MHbYCmv2lfDYY1lPMf3E7dC2Zi qcoxSUeUL9oNyDybn3QS+627DbKFwj3oqwJ2sUZ6NbFw7Dwe2Kpkp/qXZ3K3Ls9uTCBBlU7MXPG ZL6jtl7z3+oskvgNKhebx1YW8ZbwUQTY7mo3jeM2z8RW+Cifqu3bDpjMX+ecockr0ltdG7mWNlr IvRPAO9c7XepSFTnZ0GMBs5cDdnUeBQKzeV99gRxH0Q6WLNCUSqJFgSc5po9KIYA12Cs94= X-Google-Smtp-Source: AGHT+IEerk+CeG4VUmUuS3CNH63kPehLW+w7ajFLr8tbh+ouCxERUYTgmJlxSQhkq6XEJORdIOXiEylOMgYD X-Received: by 2002:a05:6a00:2441:b0:725:41b3:8421 with SMTP id d2e1a72fcca58-725b7d6b91emr8520827b3a.1.1733535126255; Fri, 06 Dec 2024 17:32:06 -0800 (PST) Received: from postal.iol.unh.edu (postal.iol.unh.edu. [132.177.123.84]) by smtp-relay.gmail.com with ESMTPS id d2e1a72fcca58-725a2cd0f84sm255839b3a.22.2024.12.06.17.32.06 (version=TLS1_2 cipher=ECDHE-ECDSA-AES128-GCM-SHA256 bits=128/128); Fri, 06 Dec 2024 17:32:06 -0800 (PST) X-Relaying-Domain: iol.unh.edu Date: Fri, 06 Dec 2024 17:32:06 -0800 (PST) Message-ID: <6753a596.050a0220.38661a.f53bSMTPIN_ADDED_MISSING@mx.google.com> Received: from [172.21.0.6] (unknown [172.18.0.240]) by postal.iol.unh.edu (Postfix) with ESMTP id 70E506052471; Fri, 6 Dec 2024 20:32:05 -0500 (EST) Subject: |WARNING| pw149065 [PATCH] [V1] doc: add tested Intel platforms two From: dpdklab@iol.unh.edu To: Test Report Cc: dpdk-test-reports@iol.unh.edu In-Reply-To: <20241206053928.1640200-1-linglix.chen@intel.com> References: <20241206053928.1640200-1-linglix.chen@intel.com> Content-Type: text/plain X-BeenThere: test-report@dpdk.org X-Mailman-Version: 2.1.29 Precedence: list List-Id: automatic DPDK test reports List-Unsubscribe: , List-Archive: List-Post: List-Help: List-Subscribe: , Errors-To: test-report-bounces@dpdk.org Test-Label: iol-compile-amd64-testing Test-Status: WARNING http://dpdk.org/patch/149065 _Testing issues_ Submitter: Lingli Chen Date: Friday, December 06 2024 05:39:28 DPDK git baseline: Repo:dpdk Branch: master CommitID:7df61db6c387703a36306c1aea92225921e2eeb2 149065 --> testing issues Upstream job id: Generic-DPDK-Compile-Meson#341690 Test environment and result as below: +-------------------+--------------------+------------------+-------------------+ | Environment | dpdk_meson_compile | dpdk_compile_ovs | dpdk_compile_spdk | +===================+====================+==================+===================+ | CentOS Stream 9 | PASS | PASS | PASS | +-------------------+--------------------+------------------+-------------------+ | Debian 12 | PASS | PASS | PASS | +-------------------+--------------------+------------------+-------------------+ | Fedora 39 (Clang) | PASS | PASS | PASS | +-------------------+--------------------+------------------+-------------------+ | Fedora 39 | PASS | PASS | PASS | +-------------------+--------------------+------------------+-------------------+ | Fedora 40 (Clang) | PASS | PASS | PASS | +-------------------+--------------------+------------------+-------------------+ | RHEL8 | PASS | PASS | SKIPPED | +-------------------+--------------------+------------------+-------------------+ | openSUSE Leap 15 | PASS | PASS | SKIPPED | +-------------------+--------------------+------------------+-------------------+ | Fedora 40 | PASS | PASS | PASS | +-------------------+--------------------+------------------+-------------------+ | Ubuntu 22.04 | PASS | PASS | PASS | +-------------------+--------------------+------------------+-------------------+ | RHEL9 | PASS | PASS | SKIPPED | +-------------------+--------------------+------------------+-------------------+ | Ubuntu 20.04 | PASS | WARN | SKIPPED | +-------------------+--------------------+------------------+-------------------+ | Ubuntu 24.04 | PASS | PASS | PASS | +-------------------+--------------------+------------------+-------------------+ | Alpine | PASS | PASS | SKIPPED | +-------------------+--------------------+------------------+-------------------+ | FreeBSD 13.4 | PASS | SKIPPED | SKIPPED | +-------------------+--------------------+------------------+-------------------+ | FreeBSD 14.1 | PASS | SKIPPED | SKIPPED | +-------------------+--------------------+------------------+-------------------+ ==== 20 line log output for Ubuntu 20.04 (dpdk_compile_ovs): ==== --- Failed to get log output --- ==== End log output ==== CentOS Stream 9 Kernel: Depends on container host Compiler: gcc 11.4.1 20231218 (Red Hat 11.4.1-3) Debian 12 Kernel: Depends on container host Compiler: gcc (Debian 12.2.0-14) 12.2.0 Fedora 39 (Clang) Kernel: Depends on container host Compiler: clang 17.0.6 (Fedora 17.0.6-2.fc39) Fedora 39 Kernel: Depends on container host Compiler: gcc 13.3.1 20240522 (Red Hat 13.3.1-1) Fedora 40 (Clang) Kernel: Depends on container host Compiler: clang 18.1.6 (Fedora 18.1.6-3.fc40) RHEL8 Kernel: Depends on container host Compiler: gcc 8.5.0 20210514 (Red Hat 8.5.0-22) openSUSE Leap 15 Kernel: Depends on container host Compiler: gcc (SUSE Linux) 7.5.0 Fedora 40 Kernel: Depends on container host Compiler: gcc 14.2.1 20240801 (Red Hat 14.2.1-1) Ubuntu 22.04 Kernel: Depends on container host Compiler: gcc (Ubuntu 11.4.0-1ubuntu1~22.04) 11.4.0 RHEL9 Kernel: Depends on container host Compiler: gcc 11.4.1 20231218 (Red Hat 11.4.1-3) Ubuntu 20.04 Kernel: Depends on container host Compiler: gcc (Ubuntu 9.4.0-1ubuntu1~20.04.2) 9.4.0 Ubuntu 24.04 Kernel: Depends on container host Compiler: gcc (Ubuntu 13.2.0-23ubuntu4) 13.2.0 Alpine Kernel: Depends on container host Compiler: gcc (Alpine 13.2.1_git20240309) 13.2.1 20240309 FreeBSD 13.4 Kernel: 13.4-RELEASE-p1 Compiler: clang 18.1.6 FreeBSD 14.1 Kernel: 14.1-RELEASE-p3 Compiler: clang 18.1.5 To view detailed results, visit: https://lab.dpdk.org/results/dashboard/patchsets/32098/ UNH-IOL DPDK Community Lab To manage your email subscriptions, visit: https://lab.dpdk.org/results/dashboard/preferences/subscriptions/