From mboxrd@z Thu Jan  1 00:00:00 1970
Return-Path: <test-report-bounces@dpdk.org>
Received: from mails.dpdk.org (mails.dpdk.org [217.70.189.124])
	by inbox.dpdk.org (Postfix) with ESMTP id C38B345DF7
	for <public@inbox.dpdk.org>; Sat,  7 Dec 2024 04:10:19 +0100 (CET)
Received: from mails.dpdk.org (localhost [127.0.0.1])
	by mails.dpdk.org (Postfix) with ESMTP id BF06D402A5;
	Sat,  7 Dec 2024 04:10:19 +0100 (CET)
Received: from mail-il1-f227.google.com (mail-il1-f227.google.com
 [209.85.166.227])
 by mails.dpdk.org (Postfix) with ESMTP id 8267740281
 for <test-report@dpdk.org>; Sat,  7 Dec 2024 04:10:18 +0100 (CET)
Received: by mail-il1-f227.google.com with SMTP id
 e9e14a558f8ab-3a78b39034dso10387565ab.3
 for <test-report@dpdk.org>; Fri, 06 Dec 2024 19:10:18 -0800 (PST)
DKIM-Signature: v=1; a=rsa-sha256; c=relaxed/relaxed;
 d=iol.unh.edu; s=unh-iol; t=1733541018; x=1734145818; darn=dpdk.org;
 h=references:in-reply-to:cc:to:from:subject:message-id:date:from:to
 :cc:subject:date:message-id:reply-to;
 bh=tYpbr0S6lJ0FW4Pncvs20ZWTH50d6eBTlSk4L4tR90M=;
 b=QdM0mgMbWXWTBF4BWJxSL65oZL5K7RA2v8TzNOKsbTL/xa+KVYVuafy83T9SJSK4nz
 UUItk6EWvr90HFPlGplVKNsJoBNN77N4Zbh9OVixJVz5eKUut+sh07StXiJNNdNl4b5C
 P2ozqhx3Ce4QWAYImduezHPaaC338lOjw2QJQ=
X-Google-DKIM-Signature: v=1; a=rsa-sha256; c=relaxed/relaxed;
 d=1e100.net; s=20230601; t=1733541018; x=1734145818;
 h=references:in-reply-to:cc:to:from:subject:message-id:date
 :x-gm-message-state:from:to:cc:subject:date:message-id:reply-to;
 bh=tYpbr0S6lJ0FW4Pncvs20ZWTH50d6eBTlSk4L4tR90M=;
 b=dPhwioZF/oyLDY0ryGotvB45IvZ4Gn98m/s/ICd76eNABFyEGeIj2UrS1y4TzADD93
 rAO2h3EVB/vl0meA7XUtF+Y6rKrIDDagO+CMdoiE85ThRVTuXxzOW35AUc01iDyBS15E
 /r31hquYYVdLUqPSFrmlRuxWWtdzhNRLMfNDe+rEIsQM6i3BI/JYysKf516B/csRygHw
 97KysBWF+ZexQfPvPIeBFPzOaSY3f8KUE0Eih1epPMQ5iOs5+h5mJoZX4t0D2RnutMTX
 RSpjm1IGxS9mjxQH2q7iqa57h5hBCu9SJ2XqUKYdQqJMqjUK2aB23uOIdwtC+Dk376Sn
 qt8w==
X-Gm-Message-State: AOJu0Yysc4RGrlesLXet9yAMI5fmES+RwgKRgQ9BnzaLCd174sJd5uG0
 AM3KAEDMHsOaiM/797GN1ze4iSQmSrwmEkbtNckHTlrK6xOwHB6GG4WylgejAhzs5STXhxgIh0I
 x0NUKHIF968cewqBRk7xg0rIoCxCnvuVPTxYGGKqC
X-Gm-Gg: ASbGncuIQ3PKgjxs4tmbOaqMc/ir7a/2o5zSFZyDpBNAj9rzXwz3t7N05p7+lxMCisk
 +WQ4AhPmjEIte9u80Id52sQfFlLzOg9+f9xUjqS6WKRjKn2scT9EdPUB3BfDezxgX2XKL9j+nRV
 KziqLG6lCbRA79KAAdWY0ADqxIvGsx4dUlb767Il5kWIuUXrS2IEu4RZp50NqSR8ewDQWLfe/3k
 IeXt0dcQuoNGUR94w+5Gga1rmvCJKvnIyLxSMXN3kpe95AZDDDnBy4N78Y+cYh4aN1pLbM=
X-Google-Smtp-Source: AGHT+IG6BYnHFCb3JvLXJmtEPqiHHAlcvKiDpHx3qgWcyGtfA7JlMKb7dOTgMzS1N3HbfLEBcTGiPS/CzzTz
X-Received: by 2002:a92:c265:0:b0:3a7:7ee3:109b with SMTP id
 e9e14a558f8ab-3a811e03747mr63647255ab.16.1733541017837; 
 Fri, 06 Dec 2024 19:10:17 -0800 (PST)
Received: from postal.iol.unh.edu (postal.iol.unh.edu. [132.177.123.84])
 by smtp-relay.gmail.com with ESMTPS id
 e9e14a558f8ab-3a808dab65dsm2582545ab.29.2024.12.06.19.10.17
 (version=TLS1_2 cipher=ECDHE-ECDSA-AES128-GCM-SHA256 bits=128/128);
 Fri, 06 Dec 2024 19:10:17 -0800 (PST)
X-Relaying-Domain: iol.unh.edu
Date: Fri, 06 Dec 2024 19:10:17 -0800 (PST)
Message-ID: <6753bc99.920a0220.7e099.f95fSMTPIN_ADDED_MISSING@mx.google.com>
Received: from [172.21.0.6] (unknown [172.18.0.240])
 by postal.iol.unh.edu (Postfix) with ESMTP id 584AC6052471;
 Fri,  6 Dec 2024 22:10:17 -0500 (EST)
Subject: |WARNING| pw149065 [PATCH] [V1] doc: add tested Intel platforms two 
From: dpdklab@iol.unh.edu
To: Test Report <test-report@dpdk.org>
Cc: dpdk-test-reports@iol.unh.edu
In-Reply-To: <20241206053928.1640200-1-linglix.chen@intel.com>
References: <20241206053928.1640200-1-linglix.chen@intel.com>
Content-Type: text/plain
X-BeenThere: test-report@dpdk.org
X-Mailman-Version: 2.1.29
Precedence: list
List-Id: automatic DPDK test reports <test-report.dpdk.org>
List-Unsubscribe: <https://mails.dpdk.org/options/test-report>,
 <mailto:test-report-request@dpdk.org?subject=unsubscribe>
List-Archive: <http://mails.dpdk.org/archives/test-report/>
List-Post: <mailto:test-report@dpdk.org>
List-Help: <mailto:test-report-request@dpdk.org?subject=help>
List-Subscribe: <https://mails.dpdk.org/listinfo/test-report>,
 <mailto:test-report-request@dpdk.org?subject=subscribe>
Errors-To: test-report-bounces@dpdk.org

Test-Label: iol-compile-amd64-testing
Test-Status: WARNING
http://dpdk.org/patch/149065

_Testing issues_

Submitter: Lingli Chen <linglix.chen@intel.com>
Date: Friday, December 06 2024 05:39:28 
DPDK git baseline: Repo:dpdk
  Branch: master
  CommitID:7df61db6c387703a36306c1aea92225921e2eeb2

149065 --> testing issues

Upstream job id: Windows-Compile-DPDK-Native#25191

Test environment and result as below:

+---------------------+--------------------+------------------+-------------------+-------------------+-----------------------+
|     Environment     | dpdk_meson_compile | dpdk_compile_ovs | dpdk_compile_spdk | dpdk_msvc_compile | dpdk_win_llvm_compile |
+=====================+====================+==================+===================+===================+=======================+
| CentOS Stream 9     | PASS               | PASS             | PASS              | SKIPPED           | SKIPPED               |
+---------------------+--------------------+------------------+-------------------+-------------------+-----------------------+
| Debian 12           | PASS               | PASS             | PASS              | SKIPPED           | SKIPPED               |
+---------------------+--------------------+------------------+-------------------+-------------------+-----------------------+
| Fedora 39 (Clang)   | PASS               | PASS             | PASS              | SKIPPED           | SKIPPED               |
+---------------------+--------------------+------------------+-------------------+-------------------+-----------------------+
| Fedora 39           | PASS               | PASS             | PASS              | SKIPPED           | SKIPPED               |
+---------------------+--------------------+------------------+-------------------+-------------------+-----------------------+
| Fedora 40 (Clang)   | PASS               | PASS             | PASS              | SKIPPED           | SKIPPED               |
+---------------------+--------------------+------------------+-------------------+-------------------+-----------------------+
| RHEL8               | PASS               | PASS             | SKIPPED           | SKIPPED           | SKIPPED               |
+---------------------+--------------------+------------------+-------------------+-------------------+-----------------------+
| openSUSE Leap 15    | PASS               | PASS             | SKIPPED           | SKIPPED           | SKIPPED               |
+---------------------+--------------------+------------------+-------------------+-------------------+-----------------------+
| Fedora 40           | PASS               | PASS             | PASS              | SKIPPED           | SKIPPED               |
+---------------------+--------------------+------------------+-------------------+-------------------+-----------------------+
| Ubuntu 22.04        | PASS               | PASS             | PASS              | SKIPPED           | SKIPPED               |
+---------------------+--------------------+------------------+-------------------+-------------------+-----------------------+
| RHEL9               | PASS               | PASS             | SKIPPED           | SKIPPED           | SKIPPED               |
+---------------------+--------------------+------------------+-------------------+-------------------+-----------------------+
| Ubuntu 20.04        | PASS               | WARN             | SKIPPED           | SKIPPED           | SKIPPED               |
+---------------------+--------------------+------------------+-------------------+-------------------+-----------------------+
| Ubuntu 24.04        | PASS               | PASS             | PASS              | SKIPPED           | SKIPPED               |
+---------------------+--------------------+------------------+-------------------+-------------------+-----------------------+
| Alpine              | PASS               | PASS             | SKIPPED           | SKIPPED           | SKIPPED               |
+---------------------+--------------------+------------------+-------------------+-------------------+-----------------------+
| FreeBSD 13.4        | PASS               | SKIPPED          | SKIPPED           | SKIPPED           | SKIPPED               |
+---------------------+--------------------+------------------+-------------------+-------------------+-----------------------+
| FreeBSD 14.1        | PASS               | SKIPPED          | SKIPPED           | SKIPPED           | SKIPPED               |
+---------------------+--------------------+------------------+-------------------+-------------------+-----------------------+
| Windows Server 2022 | SKIPPED            | SKIPPED          | SKIPPED           | PASS              | PASS                  |
+---------------------+--------------------+------------------+-------------------+-------------------+-----------------------+

==== 20 line log output for Ubuntu 20.04 (dpdk_compile_ovs): ====
 --- Failed to get log output --- 
==== End log output ====

CentOS Stream 9
	Kernel: Depends on container host
	Compiler: gcc 11.4.1 20231218 (Red Hat 11.4.1-3)

Debian 12
	Kernel: Depends on container host
	Compiler: gcc (Debian 12.2.0-14) 12.2.0

Fedora 39 (Clang)
	Kernel: Depends on container host
	Compiler: clang 17.0.6 (Fedora 17.0.6-2.fc39)

Fedora 39
	Kernel: Depends on container host
	Compiler: gcc 13.3.1 20240522 (Red Hat 13.3.1-1)

Fedora 40 (Clang)
	Kernel: Depends on container host
	Compiler: clang 18.1.6 (Fedora 18.1.6-3.fc40)

RHEL8
	Kernel: Depends on container host
	Compiler: gcc 8.5.0 20210514 (Red Hat 8.5.0-22)

openSUSE Leap 15
	Kernel: Depends on container host
	Compiler: gcc (SUSE Linux) 7.5.0

Fedora 40
	Kernel: Depends on container host
	Compiler: gcc 14.2.1 20240801 (Red Hat 14.2.1-1)

Ubuntu 22.04
	Kernel: Depends on container host
	Compiler: gcc (Ubuntu 11.4.0-1ubuntu1~22.04) 11.4.0

RHEL9
	Kernel: Depends on container host
	Compiler: gcc 11.4.1 20231218 (Red Hat 11.4.1-3)

Ubuntu 20.04
	Kernel: Depends on container host
	Compiler: gcc (Ubuntu 9.4.0-1ubuntu1~20.04.2) 9.4.0

Ubuntu 24.04
	Kernel: Depends on container host
	Compiler: gcc (Ubuntu 13.2.0-23ubuntu4) 13.2.0

Alpine
	Kernel: Depends on container host
	Compiler: gcc (Alpine 13.2.1_git20240309) 13.2.1 20240309

FreeBSD 13.4
	Kernel: 13.4-RELEASE-p1
	Compiler: clang 18.1.6

FreeBSD 14.1
	Kernel: 14.1-RELEASE-p3
	Compiler: clang 18.1.5

Windows Server 2022
	Kernel: 10.0.20348.2031
	Compiler: clang 15.0.7, gcc 14.1.0 (MinGW), and MSVC VS 19.39.33521

To view detailed results, visit:
https://lab.dpdk.org/results/dashboard/patchsets/32098/

UNH-IOL DPDK Community Lab

To manage your email subscriptions, visit: 
https://lab.dpdk.org/results/dashboard/preferences/subscriptions/