From mboxrd@z Thu Jan 1 00:00:00 1970 Return-Path: Received: from mails.dpdk.org (mails.dpdk.org [217.70.189.124]) by inbox.dpdk.org (Postfix) with ESMTP id 482CF45DF7 for ; Sat, 7 Dec 2024 04:13:22 +0100 (CET) Received: from mails.dpdk.org (localhost [127.0.0.1]) by mails.dpdk.org (Postfix) with ESMTP id 1A2EB402A5; Sat, 7 Dec 2024 04:13:22 +0100 (CET) Received: from mail-yw1-f226.google.com (mail-yw1-f226.google.com [209.85.128.226]) by mails.dpdk.org (Postfix) with ESMTP id 7BFF340281 for ; Sat, 7 Dec 2024 04:13:20 +0100 (CET) Received: by mail-yw1-f226.google.com with SMTP id 00721157ae682-6eff5f99de4so3390727b3.1 for ; Fri, 06 Dec 2024 19:13:20 -0800 (PST) DKIM-Signature: v=1; a=rsa-sha256; c=relaxed/relaxed; d=iol.unh.edu; s=unh-iol; t=1733541199; x=1734145999; darn=dpdk.org; h=references:in-reply-to:cc:to:from:subject:message-id:date:from:to :cc:subject:date:message-id:reply-to; bh=RLZLsQMjjMWA5ZsV0TtknrlVryTLuQ2rXcrAV0R4QlE=; b=Z+yLNURXnHkKbQ0Ux+Q2CkN+67xVSqWarECRglWEHh+qJoTZcc3Qw7SO2Qh5SkOgLs PMHrHaL7B6HDLuYOzUe9TvZTXmrc0NnmgtdcOjZ09sO/jB9m3nHxPEgjaxpAaXy5f0FL IrUnTnmI+wLv4R6jVWs0KVPozj9IY/kk9x0c4= X-Google-DKIM-Signature: v=1; a=rsa-sha256; c=relaxed/relaxed; d=1e100.net; s=20230601; t=1733541199; x=1734145999; h=references:in-reply-to:cc:to:from:subject:message-id:date :x-gm-message-state:from:to:cc:subject:date:message-id:reply-to; bh=RLZLsQMjjMWA5ZsV0TtknrlVryTLuQ2rXcrAV0R4QlE=; b=gOtGmecotMeNnncvaavDAVrj2x537CKYlOramzahlniGe3RV1PdkhIWcyAvQURg3UH mjEJQMJIHRQIEkXQWsNP+XYDOjcIIOgS1inuKL8ZyxWqEMOjzw7hNg/oGEDDN550Tcx0 nq9DtQLKGUHondEtd/6plZmi6tKyzy21qJJoTyJj0aAsGTihi5/BTHAPbiLfsJwTwSJa HEFMxfqpkeMVPSrpmAnxFwR90ioyuF9IsgQFa0OBmyr/uli6PXi6LBpsN6wqZYaqPx1m t7Xf9uGWhqEqyUfoR8Q9GnyFtcjfynLSHDR/Pg7NEp35s6uNF/KsX5SJa9Fb5A+e3giQ 5W/A== X-Gm-Message-State: AOJu0YzBTZFAz69cmOvxYolPpZMVGT4IAjLyo7XIoNJuFbEL8gYao+nx EBfCxRZTdqnG0RtEQMvZ3vp2DuDLp9MHcsFlnLrRr8yRDYy/DhUdL2Ex/mG1Hbfs1lCcP1GFNaL S3MrEOsbYEVUttTZTfXuWgcicjntELXBTXD5xTTi3 X-Gm-Gg: ASbGncvAAMOW8VUqyPcakq6x7eWCPLNJn2NJVZVBXr/Oec4YJwLaa1+uGSR56UYdab/ hsmDMLCmxJ3wf8uJ/oHtMfzUuJ5kYfQ+jWi10+kZkmnUir1ie8y/PLC2hVTLPP7W9+Cna6d/+Jl 6fiSMU0R/FQzOSmxIgIAuVxH3Kv5BjRH5nXf6DMkL8neDUAq+8Wjt+Zgwls1tzcg7H02BFu5yPU Qgeawn1S+dKY212lS+mpN3wMjjNh0Z5dsBu7NtlsJ2IbJUWvn948dcmmi9HgjlEyLT9iaI= X-Google-Smtp-Source: AGHT+IHY7aEuLWiBqrQ+RDCZE9AzsvNu9LUPBjMSER6azJQ9Ud9rs1AMr7e1zW//z99BrIkg+vC+qD1Im8oy X-Received: by 2002:a05:690c:4489:b0:6ef:7fdb:7d68 with SMTP id 00721157ae682-6efe3bceafdmr69877137b3.3.1733541199712; Fri, 06 Dec 2024 19:13:19 -0800 (PST) Received: from postal.iol.unh.edu (postal.iol.unh.edu. [132.177.123.84]) by smtp-relay.gmail.com with ESMTPS id 00721157ae682-6eff5f6ff5asm238937b3.6.2024.12.06.19.13.19 (version=TLS1_2 cipher=ECDHE-ECDSA-AES128-GCM-SHA256 bits=128/128); Fri, 06 Dec 2024 19:13:19 -0800 (PST) X-Relaying-Domain: iol.unh.edu Date: Fri, 06 Dec 2024 19:13:19 -0800 (PST) Message-ID: <6753bd4f.050a0220.1e5959.175aSMTPIN_ADDED_MISSING@mx.google.com> Received: from [172.21.0.6] (unknown [172.18.0.240]) by postal.iol.unh.edu (Postfix) with ESMTP id 56C356052471; Fri, 6 Dec 2024 22:13:19 -0500 (EST) Subject: |WARNING| pw149065 [PATCH] [V1] doc: add tested Intel platforms two From: dpdklab@iol.unh.edu To: Test Report Cc: dpdk-test-reports@iol.unh.edu In-Reply-To: <20241206053928.1640200-1-linglix.chen@intel.com> References: <20241206053928.1640200-1-linglix.chen@intel.com> Content-Type: text/plain X-BeenThere: test-report@dpdk.org X-Mailman-Version: 2.1.29 Precedence: list List-Id: automatic DPDK test reports List-Unsubscribe: , List-Archive: List-Post: List-Help: List-Subscribe: , Errors-To: test-report-bounces@dpdk.org Test-Label: iol-compile-amd64-testing Test-Status: WARNING http://dpdk.org/patch/149065 _Testing issues_ Submitter: Lingli Chen Date: Friday, December 06 2024 05:39:28 DPDK git baseline: Repo:dpdk Branch: master CommitID:7df61db6c387703a36306c1aea92225921e2eeb2 149065 --> testing issues Upstream job id: Windows-Compile-DPDK-Native#25192 Test environment and result as below: +---------------------+--------------------+------------------+-------------------+-------------------+-----------------------+----------------------+ | Environment | dpdk_meson_compile | dpdk_compile_ovs | dpdk_compile_spdk | dpdk_msvc_compile | dpdk_win_llvm_compile | dpdk_mingw64_compile | +=====================+====================+==================+===================+===================+=======================+======================+ | CentOS Stream 9 | PASS | PASS | PASS | SKIPPED | SKIPPED | SKIPPED | +---------------------+--------------------+------------------+-------------------+-------------------+-----------------------+----------------------+ | Debian 12 | PASS | PASS | PASS | SKIPPED | SKIPPED | SKIPPED | +---------------------+--------------------+------------------+-------------------+-------------------+-----------------------+----------------------+ | Fedora 39 (Clang) | PASS | PASS | PASS | SKIPPED | SKIPPED | SKIPPED | +---------------------+--------------------+------------------+-------------------+-------------------+-----------------------+----------------------+ | Fedora 39 | PASS | PASS | PASS | SKIPPED | SKIPPED | SKIPPED | +---------------------+--------------------+------------------+-------------------+-------------------+-----------------------+----------------------+ | Fedora 40 (Clang) | PASS | PASS | PASS | SKIPPED | SKIPPED | SKIPPED | +---------------------+--------------------+------------------+-------------------+-------------------+-----------------------+----------------------+ | RHEL8 | PASS | PASS | SKIPPED | SKIPPED | SKIPPED | SKIPPED | +---------------------+--------------------+------------------+-------------------+-------------------+-----------------------+----------------------+ | openSUSE Leap 15 | PASS | PASS | SKIPPED | SKIPPED | SKIPPED | SKIPPED | +---------------------+--------------------+------------------+-------------------+-------------------+-----------------------+----------------------+ | Fedora 40 | PASS | PASS | PASS | SKIPPED | SKIPPED | SKIPPED | +---------------------+--------------------+------------------+-------------------+-------------------+-----------------------+----------------------+ | Ubuntu 22.04 | PASS | PASS | PASS | SKIPPED | SKIPPED | SKIPPED | +---------------------+--------------------+------------------+-------------------+-------------------+-----------------------+----------------------+ | RHEL9 | PASS | PASS | SKIPPED | SKIPPED | SKIPPED | SKIPPED | +---------------------+--------------------+------------------+-------------------+-------------------+-----------------------+----------------------+ | Ubuntu 20.04 | PASS | WARN | SKIPPED | SKIPPED | SKIPPED | SKIPPED | +---------------------+--------------------+------------------+-------------------+-------------------+-----------------------+----------------------+ | Ubuntu 24.04 | PASS | PASS | PASS | SKIPPED | SKIPPED | SKIPPED | +---------------------+--------------------+------------------+-------------------+-------------------+-----------------------+----------------------+ | Alpine | PASS | PASS | SKIPPED | SKIPPED | SKIPPED | SKIPPED | +---------------------+--------------------+------------------+-------------------+-------------------+-----------------------+----------------------+ | FreeBSD 13.4 | PASS | SKIPPED | SKIPPED | SKIPPED | SKIPPED | SKIPPED | +---------------------+--------------------+------------------+-------------------+-------------------+-----------------------+----------------------+ | FreeBSD 14.1 | PASS | SKIPPED | SKIPPED | SKIPPED | SKIPPED | SKIPPED | +---------------------+--------------------+------------------+-------------------+-------------------+-----------------------+----------------------+ | Windows Server 2022 | SKIPPED | SKIPPED | SKIPPED | PASS | PASS | PASS | +---------------------+--------------------+------------------+-------------------+-------------------+-----------------------+----------------------+ ==== 20 line log output for Ubuntu 20.04 (dpdk_compile_ovs): ==== --- Failed to get log output --- ==== End log output ==== CentOS Stream 9 Kernel: Depends on container host Compiler: gcc 11.4.1 20231218 (Red Hat 11.4.1-3) Debian 12 Kernel: Depends on container host Compiler: gcc (Debian 12.2.0-14) 12.2.0 Fedora 39 (Clang) Kernel: Depends on container host Compiler: clang 17.0.6 (Fedora 17.0.6-2.fc39) Fedora 39 Kernel: Depends on container host Compiler: gcc 13.3.1 20240522 (Red Hat 13.3.1-1) Fedora 40 (Clang) Kernel: Depends on container host Compiler: clang 18.1.6 (Fedora 18.1.6-3.fc40) RHEL8 Kernel: Depends on container host Compiler: gcc 8.5.0 20210514 (Red Hat 8.5.0-22) openSUSE Leap 15 Kernel: Depends on container host Compiler: gcc (SUSE Linux) 7.5.0 Fedora 40 Kernel: Depends on container host Compiler: gcc 14.2.1 20240801 (Red Hat 14.2.1-1) Ubuntu 22.04 Kernel: Depends on container host Compiler: gcc (Ubuntu 11.4.0-1ubuntu1~22.04) 11.4.0 RHEL9 Kernel: Depends on container host Compiler: gcc 11.4.1 20231218 (Red Hat 11.4.1-3) Ubuntu 20.04 Kernel: Depends on container host Compiler: gcc (Ubuntu 9.4.0-1ubuntu1~20.04.2) 9.4.0 Ubuntu 24.04 Kernel: Depends on container host Compiler: gcc (Ubuntu 13.2.0-23ubuntu4) 13.2.0 Alpine Kernel: Depends on container host Compiler: gcc (Alpine 13.2.1_git20240309) 13.2.1 20240309 FreeBSD 13.4 Kernel: 13.4-RELEASE-p1 Compiler: clang 18.1.6 FreeBSD 14.1 Kernel: 14.1-RELEASE-p3 Compiler: clang 18.1.5 Windows Server 2022 Kernel: 10.0.20348.2031 Compiler: clang 15.0.7, gcc 14.1.0 (MinGW), and MSVC VS 19.39.33521 To view detailed results, visit: https://lab.dpdk.org/results/dashboard/patchsets/32098/ UNH-IOL DPDK Community Lab To manage your email subscriptions, visit: https://lab.dpdk.org/results/dashboard/preferences/subscriptions/