From mboxrd@z Thu Jan 1 00:00:00 1970 Return-Path: Received: from mails.dpdk.org (mails.dpdk.org [217.70.189.124]) by inbox.dpdk.org (Postfix) with ESMTP id 9B81645DF7 for ; Sat, 7 Dec 2024 05:22:08 +0100 (CET) Received: from mails.dpdk.org (localhost [127.0.0.1]) by mails.dpdk.org (Postfix) with ESMTP id 75FE7402A5; Sat, 7 Dec 2024 05:22:08 +0100 (CET) Received: from mail-il1-f228.google.com (mail-il1-f228.google.com [209.85.166.228]) by mails.dpdk.org (Postfix) with ESMTP id DA2B540281 for ; Sat, 7 Dec 2024 05:22:06 +0100 (CET) Received: by mail-il1-f228.google.com with SMTP id e9e14a558f8ab-3a8f1c97ef1so653025ab.2 for ; Fri, 06 Dec 2024 20:22:06 -0800 (PST) DKIM-Signature: v=1; a=rsa-sha256; c=relaxed/relaxed; d=iol.unh.edu; s=unh-iol; t=1733545326; x=1734150126; darn=dpdk.org; h=references:in-reply-to:cc:to:from:subject:message-id:date:from:to :cc:subject:date:message-id:reply-to; bh=iRbvPAJZCFG/sbJzZaphYJJ5W+XoQXX8WU1CVSK23JM=; b=gxH1mFzJJ8ReVzOAL0iLGiszG77QnytGRY/NtSRGlbj/b+6so2sf39zi7fri7UX3AX rEY0LFuKSmobAsr/nN6O1HKUey0idHIXf6u0BvdWCDJVlnZosJ540PLI7ncqRgX646gj YK0rk3A7cbJ36GI/7kITVuOaNS0VjL5vCOl6o= X-Google-DKIM-Signature: v=1; a=rsa-sha256; c=relaxed/relaxed; d=1e100.net; s=20230601; t=1733545326; x=1734150126; h=references:in-reply-to:cc:to:from:subject:message-id:date :x-gm-message-state:from:to:cc:subject:date:message-id:reply-to; bh=iRbvPAJZCFG/sbJzZaphYJJ5W+XoQXX8WU1CVSK23JM=; b=paOUX/yRZlGZQchR0QufMywB7CGNPmUhHRPskcAVlWavNq6iJkoxNbZgMOXYn3kwqT UxWJOxlma6jF9Ocf7cPrwAjJmdkem0J2bf4nARrv/khVPIrr8RHJke/tDp6VFjAQ3F1I 00Fdvc/u9aFbptGZgeuD6iWGtKStOQ0RB2mHNh4kULW29WO9PsmCxq6GEz8KvsQjzCgq Y1h3DL/L2xsjczKZbhKnnTvDzC2MTaxr26B0TQwVIkDo+sd+UOpEFTqMeWOozgzM9Qvr hgDa2WXzO2E1CILI0Rxhi//1Kn3qemXzGl6LJFNbdI79Tb3Hlq7QNBdzXj4j2dNsVEj/ aeQg== X-Gm-Message-State: AOJu0YxAhlSQ58LhkIAFYOyMT1aOdIGWISRQTBP6gQUeQns5eDj+lkG8 GsMa+t7f4Y7lZ88sflynkXXksxLQEEoenAIzaA6Cw6SCZksNTTQ5IS5GUneUR2FCvSx0mpFphql heY6ticB7z5VOXkKtYcHf/pOwBJZ+4iTD1igLB0V6Jn6BIc4wKaMkpC53 X-Gm-Gg: ASbGnctO+WnttjtxKwlxcZPU2Y1i7T/1t+fuCc08ePQAHANui7TUJlYuIwvIakTXY2I qHnyxIB6PSiQr6n9Ezho6V/n8GSyLToBV/aKjvGNOi5FFkh7Lsp+qCNNka9qw53yaBEIZn8aPR6 2CsVb/USbBq0HVMdG+B6I7BkYT6M24jnM6CGCw1fuDBeUEGeY9qPBUFkQw+ChIs2zdsVQQjr+IC GCVtQcDJM6ugxjGXvY7vXKwL6+oFo0eqEQp8sF9CXL4rozrLznv0+KlnYQhjnRNFET3oxY41iA= X-Google-Smtp-Source: AGHT+IG+yMAvbNw/tc7Vzrgv8N6nCX8cEzm6loGNIVG5fEcCWoKiyo8jChWESRixTJ9Ct9CaX1PnJxhBktzL X-Received: by 2002:a05:6e02:1c8f:b0:3a7:e528:6edd with SMTP id e9e14a558f8ab-3a811db7d25mr67232605ab.12.1733545326233; Fri, 06 Dec 2024 20:22:06 -0800 (PST) Received: from postal.iol.unh.edu (postal.iol.unh.edu. [2606:4100:3880:1234::84]) by smtp-relay.gmail.com with ESMTPS id e9e14a558f8ab-3a808e28d64sm2416215ab.64.2024.12.06.20.22.06 (version=TLS1_2 cipher=ECDHE-ECDSA-AES128-GCM-SHA256 bits=128/128); Fri, 06 Dec 2024 20:22:06 -0800 (PST) X-Relaying-Domain: iol.unh.edu Date: Fri, 06 Dec 2024 20:22:06 -0800 (PST) Message-ID: <6753cd6e.050a0220.11f33.e860SMTPIN_ADDED_MISSING@mx.google.com> Received: from [172.21.0.6] (unknown [172.18.0.240]) by postal.iol.unh.edu (Postfix) with ESMTP id 922746052471; Fri, 6 Dec 2024 23:22:05 -0500 (EST) Subject: |WARNING| pw149018-149023 [PATCH] [6/6] lib/mldev: eliminate depende From: dpdklab@iol.unh.edu To: Test Report Cc: dpdk-test-reports@iol.unh.edu In-Reply-To: <1733342995-3722-7-git-send-email-andremue@linux.microsoft.com> References: <1733342995-3722-7-git-send-email-andremue@linux.microsoft.com> Content-Type: text/plain X-BeenThere: test-report@dpdk.org X-Mailman-Version: 2.1.29 Precedence: list List-Id: automatic DPDK test reports List-Unsubscribe: , List-Archive: List-Post: List-Help: List-Subscribe: , Errors-To: test-report-bounces@dpdk.org Test-Label: iol-compile-amd64-testing Test-Status: WARNING http://dpdk.org/patch/149023 _Testing issues_ Submitter: Andre Muezerie Date: Wednesday, December 04 2024 20:09:55 DPDK git baseline: Repo:dpdk Branch: master CommitID:7df61db6c387703a36306c1aea92225921e2eeb2 149018-149023 --> testing issues Upstream job id: Generic-DPDK-Compile-Meson#341810 Test environment and result as below: +---------------------+--------------------+------------------+-------------------+-------------------+ | Environment | dpdk_meson_compile | dpdk_compile_ovs | dpdk_compile_spdk | dpdk_msvc_compile | +=====================+====================+==================+===================+===================+ | RHEL8 | PASS | PASS | SKIPPED | SKIPPED | +---------------------+--------------------+------------------+-------------------+-------------------+ | CentOS Stream 9 | PASS | PASS | PASS | SKIPPED | +---------------------+--------------------+------------------+-------------------+-------------------+ | Fedora 40 | PASS | PASS | PASS | SKIPPED | +---------------------+--------------------+------------------+-------------------+-------------------+ | Debian 12 | PASS | PASS | PASS | SKIPPED | +---------------------+--------------------+------------------+-------------------+-------------------+ | openSUSE Leap 15 | PASS | PASS | SKIPPED | SKIPPED | +---------------------+--------------------+------------------+-------------------+-------------------+ | Fedora 39 | PASS | PASS | PASS | SKIPPED | +---------------------+--------------------+------------------+-------------------+-------------------+ | Fedora 39 (Clang) | PASS | PASS | PASS | SKIPPED | +---------------------+--------------------+------------------+-------------------+-------------------+ | Fedora 40 (Clang) | PASS | PASS | PASS | SKIPPED | +---------------------+--------------------+------------------+-------------------+-------------------+ | Ubuntu 20.04 | PASS | WARN | SKIPPED | SKIPPED | +---------------------+--------------------+------------------+-------------------+-------------------+ | Ubuntu 24.04 | PASS | PASS | PASS | SKIPPED | +---------------------+--------------------+------------------+-------------------+-------------------+ | RHEL9 | PASS | PASS | SKIPPED | SKIPPED | +---------------------+--------------------+------------------+-------------------+-------------------+ | Ubuntu 22.04 | PASS | PASS | PASS | SKIPPED | +---------------------+--------------------+------------------+-------------------+-------------------+ | FreeBSD 13.4 | PASS | SKIPPED | SKIPPED | SKIPPED | +---------------------+--------------------+------------------+-------------------+-------------------+ | Alpine | PASS | PASS | SKIPPED | SKIPPED | +---------------------+--------------------+------------------+-------------------+-------------------+ | FreeBSD 14.1 | PASS | SKIPPED | SKIPPED | SKIPPED | +---------------------+--------------------+------------------+-------------------+-------------------+ | Windows Server 2022 | SKIPPED | SKIPPED | SKIPPED | PASS | +---------------------+--------------------+------------------+-------------------+-------------------+ ==== 20 line log output for Ubuntu 20.04 (dpdk_compile_ovs): ==== --- Failed to get log output --- ==== End log output ==== RHEL8 Kernel: Depends on container host Compiler: gcc 8.5.0 20210514 (Red Hat 8.5.0-22) CentOS Stream 9 Kernel: Depends on container host Compiler: gcc 11.4.1 20231218 (Red Hat 11.4.1-3) Fedora 40 Kernel: Depends on container host Compiler: gcc 14.2.1 20240801 (Red Hat 14.2.1-1) Debian 12 Kernel: Depends on container host Compiler: gcc (Debian 12.2.0-14) 12.2.0 openSUSE Leap 15 Kernel: Depends on container host Compiler: gcc (SUSE Linux) 7.5.0 Fedora 39 Kernel: Depends on container host Compiler: gcc 13.3.1 20240522 (Red Hat 13.3.1-1) Fedora 39 (Clang) Kernel: Depends on container host Compiler: clang 17.0.6 (Fedora 17.0.6-2.fc39) Fedora 40 (Clang) Kernel: Depends on container host Compiler: clang 18.1.6 (Fedora 18.1.6-3.fc40) Ubuntu 20.04 Kernel: Depends on container host Compiler: gcc (Ubuntu 9.4.0-1ubuntu1~20.04.2) 9.4.0 Ubuntu 24.04 Kernel: Depends on container host Compiler: gcc (Ubuntu 13.2.0-23ubuntu4) 13.2.0 RHEL9 Kernel: Depends on container host Compiler: gcc 11.4.1 20231218 (Red Hat 11.4.1-3) Ubuntu 22.04 Kernel: Depends on container host Compiler: gcc (Ubuntu 11.4.0-1ubuntu1~22.04) 11.4.0 FreeBSD 13.4 Kernel: 13.4-RELEASE-p1 Compiler: clang 18.1.6 Alpine Kernel: Depends on container host Compiler: gcc (Alpine 13.2.1_git20240309) 13.2.1 20240309 FreeBSD 14.1 Kernel: 14.1-RELEASE-p3 Compiler: clang 18.1.5 Windows Server 2022 Kernel: 10.0.20348.2031 Compiler: clang 15.0.7, gcc 14.1.0 (MinGW), and MSVC VS 19.39.33521 To view detailed results, visit: https://lab.dpdk.org/results/dashboard/patchsets/32086/ UNH-IOL DPDK Community Lab To manage your email subscriptions, visit: https://lab.dpdk.org/results/dashboard/preferences/subscriptions/