From mboxrd@z Thu Jan 1 00:00:00 1970 Return-Path: Received: from mails.dpdk.org (mails.dpdk.org [217.70.189.124]) by inbox.dpdk.org (Postfix) with ESMTP id 4C31D45DF7 for ; Sat, 7 Dec 2024 05:39:53 +0100 (CET) Received: from mails.dpdk.org (localhost [127.0.0.1]) by mails.dpdk.org (Postfix) with ESMTP id 293C1402A5; Sat, 7 Dec 2024 05:39:53 +0100 (CET) Received: from mail-qk1-f228.google.com (mail-qk1-f228.google.com [209.85.222.228]) by mails.dpdk.org (Postfix) with ESMTP id D1D6F40281 for ; Sat, 7 Dec 2024 05:39:51 +0100 (CET) Received: by mail-qk1-f228.google.com with SMTP id af79cd13be357-7b66ea49407so249333185a.0 for ; Fri, 06 Dec 2024 20:39:51 -0800 (PST) DKIM-Signature: v=1; a=rsa-sha256; c=relaxed/relaxed; d=iol.unh.edu; s=unh-iol; t=1733546391; x=1734151191; darn=dpdk.org; h=references:in-reply-to:cc:to:from:subject:message-id:date:from:to :cc:subject:date:message-id:reply-to; bh=YDCNDnCujB1IJZYy/YLuw6n+xStlbCxqO9Vts8l/4Xo=; b=JuI0WS2Y28ubzBFUu3wAaI9anwXkss0kZT4pc0aY8CtCvGmexIgcRngbylx26v0NEy oK24yRQ3b5r5reXL7ujlH/VvBccI0NVQSQTIbjs6BnPfVwt02vYg4U4nrSVAJjG5jcW6 bniO2G0V37wqdx8kM5prN20t544e6hGixKam0= X-Google-DKIM-Signature: v=1; a=rsa-sha256; c=relaxed/relaxed; d=1e100.net; s=20230601; t=1733546391; x=1734151191; h=references:in-reply-to:cc:to:from:subject:message-id:date :x-gm-message-state:from:to:cc:subject:date:message-id:reply-to; bh=YDCNDnCujB1IJZYy/YLuw6n+xStlbCxqO9Vts8l/4Xo=; b=Q9ARzGTgdXwLzkduG185gl4p/XZOEiGgZmrC2lJIwERR2wXM6J/1LuN7RJ1KRRofzO uCH1YrmAq8Gwli4/0qpBGr1YEYNxPdotgmdDnR7ksN9qeBGCJ4lxDLIHYdVYGn92Krcb KI2CZIj3EqJq+ZY8x+HG6ymOHSU7JIrkujKrLpsruXx44cY82XoPVBudHQspAsmPH0Jz dNwgxe/SXZ4E1kPuQ9jS7KwhkQDAiHL3oK84L/35b0nPeWWA3489woH+sAFovaWojhQ2 iUvQq0Srpf4S/P5BCGmj6eVZvY9MTwmlojQs+wmesLHIsw6KW2V5pBvCVa5V8zmBkldQ Y/GA== X-Gm-Message-State: AOJu0YyIAnHMj4jWm/fpYGs2vrLkZCE9wUC9bviPaqFpjTHn8th4/Das /3Tp+7K0LbFGRnzZ4Rxdm6Wr5zRtSIuP2RlzQcwhW3uWWlQX1oc/YCQDdzgSTtuscurhb+Y06dc tgm4LQRGr+sSR6KJzhm+tawAPftor/pXoakwpt02tV4/ZN+uVAQ30f9dc X-Gm-Gg: ASbGncvcKvC+uisven7hW9HClzJJ938EyLCPpTUI97iwQ6aYp4qeKILgwa2e9EJXuUC NegHDo1mbs+jlDMMvLmaQZF5t1m6NbIzqTgJtSV4oEGzCxvFPfdA8An/KdqSQqqWKBdEyKd0F40 0eMN6KX6pRwBf3rOaxHDd3s/OFZWX4rcWf7ya8x6fXGVdtGRgl+tFX1HwMN+PTsStdCyJCvFXEH fFgOkZYjR9s2APIXTohvwAAadKG4O0BNWZiEizJ/1FgDGAF4OD1ioJCMprDSeLeL8inn9xFwKg= X-Google-Smtp-Source: AGHT+IFHypQFWRTK1I+KzdmI4RqmweXKfij1lEevVlPHaq5Q4vUGC2KkitkpXWWw0iU57HXX3MyzxsIgYnl9 X-Received: by 2002:a05:620a:191c:b0:7a9:b2f4:42e0 with SMTP id af79cd13be357-7b6b4187848mr1723239585a.15.1733546390948; Fri, 06 Dec 2024 20:39:50 -0800 (PST) Received: from postal.iol.unh.edu (postal.iol.unh.edu. [2606:4100:3880:1234::84]) by smtp-relay.gmail.com with ESMTPS id 6a1803df08f44-6d8da6965c9sm2368796d6.20.2024.12.06.20.39.50 (version=TLS1_2 cipher=ECDHE-ECDSA-AES128-GCM-SHA256 bits=128/128); Fri, 06 Dec 2024 20:39:50 -0800 (PST) X-Relaying-Domain: iol.unh.edu Date: Fri, 06 Dec 2024 20:39:50 -0800 (PST) Message-ID: <6753d196.d40a0220.8e237.e3e9SMTPIN_ADDED_MISSING@mx.google.com> Received: from [172.21.0.5] (unknown [172.18.0.240]) by postal.iol.unh.edu (Postfix) with ESMTP id A367E6052471; Fri, 6 Dec 2024 23:39:50 -0500 (EST) Subject: |WARNING| pw149018-149023 [PATCH] [6/6] lib/mldev: eliminate depende From: dpdklab@iol.unh.edu To: Test Report Cc: dpdk-test-reports@iol.unh.edu In-Reply-To: <1733342995-3722-7-git-send-email-andremue@linux.microsoft.com> References: <1733342995-3722-7-git-send-email-andremue@linux.microsoft.com> Content-Type: text/plain X-BeenThere: test-report@dpdk.org X-Mailman-Version: 2.1.29 Precedence: list List-Id: automatic DPDK test reports List-Unsubscribe: , List-Archive: List-Post: List-Help: List-Subscribe: , Errors-To: test-report-bounces@dpdk.org Test-Label: iol-compile-amd64-testing Test-Status: WARNING http://dpdk.org/patch/149023 _Testing issues_ Submitter: Andre Muezerie Date: Wednesday, December 04 2024 20:09:55 DPDK git baseline: Repo:dpdk Branch: master CommitID:7df61db6c387703a36306c1aea92225921e2eeb2 149018-149023 --> testing issues Upstream job id: Windows-Compile-DPDK-Native#25210 Test environment and result as below: +---------------------+--------------------+------------------+-------------------+-------------------+-----------------------+----------------------+ | Environment | dpdk_meson_compile | dpdk_compile_ovs | dpdk_compile_spdk | dpdk_msvc_compile | dpdk_win_llvm_compile | dpdk_mingw64_compile | +=====================+====================+==================+===================+===================+=======================+======================+ | RHEL8 | PASS | PASS | SKIPPED | SKIPPED | SKIPPED | SKIPPED | +---------------------+--------------------+------------------+-------------------+-------------------+-----------------------+----------------------+ | CentOS Stream 9 | PASS | PASS | PASS | SKIPPED | SKIPPED | SKIPPED | +---------------------+--------------------+------------------+-------------------+-------------------+-----------------------+----------------------+ | Fedora 40 | PASS | PASS | PASS | SKIPPED | SKIPPED | SKIPPED | +---------------------+--------------------+------------------+-------------------+-------------------+-----------------------+----------------------+ | Debian 12 | PASS | PASS | PASS | SKIPPED | SKIPPED | SKIPPED | +---------------------+--------------------+------------------+-------------------+-------------------+-----------------------+----------------------+ | openSUSE Leap 15 | PASS | PASS | SKIPPED | SKIPPED | SKIPPED | SKIPPED | +---------------------+--------------------+------------------+-------------------+-------------------+-----------------------+----------------------+ | Fedora 39 | PASS | PASS | PASS | SKIPPED | SKIPPED | SKIPPED | +---------------------+--------------------+------------------+-------------------+-------------------+-----------------------+----------------------+ | Fedora 39 (Clang) | PASS | PASS | PASS | SKIPPED | SKIPPED | SKIPPED | +---------------------+--------------------+------------------+-------------------+-------------------+-----------------------+----------------------+ | Fedora 40 (Clang) | PASS | PASS | PASS | SKIPPED | SKIPPED | SKIPPED | +---------------------+--------------------+------------------+-------------------+-------------------+-----------------------+----------------------+ | Ubuntu 20.04 | PASS | WARN | SKIPPED | SKIPPED | SKIPPED | SKIPPED | +---------------------+--------------------+------------------+-------------------+-------------------+-----------------------+----------------------+ | Ubuntu 24.04 | PASS | PASS | PASS | SKIPPED | SKIPPED | SKIPPED | +---------------------+--------------------+------------------+-------------------+-------------------+-----------------------+----------------------+ | RHEL9 | PASS | PASS | SKIPPED | SKIPPED | SKIPPED | SKIPPED | +---------------------+--------------------+------------------+-------------------+-------------------+-----------------------+----------------------+ | Ubuntu 22.04 | PASS | PASS | PASS | SKIPPED | SKIPPED | SKIPPED | +---------------------+--------------------+------------------+-------------------+-------------------+-----------------------+----------------------+ | FreeBSD 13.4 | PASS | SKIPPED | SKIPPED | SKIPPED | SKIPPED | SKIPPED | +---------------------+--------------------+------------------+-------------------+-------------------+-----------------------+----------------------+ | Alpine | PASS | PASS | SKIPPED | SKIPPED | SKIPPED | SKIPPED | +---------------------+--------------------+------------------+-------------------+-------------------+-----------------------+----------------------+ | FreeBSD 14.1 | PASS | SKIPPED | SKIPPED | SKIPPED | SKIPPED | SKIPPED | +---------------------+--------------------+------------------+-------------------+-------------------+-----------------------+----------------------+ | Windows Server 2022 | SKIPPED | SKIPPED | SKIPPED | PASS | PASS | PASS | +---------------------+--------------------+------------------+-------------------+-------------------+-----------------------+----------------------+ ==== 20 line log output for Ubuntu 20.04 (dpdk_compile_ovs): ==== --- Failed to get log output --- ==== End log output ==== RHEL8 Kernel: Depends on container host Compiler: gcc 8.5.0 20210514 (Red Hat 8.5.0-22) CentOS Stream 9 Kernel: Depends on container host Compiler: gcc 11.4.1 20231218 (Red Hat 11.4.1-3) Fedora 40 Kernel: Depends on container host Compiler: gcc 14.2.1 20240801 (Red Hat 14.2.1-1) Debian 12 Kernel: Depends on container host Compiler: gcc (Debian 12.2.0-14) 12.2.0 openSUSE Leap 15 Kernel: Depends on container host Compiler: gcc (SUSE Linux) 7.5.0 Fedora 39 Kernel: Depends on container host Compiler: gcc 13.3.1 20240522 (Red Hat 13.3.1-1) Fedora 39 (Clang) Kernel: Depends on container host Compiler: clang 17.0.6 (Fedora 17.0.6-2.fc39) Fedora 40 (Clang) Kernel: Depends on container host Compiler: clang 18.1.6 (Fedora 18.1.6-3.fc40) Ubuntu 20.04 Kernel: Depends on container host Compiler: gcc (Ubuntu 9.4.0-1ubuntu1~20.04.2) 9.4.0 Ubuntu 24.04 Kernel: Depends on container host Compiler: gcc (Ubuntu 13.2.0-23ubuntu4) 13.2.0 RHEL9 Kernel: Depends on container host Compiler: gcc 11.4.1 20231218 (Red Hat 11.4.1-3) Ubuntu 22.04 Kernel: Depends on container host Compiler: gcc (Ubuntu 11.4.0-1ubuntu1~22.04) 11.4.0 FreeBSD 13.4 Kernel: 13.4-RELEASE-p1 Compiler: clang 18.1.6 Alpine Kernel: Depends on container host Compiler: gcc (Alpine 13.2.1_git20240309) 13.2.1 20240309 FreeBSD 14.1 Kernel: 14.1-RELEASE-p3 Compiler: clang 18.1.5 Windows Server 2022 Kernel: 10.0.20348.2031 Compiler: clang 15.0.7, gcc 14.1.0 (MinGW), and MSVC VS 19.39.33521 To view detailed results, visit: https://lab.dpdk.org/results/dashboard/patchsets/32086/ UNH-IOL DPDK Community Lab To manage your email subscriptions, visit: https://lab.dpdk.org/results/dashboard/preferences/subscriptions/