From mboxrd@z Thu Jan  1 00:00:00 1970
Return-Path: <test-report-bounces@dpdk.org>
Received: from mails.dpdk.org (mails.dpdk.org [217.70.189.124])
	by inbox.dpdk.org (Postfix) with ESMTP id 6B49B45DF7
	for <public@inbox.dpdk.org>; Sat,  7 Dec 2024 06:45:20 +0100 (CET)
Received: from mails.dpdk.org (localhost [127.0.0.1])
	by mails.dpdk.org (Postfix) with ESMTP id 404BB402A5;
	Sat,  7 Dec 2024 06:45:20 +0100 (CET)
Received: from mail-pl1-f225.google.com (mail-pl1-f225.google.com
 [209.85.214.225])
 by mails.dpdk.org (Postfix) with ESMTP id CFA7540281
 for <test-report@dpdk.org>; Sat,  7 Dec 2024 06:45:18 +0100 (CET)
Received: by mail-pl1-f225.google.com with SMTP id
 d9443c01a7336-21583cf5748so26481605ad.1
 for <test-report@dpdk.org>; Fri, 06 Dec 2024 21:45:18 -0800 (PST)
DKIM-Signature: v=1; a=rsa-sha256; c=relaxed/relaxed;
 d=iol.unh.edu; s=unh-iol; t=1733550318; x=1734155118; darn=dpdk.org;
 h=references:in-reply-to:cc:to:from:subject:message-id:date:from:to
 :cc:subject:date:message-id:reply-to;
 bh=Y++3aXL/PkfyHNf8KLKKuya8dBnyQis0EudSxFjR3tw=;
 b=djshDdXom28YBU23wryWHPGp+HPDhYltxtj/7oo1GE4YZyNo7xVloLWX7CrxLQz/3M
 VZyojsga7vlArRAcdKW4L5edjCHCI75aJ4AuCeiPCpt7XZOO+5HmT4ZEUPkEQCv5JwYK
 fM8HbsNr6aUftiRp2ujdsA35eJ6UmDY9WkidA=
X-Google-DKIM-Signature: v=1; a=rsa-sha256; c=relaxed/relaxed;
 d=1e100.net; s=20230601; t=1733550318; x=1734155118;
 h=references:in-reply-to:cc:to:from:subject:message-id:date
 :x-gm-message-state:from:to:cc:subject:date:message-id:reply-to;
 bh=Y++3aXL/PkfyHNf8KLKKuya8dBnyQis0EudSxFjR3tw=;
 b=rY5M7TN45pvfQabjggggjf9jzS43UHkZcQu6H5jqweRCoUq4rpbpVqKkotE/ov7mmc
 p1Y/RK6a3CXp/h0tYKD1b7aLfd2S8GjzygyPV6X7X2vKnPgmVXAgm3BJQTzxRo4dktmW
 JXON+YUU1rkHybXN6i0g3V1jwWxlnCUHlLKZC8O/TO0vMguqsGAm12yrK9hN+l+TqPv+
 NjWmS9AN9VYQ0VfgHKO5JBl++/tkcE5S7+oPjj6dujP+G5UBtNDIJUXI8cKUWazv6LIR
 vPF0gG4bd+D/Du2PI9hZSUh7si8gpAmtVI2hfxflDQE5aWlHCLlrf2oWn2Ay6Ey6aLf7
 i84Q==
X-Gm-Message-State: AOJu0YwE/oaupdx/5ydkf3iM54/zMOAebPjC0JwgVkw1AM2yQgUq3KEF
 vWJwnSMvIx43mrXZuFXbKH4DiwYqrsn/3yPoNGeQ6KfkSpTi7dG6gswVwcPLSVMOEqLOKIj0xLh
 kEFfqNUCokp1CF9fjVYxKN5/4WjTbs26MleY/zRXw0CtXUt9tn9cbq/S7
X-Gm-Gg: ASbGncsLiCXiDpqCY6/TQLzXND4lOppD9Fx2qbo7+rdcCYZ/oDS1O7tzjhBt/nuCurC
 8H3TmPtI2C7NhQKR6Yb08L+oUCS/sq49BHYwjsj3dp8mNZFRIDyR9/b1k0coPK+GOzjgdHM9fkC
 bXX1FxDmpKttgxWZzDxKDGOU5WE4voH2Z0GnIOUtk/HWwz/okdSvuk3Rrh8sWPN4R8fYeLG8/Dg
 z4xkvKNgjNdcd6DPERBLYcEMJM2VC0VQucvNp08tH9G9gbg9RjOPUKoKJHKRv5ivacRZ7REnJw=
X-Google-Smtp-Source: AGHT+IE/ENmt6q2dUBhZqyaB2+7+2RMCgAAjEZ+8t8wi2WmFygVUY/K5uFLGkAMesM9odNnwh17C1GnNs5IR
X-Received: by 2002:a17:902:d48c:b0:215:9c03:4958 with SMTP id
 d9443c01a7336-21614d699f0mr84671985ad.16.1733550317963; 
 Fri, 06 Dec 2024 21:45:17 -0800 (PST)
Received: from postal.iol.unh.edu (postal.iol.unh.edu.
 [2606:4100:3880:1234::84]) by smtp-relay.gmail.com with ESMTPS id
 d9443c01a7336-216138a63d7sm1229905ad.67.2024.12.06.21.45.17
 (version=TLS1_2 cipher=ECDHE-ECDSA-AES128-GCM-SHA256 bits=128/128);
 Fri, 06 Dec 2024 21:45:17 -0800 (PST)
X-Relaying-Domain: iol.unh.edu
Date: Fri, 06 Dec 2024 21:45:17 -0800 (PST)
Message-ID: <6753e0ed.170a0220.2146dc.7d07SMTPIN_ADDED_MISSING@mx.google.com>
Received: from [172.21.0.6] (unknown [172.18.0.240])
 by postal.iol.unh.edu (Postfix) with ESMTP id 2E1BC6052471;
 Sat,  7 Dec 2024 00:45:17 -0500 (EST)
Subject: |WARNING| pw149071-149077 [PATCH] [v11,7/7] test: add stress test su
From: dpdklab@iol.unh.edu
To: Test Report <test-report@dpdk.org>
Cc: dpdk-test-reports@iol.unh.edu
In-Reply-To: <20241206183600.34758-8-konstantin.ananyev@huawei.com>
References: <20241206183600.34758-8-konstantin.ananyev@huawei.com>
Content-Type: text/plain
X-BeenThere: test-report@dpdk.org
X-Mailman-Version: 2.1.29
Precedence: list
List-Id: automatic DPDK test reports <test-report.dpdk.org>
List-Unsubscribe: <https://mails.dpdk.org/options/test-report>,
 <mailto:test-report-request@dpdk.org?subject=unsubscribe>
List-Archive: <http://mails.dpdk.org/archives/test-report/>
List-Post: <mailto:test-report@dpdk.org>
List-Help: <mailto:test-report-request@dpdk.org?subject=help>
List-Subscribe: <https://mails.dpdk.org/listinfo/test-report>,
 <mailto:test-report-request@dpdk.org?subject=subscribe>
Errors-To: test-report-bounces@dpdk.org

Test-Label: iol-compile-amd64-testing
Test-Status: WARNING
http://dpdk.org/patch/149077

_Testing issues_

Submitter: Konstantin Ananyev <konstantin.ananyev@huawei.com>
Date: Friday, December 06 2024 18:36:00 
DPDK git baseline: Repo:dpdk
  Branch: master
  CommitID:7df61db6c387703a36306c1aea92225921e2eeb2

149071-149077 --> testing issues

Upstream job id: Generic-DPDK-Compile-Meson#341781

Test environment and result as below:

+---------------------+--------------------+------------------+-------------------+-------------------+-----------------------+----------------------+
|     Environment     | dpdk_meson_compile | dpdk_compile_ovs | dpdk_compile_spdk | dpdk_msvc_compile | dpdk_win_llvm_compile | dpdk_mingw64_compile |
+=====================+====================+==================+===================+===================+=======================+======================+
| Debian 12           | PASS               | PASS             | PASS              | SKIPPED           | SKIPPED               | SKIPPED              |
+---------------------+--------------------+------------------+-------------------+-------------------+-----------------------+----------------------+
| CentOS Stream 9     | PASS               | PASS             | PASS              | SKIPPED           | SKIPPED               | SKIPPED              |
+---------------------+--------------------+------------------+-------------------+-------------------+-----------------------+----------------------+
| Fedora 39 (Clang)   | PASS               | PASS             | PASS              | SKIPPED           | SKIPPED               | SKIPPED              |
+---------------------+--------------------+------------------+-------------------+-------------------+-----------------------+----------------------+
| Fedora 40 (Clang)   | PASS               | PASS             | PASS              | SKIPPED           | SKIPPED               | SKIPPED              |
+---------------------+--------------------+------------------+-------------------+-------------------+-----------------------+----------------------+
| Fedora 40           | PASS               | PASS             | PASS              | SKIPPED           | SKIPPED               | SKIPPED              |
+---------------------+--------------------+------------------+-------------------+-------------------+-----------------------+----------------------+
| openSUSE Leap 15    | PASS               | PASS             | SKIPPED           | SKIPPED           | SKIPPED               | SKIPPED              |
+---------------------+--------------------+------------------+-------------------+-------------------+-----------------------+----------------------+
| RHEL8               | PASS               | PASS             | SKIPPED           | SKIPPED           | SKIPPED               | SKIPPED              |
+---------------------+--------------------+------------------+-------------------+-------------------+-----------------------+----------------------+
| RHEL9               | PASS               | PASS             | SKIPPED           | SKIPPED           | SKIPPED               | SKIPPED              |
+---------------------+--------------------+------------------+-------------------+-------------------+-----------------------+----------------------+
| Ubuntu 20.04        | PASS               | WARN             | SKIPPED           | SKIPPED           | SKIPPED               | SKIPPED              |
+---------------------+--------------------+------------------+-------------------+-------------------+-----------------------+----------------------+
| Ubuntu 22.04        | PASS               | PASS             | PASS              | SKIPPED           | SKIPPED               | SKIPPED              |
+---------------------+--------------------+------------------+-------------------+-------------------+-----------------------+----------------------+
| Ubuntu 24.04        | PASS               | PASS             | PASS              | SKIPPED           | SKIPPED               | SKIPPED              |
+---------------------+--------------------+------------------+-------------------+-------------------+-----------------------+----------------------+
| Alpine              | PASS               | PASS             | SKIPPED           | SKIPPED           | SKIPPED               | SKIPPED              |
+---------------------+--------------------+------------------+-------------------+-------------------+-----------------------+----------------------+
| FreeBSD 13.4        | PASS               | SKIPPED          | SKIPPED           | SKIPPED           | SKIPPED               | SKIPPED              |
+---------------------+--------------------+------------------+-------------------+-------------------+-----------------------+----------------------+
| FreeBSD 14.1        | PASS               | SKIPPED          | SKIPPED           | SKIPPED           | SKIPPED               | SKIPPED              |
+---------------------+--------------------+------------------+-------------------+-------------------+-----------------------+----------------------+
| Fedora 39           | PASS               | PASS             | PASS              | SKIPPED           | SKIPPED               | SKIPPED              |
+---------------------+--------------------+------------------+-------------------+-------------------+-----------------------+----------------------+
| Windows Server 2022 | SKIPPED            | SKIPPED          | SKIPPED           | PASS              | PASS                  | PASS                 |
+---------------------+--------------------+------------------+-------------------+-------------------+-----------------------+----------------------+

==== 20 line log output for Ubuntu 20.04 (dpdk_compile_ovs): ====
 --- Failed to get log output --- 
==== End log output ====

Debian 12
	Kernel: Depends on container host
	Compiler: gcc (Debian 12.2.0-14) 12.2.0

CentOS Stream 9
	Kernel: Depends on container host
	Compiler: gcc 11.4.1 20231218 (Red Hat 11.4.1-3)

Fedora 39 (Clang)
	Kernel: Depends on container host
	Compiler: clang 17.0.6 (Fedora 17.0.6-2.fc39)

Fedora 40 (Clang)
	Kernel: Depends on container host
	Compiler: clang 18.1.6 (Fedora 18.1.6-3.fc40)

Fedora 40
	Kernel: Depends on container host
	Compiler: gcc 14.2.1 20240801 (Red Hat 14.2.1-1)

openSUSE Leap 15
	Kernel: Depends on container host
	Compiler: gcc (SUSE Linux) 7.5.0

RHEL8
	Kernel: Depends on container host
	Compiler: gcc 8.5.0 20210514 (Red Hat 8.5.0-22)

RHEL9
	Kernel: Depends on container host
	Compiler: gcc 11.4.1 20231218 (Red Hat 11.4.1-3)

Ubuntu 20.04
	Kernel: Depends on container host
	Compiler: gcc (Ubuntu 9.4.0-1ubuntu1~20.04.2) 9.4.0

Ubuntu 22.04
	Kernel: Depends on container host
	Compiler: gcc (Ubuntu 11.4.0-1ubuntu1~22.04) 11.4.0

Ubuntu 24.04
	Kernel: Depends on container host
	Compiler: gcc (Ubuntu 13.2.0-23ubuntu4) 13.2.0

Alpine
	Kernel: Depends on container host
	Compiler: gcc (Alpine 13.2.1_git20240309) 13.2.1 20240309

FreeBSD 13.4
	Kernel: 13.4-RELEASE-p1
	Compiler: clang 18.1.6

FreeBSD 14.1
	Kernel: 14.1-RELEASE-p3
	Compiler: clang 18.1.5

Fedora 39
	Kernel: Depends on container host
	Compiler: gcc 13.3.1 20240522 (Red Hat 13.3.1-1)

Windows Server 2022
	Kernel: 10.0.20348.2031
	Compiler: clang 15.0.7, gcc 14.1.0 (MinGW), and MSVC VS 19.39.33521

To view detailed results, visit:
https://lab.dpdk.org/results/dashboard/patchsets/32102/

UNH-IOL DPDK Community Lab

To manage your email subscriptions, visit: 
https://lab.dpdk.org/results/dashboard/preferences/subscriptions/