From mboxrd@z Thu Jan  1 00:00:00 1970
Return-Path: <test-report-bounces@dpdk.org>
Received: from mails.dpdk.org (mails.dpdk.org [217.70.189.124])
	by inbox.dpdk.org (Postfix) with ESMTP id A9AAF45DF7
	for <public@inbox.dpdk.org>; Sat,  7 Dec 2024 06:58:25 +0100 (CET)
Received: from mails.dpdk.org (localhost [127.0.0.1])
	by mails.dpdk.org (Postfix) with ESMTP id A699A402A5;
	Sat,  7 Dec 2024 06:58:25 +0100 (CET)
Received: from mail-io1-f97.google.com (mail-io1-f97.google.com
 [209.85.166.97]) by mails.dpdk.org (Postfix) with ESMTP id 7EF1940281
 for <test-report@dpdk.org>; Sat,  7 Dec 2024 06:58:24 +0100 (CET)
Received: by mail-io1-f97.google.com with SMTP id
 ca18e2360f4ac-8418ecda128so101233339f.2
 for <test-report@dpdk.org>; Fri, 06 Dec 2024 21:58:24 -0800 (PST)
DKIM-Signature: v=1; a=rsa-sha256; c=relaxed/relaxed;
 d=iol.unh.edu; s=unh-iol; t=1733551104; x=1734155904; darn=dpdk.org;
 h=references:in-reply-to:cc:to:from:subject:message-id:date:from:to
 :cc:subject:date:message-id:reply-to;
 bh=DVodyguLjBr5lQl2SAiEvxuIx0Y3jM4y117emAhWPsg=;
 b=auNzYTz7Ixk84oMcRSQyj5GQv1df7BtuuHLdx2QYdZ2atYLq+Sa6PTo26PUEjZ2Krv
 szL4gTRFeknyKEcIHUjtH5q5d9yoknsCTvju+Z92T16iJZihpzpaLcu0/PDqZKsP74vz
 mLQgY6q92gHhCwsZ6zbnMfKS0n5ocrkHWznNI=
X-Google-DKIM-Signature: v=1; a=rsa-sha256; c=relaxed/relaxed;
 d=1e100.net; s=20230601; t=1733551104; x=1734155904;
 h=references:in-reply-to:cc:to:from:subject:message-id:date
 :x-gm-message-state:from:to:cc:subject:date:message-id:reply-to;
 bh=DVodyguLjBr5lQl2SAiEvxuIx0Y3jM4y117emAhWPsg=;
 b=JiY79hSq1kBnyRUVrrVWguwHtzDQ1YqXToN2kALl8MGwUVzaT4EkToTvjHnZWgKxJs
 fHa1Rzd9H4BKy7kD7YlIu43LZMkW8sXx7Z41hZOgVKf+Yf/sp+wRj3hvfk/1cMAYShA4
 mi7XrwKYN0K/GmIE8DHWxbDH8Q0zzonXfJRyw1bydGbrbqOk20U6iBQpLbYemj6VHq7M
 Uk2T4UvMf3r2Ol/zu12goz2cWichIigdrr3q5V0XH2zpe5U2XZe1z1nWu98ZkhYs2r9u
 jds5Cq2QtHb7aMfIBfHpv9TpD4gu0gbpQCGzlSLniGEbwaFXEcIHU425Nm58VlvqHD15
 4taw==
X-Gm-Message-State: AOJu0YzySV9ZoRIq6VwJuKIcMMQOmNxfbf6o4CNvq4h4VbfqZBlPjEOr
 0qxLX50UNJc/+3Ze6IJCbcOxW5eujn0xrSQG5kTtft4d3XERQJZm8Dk8A08i234k5c1z7hWxAh7
 0KiMTnjfFP7FhUvUXTHjBO5LDFclrCxHprTyjX2s4T3uBbCR9r7zNgxSR
X-Gm-Gg: ASbGncvNXyCMM+c6Rnhevo4oedoGPn3dcugn5bEvP3MCN6wljQV0JnACNvP77AU9GkX
 57KLSCsp0dlSWhBAOrbbulkNdBkZAeB7i7QMvTmWQBmXVFRc3CHOUwRwD0DlwQJOmVRDjgbDRFE
 Wbar8y8m1hDwPI5xYXpcgv7/TXCIIjReKL4lbow0INfEmD/US8irxGc62qCMS6k6g4iLYi0r/hO
 MwBtmQyZtxZEQ2/4/pfPw4DVOKzWvlmvr5DpNer5D7dX9v5U5HwQQYUTHbM8mZ4D5s4AjgyfNc=
X-Google-Smtp-Source: AGHT+IG314snd3V6HskzjAIihhPZ1sgHJvJFrIwHps+rJf/J5bD7YSTSHaZCS4X/FzppmII7lXix7rcMZsPF
X-Received: by 2002:a05:6602:3f8d:b0:835:4cb5:4fa7 with SMTP id
 ca18e2360f4ac-8447e352f4emr865865639f.12.1733551103906; 
 Fri, 06 Dec 2024 21:58:23 -0800 (PST)
Received: from postal.iol.unh.edu (postal.iol.unh.edu.
 [2606:4100:3880:1234::84]) by smtp-relay.gmail.com with ESMTPS id
 ca18e2360f4ac-844738d75c8sm23407139f.12.2024.12.06.21.58.23
 (version=TLS1_2 cipher=ECDHE-ECDSA-AES128-GCM-SHA256 bits=128/128);
 Fri, 06 Dec 2024 21:58:23 -0800 (PST)
X-Relaying-Domain: iol.unh.edu
Date: Fri, 06 Dec 2024 21:58:23 -0800 (PST)
Message-ID: <6753e3ff.050a0220.2bbdf.e36aSMTPIN_ADDED_MISSING@mx.google.com>
Received: from [172.21.0.5] (unknown [172.18.0.240])
 by postal.iol.unh.edu (Postfix) with ESMTP id 6DBE76052471;
 Sat,  7 Dec 2024 00:58:23 -0500 (EST)
Subject: |WARNING| pw149033-149037 [PATCH] [v3,7/7] lib/mldev: eliminate depe
From: dpdklab@iol.unh.edu
To: Test Report <test-report@dpdk.org>
Cc: dpdk-test-reports@iol.unh.edu
In-Reply-To: <1733372429-3996-8-git-send-email-andremue@linux.microsoft.com>
References: <1733372429-3996-8-git-send-email-andremue@linux.microsoft.com>
Content-Type: text/plain
X-BeenThere: test-report@dpdk.org
X-Mailman-Version: 2.1.29
Precedence: list
List-Id: automatic DPDK test reports <test-report.dpdk.org>
List-Unsubscribe: <https://mails.dpdk.org/options/test-report>,
 <mailto:test-report-request@dpdk.org?subject=unsubscribe>
List-Archive: <http://mails.dpdk.org/archives/test-report/>
List-Post: <mailto:test-report@dpdk.org>
List-Help: <mailto:test-report-request@dpdk.org?subject=help>
List-Subscribe: <https://mails.dpdk.org/listinfo/test-report>,
 <mailto:test-report-request@dpdk.org?subject=subscribe>
Errors-To: test-report-bounces@dpdk.org

Test-Label: iol-compile-amd64-testing
Test-Status: WARNING
http://dpdk.org/patch/149037

_Testing issues_

Submitter: Andre Muezerie <andremue@linux.microsoft.com>
Date: Thursday, December 05 2024 04:20:29 
DPDK git baseline: Repo:dpdk
  Branch: master
  CommitID:7df61db6c387703a36306c1aea92225921e2eeb2

149033-149037 --> testing issues

Upstream job id: Generic-DPDK-Compile-Meson#341841

Test environment and result as below:

+---------------------+--------------------+------------------+-------------------+-------------------+-----------------------+----------------------+
|     Environment     | dpdk_meson_compile | dpdk_compile_ovs | dpdk_compile_spdk | dpdk_msvc_compile | dpdk_win_llvm_compile | dpdk_mingw64_compile |
+=====================+====================+==================+===================+===================+=======================+======================+
| Fedora 40 (Clang)   | PASS               | PASS             | PASS              | SKIPPED           | SKIPPED               | SKIPPED              |
+---------------------+--------------------+------------------+-------------------+-------------------+-----------------------+----------------------+
| Fedora 39 (Clang)   | PASS               | PASS             | PASS              | SKIPPED           | SKIPPED               | SKIPPED              |
+---------------------+--------------------+------------------+-------------------+-------------------+-----------------------+----------------------+
| Fedora 39           | PASS               | PASS             | PASS              | SKIPPED           | SKIPPED               | SKIPPED              |
+---------------------+--------------------+------------------+-------------------+-------------------+-----------------------+----------------------+
| CentOS Stream 9     | PASS               | PASS             | PASS              | SKIPPED           | SKIPPED               | SKIPPED              |
+---------------------+--------------------+------------------+-------------------+-------------------+-----------------------+----------------------+
| openSUSE Leap 15    | PASS               | PASS             | SKIPPED           | SKIPPED           | SKIPPED               | SKIPPED              |
+---------------------+--------------------+------------------+-------------------+-------------------+-----------------------+----------------------+
| Fedora 40           | PASS               | PASS             | PASS              | SKIPPED           | SKIPPED               | SKIPPED              |
+---------------------+--------------------+------------------+-------------------+-------------------+-----------------------+----------------------+
| Ubuntu 20.04        | PASS               | WARN             | SKIPPED           | SKIPPED           | SKIPPED               | SKIPPED              |
+---------------------+--------------------+------------------+-------------------+-------------------+-----------------------+----------------------+
| Debian 12           | PASS               | PASS             | PASS              | SKIPPED           | SKIPPED               | SKIPPED              |
+---------------------+--------------------+------------------+-------------------+-------------------+-----------------------+----------------------+
| RHEL9               | PASS               | PASS             | SKIPPED           | SKIPPED           | SKIPPED               | SKIPPED              |
+---------------------+--------------------+------------------+-------------------+-------------------+-----------------------+----------------------+
| RHEL8               | PASS               | PASS             | SKIPPED           | SKIPPED           | SKIPPED               | SKIPPED              |
+---------------------+--------------------+------------------+-------------------+-------------------+-----------------------+----------------------+
| Ubuntu 24.04        | PASS               | PASS             | PASS              | SKIPPED           | SKIPPED               | SKIPPED              |
+---------------------+--------------------+------------------+-------------------+-------------------+-----------------------+----------------------+
| Alpine              | PASS               | PASS             | SKIPPED           | SKIPPED           | SKIPPED               | SKIPPED              |
+---------------------+--------------------+------------------+-------------------+-------------------+-----------------------+----------------------+
| FreeBSD 14.1        | PASS               | SKIPPED          | SKIPPED           | SKIPPED           | SKIPPED               | SKIPPED              |
+---------------------+--------------------+------------------+-------------------+-------------------+-----------------------+----------------------+
| FreeBSD 13.4        | PASS               | SKIPPED          | SKIPPED           | SKIPPED           | SKIPPED               | SKIPPED              |
+---------------------+--------------------+------------------+-------------------+-------------------+-----------------------+----------------------+
| Ubuntu 22.04        | PASS               | PASS             | PASS              | SKIPPED           | SKIPPED               | SKIPPED              |
+---------------------+--------------------+------------------+-------------------+-------------------+-----------------------+----------------------+
| Windows Server 2022 | SKIPPED            | SKIPPED          | SKIPPED           | PASS              | PASS                  | PASS                 |
+---------------------+--------------------+------------------+-------------------+-------------------+-----------------------+----------------------+

==== 20 line log output for Ubuntu 20.04 (dpdk_compile_ovs): ====
 --- Failed to get log output --- 
==== End log output ====

Fedora 40 (Clang)
	Kernel: Depends on container host
	Compiler: clang 18.1.6 (Fedora 18.1.6-3.fc40)

Fedora 39 (Clang)
	Kernel: Depends on container host
	Compiler: clang 17.0.6 (Fedora 17.0.6-2.fc39)

Fedora 39
	Kernel: Depends on container host
	Compiler: gcc 13.3.1 20240522 (Red Hat 13.3.1-1)

CentOS Stream 9
	Kernel: Depends on container host
	Compiler: gcc 11.4.1 20231218 (Red Hat 11.4.1-3)

openSUSE Leap 15
	Kernel: Depends on container host
	Compiler: gcc (SUSE Linux) 7.5.0

Fedora 40
	Kernel: Depends on container host
	Compiler: gcc 14.2.1 20240801 (Red Hat 14.2.1-1)

Ubuntu 20.04
	Kernel: Depends on container host
	Compiler: gcc (Ubuntu 9.4.0-1ubuntu1~20.04.2) 9.4.0

Debian 12
	Kernel: Depends on container host
	Compiler: gcc (Debian 12.2.0-14) 12.2.0

RHEL9
	Kernel: Depends on container host
	Compiler: gcc 11.4.1 20231218 (Red Hat 11.4.1-3)

RHEL8
	Kernel: Depends on container host
	Compiler: gcc 8.5.0 20210514 (Red Hat 8.5.0-22)

Ubuntu 24.04
	Kernel: Depends on container host
	Compiler: gcc (Ubuntu 13.2.0-23ubuntu4) 13.2.0

Alpine
	Kernel: Depends on container host
	Compiler: gcc (Alpine 13.2.1_git20240309) 13.2.1 20240309

FreeBSD 14.1
	Kernel: 14.1-RELEASE-p3
	Compiler: clang 18.1.5

FreeBSD 13.4
	Kernel: 13.4-RELEASE-p1
	Compiler: clang 18.1.6

Ubuntu 22.04
	Kernel: Depends on container host
	Compiler: gcc (Ubuntu 11.4.0-1ubuntu1~22.04) 11.4.0

Windows Server 2022
	Kernel: 10.0.20348.2031
	Compiler: clang 15.0.7, gcc 14.1.0 (MinGW), and MSVC VS 19.39.33521

To view detailed results, visit:
https://lab.dpdk.org/results/dashboard/patchsets/32089/

UNH-IOL DPDK Community Lab

To manage your email subscriptions, visit: 
https://lab.dpdk.org/results/dashboard/preferences/subscriptions/