From mboxrd@z Thu Jan  1 00:00:00 1970
Return-Path: <test-report-bounces@dpdk.org>
Received: from mails.dpdk.org (mails.dpdk.org [217.70.189.124])
	by inbox.dpdk.org (Postfix) with ESMTP id 03D5445E41
	for <public@inbox.dpdk.org>; Sat,  7 Dec 2024 09:19:21 +0100 (CET)
Received: from mails.dpdk.org (localhost [127.0.0.1])
	by mails.dpdk.org (Postfix) with ESMTP id D1717402A5;
	Sat,  7 Dec 2024 09:19:21 +0100 (CET)
Received: from mail-yw1-f228.google.com (mail-yw1-f228.google.com
 [209.85.128.228])
 by mails.dpdk.org (Postfix) with ESMTP id 673ED40281
 for <test-report@dpdk.org>; Sat,  7 Dec 2024 09:19:20 +0100 (CET)
Received: by mail-yw1-f228.google.com with SMTP id
 00721157ae682-6eff4f0d9fcso5503517b3.3
 for <test-report@dpdk.org>; Sat, 07 Dec 2024 00:19:20 -0800 (PST)
DKIM-Signature: v=1; a=rsa-sha256; c=relaxed/relaxed;
 d=iol.unh.edu; s=unh-iol; t=1733559559; x=1734164359; darn=dpdk.org;
 h=cc:to:from:subject:message-id:date:from:to:cc:subject:date
 :message-id:reply-to;
 bh=emvKFv+BH29A0Jq8oDgOKpg2MkqlwkEtm2WrrOp5jXg=;
 b=V+PnPF9FfD/Fz0xHWW7XroFb01OBQWkapnyyHiECUDCpUthf6ZeEMCqXIhtG2+BZ4b
 EtSj7rk/TLG6jxPi4K7uGz+Px+PhMZyjNlsEQ7NqeL0YpLOYZAufvwW0Sn5gh4kK1Poi
 rw/FsMwX7jKGDuC0O+LgwFA5JHyx26hrthO88=
X-Google-DKIM-Signature: v=1; a=rsa-sha256; c=relaxed/relaxed;
 d=1e100.net; s=20230601; t=1733559559; x=1734164359;
 h=cc:to:from:subject:message-id:date:x-gm-message-state:from:to:cc
 :subject:date:message-id:reply-to;
 bh=emvKFv+BH29A0Jq8oDgOKpg2MkqlwkEtm2WrrOp5jXg=;
 b=f1Jbo9aMxb0fdDDQ2ecm/w5wFRd5G8K9TvlWhJ9oHCs8LOJfLDQA3uLSQRc92aAw1g
 YRc6oPPEtMO4TQe2G7JxZbsYsfwGDBlFaRTszqFoi5g/M7q25T6hHC7oa13DUMkbvJkQ
 v90JBPSBROiNn6NkXpofRAfOMjlvW+1gRPDgs8XH+V7fdDqQkj0yivgbrAjgje2x94Xc
 ygi34y735IPeNqSjJ+fMJYH9K4f/0cEmgTz5bh5w6OIB+7h1B5JyUcqjUSilpwa1Mf1c
 l2Pciv6ukx+njpPnmpgBtb/IuqIwJw581H1Z/OtBbWs/hhj6NFcdGjlwxtM9vZHTqfnQ
 xGpw==
X-Gm-Message-State: AOJu0Yy+dco6THOeTAuxlfJPHyKO0qgNDnRVQFN1b/K+4syGy7xnW9ap
 2cIjofNMI8BMj7/dvF+sFBu0FN9V56a/BrfsAhK3HkXxRXt0piq8G/L7K2aBS3DdMicM7eXRy9o
 X95IsfwVtO670bsIgTIqp3qwLeVIPdRJWyzsw5V1OgVuE7jbc
X-Gm-Gg: ASbGncvLD9nLVVyEVLPOBVtwn0THrgL+cOFfJXR+J3tNnqDbRVkzzEI3+RgLvJwDKvZ
 /RgLn4ScZ6BPs9AeyOP6bsEGVwBH0K/bKLvcqmgYLlHtesKDzgXqZSxH3eHHyRknasm4FQCqMns
 DjmCfe8/GW4z2979lcUegzE3yzZrKNqawnyjCxhfs2Rn/JRqQb2HZDVjObXxRVhzOoZ8LVOImaG
 PbcpWKbyxTFdx4iW8tHSaQKvn8KbIpZ2JrVIdeATNL1GRF2bh7aGmXTnyp6TMo2VFB0jQfGwrA=
X-Google-Smtp-Source: AGHT+IGwyn4mkx73x6LXTNtzzQupVpKQ8Hc3fnxuHwGDyaVmGYsvryIpZRSbR2PIB1drGmh5y7QAbF1RdugI
X-Received: by 2002:a05:690c:450c:b0:6ef:458f:284a with SMTP id
 00721157ae682-6efe3c0ee99mr73233047b3.22.1733559559699; 
 Sat, 07 Dec 2024 00:19:19 -0800 (PST)
Received: from postal.iol.unh.edu (postal.iol.unh.edu.
 [2606:4100:3880:1234::84]) by smtp-relay.gmail.com with ESMTPS id
 00721157ae682-6efd39ca967sm1701617b3.47.2024.12.07.00.19.19
 (version=TLS1_2 cipher=ECDHE-ECDSA-AES128-GCM-SHA256 bits=128/128);
 Sat, 07 Dec 2024 00:19:19 -0800 (PST)
X-Relaying-Domain: iol.unh.edu
Date: Sat, 07 Dec 2024 00:19:19 -0800 (PST)
Message-ID: <67540507.050a0220.1a475.a0d0SMTPIN_ADDED_MISSING@mx.google.com>
Received: from [172.17.0.3] (unknown [172.18.0.217])
 by postal.iol.unh.edu (Postfix) with ESMTP id 4AC996052471;
 Sat,  7 Dec 2024 03:19:19 -0500 (EST)
Subject: |SUCCESS| [GIT MASTER] e8eb14e00d56027bef8569d68cf00e39670edca2
From: dpdklab@iol.unh.edu
To: Test Report <test-report@dpdk.org>
Cc: dpdk-test-reports@iol.unh.edu, Xueming Li <xuemingl@nvidia.com>,
 Christian Ehrhardt <christian.ehrhardt@canonical.com>,
 Kevin Traynor <ktraynor@redhat.com>, Luca Boccassi <bluca@debian.org>
Content-Type: text/plain
X-BeenThere: test-report@dpdk.org
X-Mailman-Version: 2.1.29
Precedence: list
List-Id: automatic DPDK test reports <test-report.dpdk.org>
List-Unsubscribe: <https://mails.dpdk.org/options/test-report>,
 <mailto:test-report-request@dpdk.org?subject=unsubscribe>
List-Archive: <http://mails.dpdk.org/archives/test-report/>
List-Post: <mailto:test-report@dpdk.org>
List-Help: <mailto:test-report-request@dpdk.org?subject=help>
List-Subscribe: <https://mails.dpdk.org/listinfo/test-report>,
 <mailto:test-report-request@dpdk.org?subject=subscribe>
Errors-To: test-report-bounces@dpdk.org

_Testing PASS_

Branch: tags/v23.11

e8eb14e00d56027bef8569d68cf00e39670edca2 --> testing pass

Upstream job id: Generic-DPDK-Compile-Meson#341970

Test environment and result as below:

+------------------------------------+--------------------+
|            Environment             | dpdk_meson_compile |
+====================================+====================+
| Ubuntu 20.04 ARM GCC Cross Compile | PASS               |
+------------------------------------+--------------------+
| RHEL9 (ARM)                        | PASS               |
+------------------------------------+--------------------+
| Debian 12 with MUSDK               | PASS               |
+------------------------------------+--------------------+
| Fedora 39 (ARM)                    | PASS               |
+------------------------------------+--------------------+
| Ubuntu 20.04 ARM SVE               | PASS               |
+------------------------------------+--------------------+
| CentOS Stream 9 (ARM)              | PASS               |
+------------------------------------+--------------------+
| Debian 12 (arm)                    | PASS               |
+------------------------------------+--------------------+
| Fedora 39 (ARM Clang)              | PASS               |
+------------------------------------+--------------------+
| Ubuntu 20.04 (ARM)                 | PASS               |
+------------------------------------+--------------------+
| Ubuntu 22.04 (ARM)                 | PASS               |
+------------------------------------+--------------------+
| Fedora 40 (ARM Clang)              | PASS               |
+------------------------------------+--------------------+
| Fedora 40 (ARM)                    | PASS               |
+------------------------------------+--------------------+
| Ubuntu 24.04 (ARM)                 | PASS               |
+------------------------------------+--------------------+


Ubuntu 20.04 ARM GCC Cross Compile
	Kernel: Depends on container host
	Compiler: aarch64-linux-gnu-gcc (Ubuntu 9.4.0-1ubuntu1~20.04.2) 9.4.0

RHEL9 (ARM)
	Kernel: Depends on container host
	Compiler: gcc 11.4.1 20231218 (Red Hat 11.4.1-3)

Debian 12 with MUSDK
	Kernel: Depends on container host
	Compiler: gcc (Debian 12.2.0-14) 12.2.0

Fedora 39 (ARM)
	Kernel: Depends on container host
	Compiler: gcc 13.3.1 20240522 (Red Hat 13.3.1-1)

Ubuntu 20.04 ARM SVE
	Kernel: Depends on container host
	Compiler: gcc (Ubuntu 10.5.0-1ubuntu1~20.04) 10.5.0

CentOS Stream 9 (ARM)
	Kernel: Depends on container host
	Compiler: gcc 11.4.1 20231218 (Red Hat 11.4.1-3)

Debian 12 (arm)
	Kernel: Depends on container host
	Compiler: gcc (Debian 12.2.0-14) 12.2.0

Fedora 39 (ARM Clang)
	Kernel: Depends on container host
	Compiler: clang 17.0.6 (Fedora 17.0.6-2.fc39)

Ubuntu 20.04 (ARM)
	Kernel: Depends on container host
	Compiler: gcc (Ubuntu 9.4.0-1ubuntu1~20.04.2) 9.4.0

Ubuntu 22.04 (ARM)
	Kernel: Depends on container host
	Compiler: gcc (Ubuntu 11.4.0-1ubuntu1~22.04) 11.4.0

Fedora 40 (ARM Clang)
	Kernel: Depends on container host
	Compiler: clang 18.1.6 (Fedora 18.1.6-3.fc40)

Fedora 40 (ARM)
	Kernel: Depends on container host
	Compiler: gcc 14.2.1 20240801 (Red Hat 14.2.1-1)

Ubuntu 24.04 (ARM)
	Kernel: Depends on container host
	Compiler: gcc (Ubuntu 13.2.0-23ubuntu4) 13.2.0

To view detailed results, visit:
https://lab.dpdk.org/results/dashboard/tarballs/31870/

UNH-IOL DPDK Community Lab

To manage your email subscriptions, visit: 
https://lab.dpdk.org/results/dashboard/preferences/subscriptions/