From mboxrd@z Thu Jan 1 00:00:00 1970 Return-Path: Received: from mails.dpdk.org (mails.dpdk.org [217.70.189.124]) by inbox.dpdk.org (Postfix) with ESMTP id 110FB45E8E for ; Fri, 13 Dec 2024 10:06:08 +0100 (CET) Received: from mails.dpdk.org (localhost [127.0.0.1]) by mails.dpdk.org (Postfix) with ESMTP id E2EA0402BB; Fri, 13 Dec 2024 10:06:07 +0100 (CET) Received: from mail-pl1-f227.google.com (mail-pl1-f227.google.com [209.85.214.227]) by mails.dpdk.org (Postfix) with ESMTP id 6EA0A40263 for ; Fri, 13 Dec 2024 10:06:06 +0100 (CET) Received: by mail-pl1-f227.google.com with SMTP id d9443c01a7336-21619108a6bso11638315ad.3 for ; Fri, 13 Dec 2024 01:06:06 -0800 (PST) DKIM-Signature: v=1; a=rsa-sha256; c=relaxed/relaxed; d=iol.unh.edu; s=unh-iol; t=1734080765; x=1734685565; darn=dpdk.org; h=cc:to:from:subject:message-id:date:from:to:cc:subject:date :message-id:reply-to; bh=hUvtQMpYTkLmJq6q91fLO2Rb2UHwnQatRVZ8FZO5Bs8=; b=Mj0z2rKvq4rR7EdE2z/YbdPvUgNxA49ERVhKrlEIm3fwEn28OT/oRrQkdtPU2JVmOh Z0QLOO6xJcqWK0THma/7x6dVnDQxB1mnKfI8Q+wL5GFUxohaM2OLfiWUZwgtGGWZ+xCx q3Wz7RUFZ+5G3CUs7yZW55bg0yt0yLUJOPaVE= X-Google-DKIM-Signature: v=1; a=rsa-sha256; c=relaxed/relaxed; d=1e100.net; s=20230601; t=1734080765; x=1734685565; h=cc:to:from:subject:message-id:date:x-gm-message-state:from:to:cc :subject:date:message-id:reply-to; bh=hUvtQMpYTkLmJq6q91fLO2Rb2UHwnQatRVZ8FZO5Bs8=; b=PNTpPZuWtettpA/IyJTlvseVAKWz2bYhi94BYs44RsJ6zh2s+VBgK5ukXYu/UUGs+J SueClFJsi0SjWhINm8bjp/6GZbv4U6y9VQh2KZhoDLmSRL5hTPbrY8XWnN8RBVDQr9ip CwXR8XiQRpryezz1l4zKkoTUG0mjTrdW8clTLEFOCMYQ4PCdWDnc7B8VbuwV5p1RrSII MlEZntVysSOntvr0ztlns14WlGY4aIrooeuesfFACPl6lI/FuzcddVyrUwcPMuKboEss Oa88kPfPkeYqhSjQk1L3saUB+lu85gL2C6hM7fkuHhHd4u3Yjih+OT1vq3DBBaqsgDCf S0Tg== X-Gm-Message-State: AOJu0Yw1aPS+aYu9FvPJsRFixZ6FtU/Fiuppln7lB1t3cKg4m53v+Fag 7VJB2nnMQS3z8QXR+b1hZj6s9BpvES5qY5GSyvO+XgovD0BSdkALbDyZGej5GH4zos+yk5fwq27 c47rMwoAtGy4yO7Z4BXaKbWKFW9sNZiVH1vDXSORlWghSFeVQ X-Gm-Gg: ASbGncvkfWE4hPDBb3UBKeCigbS1og7rDhMpSG7Q7rTjb/0Hyjh0kI4LID9aKNYJufC XMHG7HlX8xAYIVFE0OU4IyBx9k26gM5m/xrWRT1dYGfHefK5IG+Bi4MyFRNPG5nWC5A793jbIBH 2JQJF/2FZOhFZl0DVRP4H31GSRvvA8Z4e6fzulAq8yycayB0ex9ukWTqqsJG/vHJnRQw1Uw3bJ2 gCAQuCX8Xcbc1DGCfajxYA4l3i68ee3Zpy0kskmCoVbZY4XeI7jTh/BHTmB5MHAaFHgviwycGpI vveK1A== X-Google-Smtp-Source: AGHT+IFVAcXYrrDVBrW5no3j2wU1HBC3a99r31NfqWuQMAzcBdNDV9S28OHM2ERUmx6W7wrE+eQTamr+LTdo X-Received: by 2002:a17:903:22c2:b0:215:8809:b3b7 with SMTP id d9443c01a7336-2189298227cmr26262045ad.7.1734080765562; Fri, 13 Dec 2024 01:06:05 -0800 (PST) Received: from postal.iol.unh.edu (postal.iol.unh.edu. [2606:4100:3880:1234::84]) by smtp-relay.gmail.com with ESMTPS id d9443c01a7336-2178add54f3sm1990005ad.120.2024.12.13.01.06.05 (version=TLS1_2 cipher=ECDHE-ECDSA-AES128-GCM-SHA256 bits=128/128); Fri, 13 Dec 2024 01:06:05 -0800 (PST) X-Relaying-Domain: iol.unh.edu Date: Fri, 13 Dec 2024 01:06:05 -0800 (PST) Message-ID: <675bf8fd.170a0220.28d5f4.ccafSMTPIN_ADDED_MISSING@mx.google.com> Received: from [172.17.0.3] (unknown [172.18.0.217]) by postal.iol.unh.edu (Postfix) with ESMTP id A507E6052471; Fri, 13 Dec 2024 04:06:04 -0500 (EST) Subject: |SUCCESS| [GIT MASTER] 67b9d0a29a1269b482ff7fd1eb48ee88ae9e5892 From: dpdklab@iol.unh.edu To: Test Report Cc: dpdk-test-reports@iol.unh.edu, Xueming Li , Christian Ehrhardt , Kevin Traynor , Luca Boccassi Content-Type: text/plain X-BeenThere: test-report@dpdk.org X-Mailman-Version: 2.1.29 Precedence: list List-Id: automatic DPDK test reports List-Unsubscribe: , List-Archive: List-Post: List-Help: List-Subscribe: , Errors-To: test-report-bounces@dpdk.org _Testing PASS_ Branch: tags/v23.11 67b9d0a29a1269b482ff7fd1eb48ee88ae9e5892 --> testing pass Upstream job id: Generic-DPDK-Compile-ABI#107544 Test environment and result as below: +-------------------+----------+ | Environment | abi_test | +===================+==========+ | CentOS Stream 9 | PASS | +-------------------+----------+ | Debian 12 | PASS | +-------------------+----------+ | Fedora 39 (Clang) | PASS | +-------------------+----------+ | Fedora 39 | PASS | +-------------------+----------+ | Fedora 40 (Clang) | PASS | +-------------------+----------+ | Fedora 40 | PASS | +-------------------+----------+ | openSUSE Leap 15 | PASS | +-------------------+----------+ | RHEL8 | PASS | +-------------------+----------+ | RHEL9 | PASS | +-------------------+----------+ | Ubuntu 22.04 | PASS | +-------------------+----------+ | Ubuntu 24.04 | PASS | +-------------------+----------+ CentOS Stream 9 Kernel: Depends on container host Compiler: gcc 11.4.1 20231218 (Red Hat 11.4.1-3) Debian 12 Kernel: Depends on container host Compiler: gcc (Debian 12.2.0-14) 12.2.0 Fedora 39 (Clang) Kernel: Depends on container host Compiler: clang 17.0.6 (Fedora 17.0.6-2.fc39) Fedora 39 Kernel: Depends on container host Compiler: gcc 13.3.1 20240522 (Red Hat 13.3.1-1) Fedora 40 (Clang) Kernel: Depends on container host Compiler: clang 18.1.6 (Fedora 18.1.6-3.fc40) Fedora 40 Kernel: Depends on container host Compiler: gcc 14.2.1 20240801 (Red Hat 14.2.1-1) openSUSE Leap 15 Kernel: Depends on container host Compiler: gcc (SUSE Linux) 7.5.0 RHEL8 Kernel: Depends on container host Compiler: gcc 8.5.0 20210514 (Red Hat 8.5.0-22) RHEL9 Kernel: Depends on container host Compiler: gcc 11.4.1 20231218 (Red Hat 11.4.1-3) Ubuntu 22.04 Kernel: Depends on container host Compiler: gcc (Ubuntu 11.4.0-1ubuntu1~22.04) 11.4.0 Ubuntu 24.04 Kernel: Depends on container host Compiler: gcc (Ubuntu 13.2.0-23ubuntu4) 13.2.0 To view detailed results, visit: https://lab.dpdk.org/results/dashboard/tarballs/31902/ UNH-IOL DPDK Community Lab To manage your email subscriptions, visit: https://lab.dpdk.org/results/dashboard/preferences/subscriptions/