From mboxrd@z Thu Jan 1 00:00:00 1970 Return-Path: Received: from mails.dpdk.org (mails.dpdk.org [217.70.189.124]) by inbox.dpdk.org (Postfix) with ESMTP id 1EDCE45E8E for ; Fri, 13 Dec 2024 15:56:18 +0100 (CET) Received: from mails.dpdk.org (localhost [127.0.0.1]) by mails.dpdk.org (Postfix) with ESMTP id F3BBF40B8F; Fri, 13 Dec 2024 15:56:17 +0100 (CET) Received: from mail-pl1-f225.google.com (mail-pl1-f225.google.com [209.85.214.225]) by mails.dpdk.org (Postfix) with ESMTP id 17CF5409FA for ; Fri, 13 Dec 2024 15:56:16 +0100 (CET) Received: by mail-pl1-f225.google.com with SMTP id d9443c01a7336-2166022c5caso16251055ad.2 for ; Fri, 13 Dec 2024 06:56:16 -0800 (PST) DKIM-Signature: v=1; a=rsa-sha256; c=relaxed/relaxed; d=iol.unh.edu; s=unh-iol; t=1734101775; x=1734706575; darn=dpdk.org; h=cc:to:from:subject:message-id:date:from:to:cc:subject:date :message-id:reply-to; bh=sBu7Vig5fYFP2mSPGns/Zre3pfRNbbA1NB9DJOlFsgY=; b=MOg+ey51VEkjysnAwb5QgW+nNmElCtrTg+qpIbw5sPH7SVECmQlCDl91l8I63u/idE FGpdA28fhO7dR2+CUVArtG38IQ1wh/QlTH9KccSxBnPm9o8oyaiWV3hn0EDfIDjYnwga jVQ/WDhkq6ICXCzr7h7WTw2eq8+1x4sjGEeiM= X-Google-DKIM-Signature: v=1; a=rsa-sha256; c=relaxed/relaxed; d=1e100.net; s=20230601; t=1734101775; x=1734706575; h=cc:to:from:subject:message-id:date:x-gm-message-state:from:to:cc :subject:date:message-id:reply-to; bh=sBu7Vig5fYFP2mSPGns/Zre3pfRNbbA1NB9DJOlFsgY=; b=d9H22tdbN8CizB9ADZa+S3pGA3rh59CjjB7NlrDABre/qia9E8YEQykFzNO7JZPntL YFJ3xRPOz9s7iMtfY+dNJyNA/LRKSmD+sAZ6o61fp5+iOKokNLY9JzG3gnI2I0pqeftj ghyeUJZbe3nsGbIMdYkuH/pxeWs7LG3agQFosOmq49nB8g5/agtD6VtoMFbIxZPAluE/ 8Bw9ZMWUYznxU2K3WMyRXauly97Zf/X2e/FaHaQL4EzTaVZ7g4d4Kk8HSfBbPlveMhra QpreZSKEJcF/tbhf6+cr43NjsZs9044LT2NM/oWfZHZBv7o4bB0rtW1dN05T4rd0fY13 rwxw== X-Gm-Message-State: AOJu0YyvL7KojEHUOBp8mVw7z+GMSJIttILkiKgyCSy00QzLbplHbYcV swF1n6zBB1zA5RcvvpvIjKy3XWarMjc1Dlm8+iQYOqEgoywa4RAHN2JTe6DSndWuuG+Ox24K5zJ uN/+3+bo2K68XIm3MfLXVhbsZZXAOY0YH X-Gm-Gg: ASbGncsDn4VlIad9iYd1g9Ev82P/N78i9LjQ503wDp0DGyalSMeLjo86YjSD4nw9G+t 5522vY07L634x7DKTG8Q8j4T4e/efMQGMAZpAlzS1ERyNhmmGdL51LhOva/A5v9jPEpBBD7/Cql CenGTdzz/tYuBWBos4trb9avv8Vd9UPHB/K7h0CkhTPAhn3L5W+yGvQFrIfhIBI82rRv6MwczWq dqMdKw6IoP23SrjKxweZSK5Qa0flMUdNhTxl3UeCiwDIGnCXNWx1JUZdy2rMT1Lj/YH11l433ip QQ== X-Google-Smtp-Source: AGHT+IEJATu2UA6kf44agPP8YnKT3sewPeFqf7D5yF5ygezBwj3tTcbX3MF4eH7n/sRcGctivUuRlRvZoXBj X-Received: by 2002:a17:902:e891:b0:216:2bd7:1c2f with SMTP id d9443c01a7336-218929bf912mr40101215ad.18.1734101775142; Fri, 13 Dec 2024 06:56:15 -0800 (PST) Received: from postal.iol.unh.edu (postal.iol.unh.edu. [132.177.123.84]) by smtp-relay.gmail.com with ESMTPS id d9443c01a7336-2178add54f3sm2254875ad.120.2024.12.13.06.56.15 (version=TLS1_2 cipher=ECDHE-ECDSA-AES128-GCM-SHA256 bits=128/128); Fri, 13 Dec 2024 06:56:15 -0800 (PST) X-Relaying-Domain: iol.unh.edu Date: Fri, 13 Dec 2024 06:56:15 -0800 (PST) Message-ID: <675c4b0f.170a0220.28d5f4.f150SMTPIN_ADDED_MISSING@mx.google.com> Received: from [172.17.0.3] (unknown [172.18.0.217]) by postal.iol.unh.edu (Postfix) with ESMTP id 7F7756052471; Fri, 13 Dec 2024 09:56:14 -0500 (EST) Subject: |WARNING| [GIT MASTER] 67b9d0a29a1269b482ff7fd1eb48ee88ae9e5892 From: dpdklab@iol.unh.edu To: Test Report Cc: dpdk-test-reports@iol.unh.edu, Xueming Li , Christian Ehrhardt , Kevin Traynor , Luca Boccassi Content-Type: text/plain X-BeenThere: test-report@dpdk.org X-Mailman-Version: 2.1.29 Precedence: list List-Id: automatic DPDK test reports List-Unsubscribe: , List-Archive: List-Post: List-Help: List-Subscribe: , Errors-To: test-report-bounces@dpdk.org _Testing issues_ Branch: tags/v23.11 67b9d0a29a1269b482ff7fd1eb48ee88ae9e5892 --> testing issues Upstream job id: Generic-DPDK-Compile-Meson#342807 Test environment and result as below: +---------------------+--------------------+------------------+-------------------+-------------------+ | Environment | dpdk_meson_compile | dpdk_compile_ovs | dpdk_compile_spdk | dpdk_msvc_compile | +=====================+====================+==================+===================+===================+ | CentOS Stream 9 | PASS | PASS | PASS | SKIPPED | +---------------------+--------------------+------------------+-------------------+-------------------+ | Debian 12 | PASS | PASS | PASS | SKIPPED | +---------------------+--------------------+------------------+-------------------+-------------------+ | Fedora 39 (Clang) | PASS | PASS | PASS | SKIPPED | +---------------------+--------------------+------------------+-------------------+-------------------+ | Fedora 39 | PASS | PASS | PASS | SKIPPED | +---------------------+--------------------+------------------+-------------------+-------------------+ | Fedora 40 (Clang) | PASS | PASS | PASS | SKIPPED | +---------------------+--------------------+------------------+-------------------+-------------------+ | Fedora 40 | PASS | PASS | PASS | SKIPPED | +---------------------+--------------------+------------------+-------------------+-------------------+ | RHEL8 | PASS | PASS | SKIPPED | SKIPPED | +---------------------+--------------------+------------------+-------------------+-------------------+ | RHEL9 | PASS | PASS | SKIPPED | SKIPPED | +---------------------+--------------------+------------------+-------------------+-------------------+ | Ubuntu 20.04 | PASS | WARN | SKIPPED | SKIPPED | +---------------------+--------------------+------------------+-------------------+-------------------+ | Ubuntu 22.04 | PASS | PASS | PASS | SKIPPED | +---------------------+--------------------+------------------+-------------------+-------------------+ | Ubuntu 24.04 | PASS | PASS | PASS | SKIPPED | +---------------------+--------------------+------------------+-------------------+-------------------+ | Alpine | PASS | PASS | SKIPPED | SKIPPED | +---------------------+--------------------+------------------+-------------------+-------------------+ | FreeBSD 13.4 | PASS | SKIPPED | SKIPPED | SKIPPED | +---------------------+--------------------+------------------+-------------------+-------------------+ | FreeBSD 14.2 | PASS | SKIPPED | SKIPPED | SKIPPED | +---------------------+--------------------+------------------+-------------------+-------------------+ | openSUSE Leap 15 | PASS | PASS | SKIPPED | SKIPPED | +---------------------+--------------------+------------------+-------------------+-------------------+ | Windows Server 2022 | SKIPPED | SKIPPED | SKIPPED | PASS | +---------------------+--------------------+------------------+-------------------+-------------------+ ==== 20 line log output for Ubuntu 20.04 (dpdk_compile_ovs): ==== --- Failed to get log output --- ==== End log output ==== CentOS Stream 9 Kernel: Depends on container host Compiler: gcc 11.4.1 20231218 (Red Hat 11.4.1-3) Debian 12 Kernel: Depends on container host Compiler: gcc (Debian 12.2.0-14) 12.2.0 Fedora 39 (Clang) Kernel: Depends on container host Compiler: clang 17.0.6 (Fedora 17.0.6-2.fc39) Fedora 39 Kernel: Depends on container host Compiler: gcc 13.3.1 20240522 (Red Hat 13.3.1-1) Fedora 40 (Clang) Kernel: Depends on container host Compiler: clang 18.1.6 (Fedora 18.1.6-3.fc40) Fedora 40 Kernel: Depends on container host Compiler: gcc 14.2.1 20240801 (Red Hat 14.2.1-1) RHEL8 Kernel: Depends on container host Compiler: gcc 8.5.0 20210514 (Red Hat 8.5.0-22) RHEL9 Kernel: Depends on container host Compiler: gcc 11.4.1 20231218 (Red Hat 11.4.1-3) Ubuntu 20.04 Kernel: Depends on container host Compiler: gcc (Ubuntu 9.4.0-1ubuntu1~20.04.2) 9.4.0 Ubuntu 22.04 Kernel: Depends on container host Compiler: gcc (Ubuntu 11.4.0-1ubuntu1~22.04) 11.4.0 Ubuntu 24.04 Kernel: Depends on container host Compiler: gcc (Ubuntu 13.2.0-23ubuntu4) 13.2.0 Alpine Kernel: Depends on container host Compiler: gcc (Alpine 13.2.1_git20240309) 13.2.1 20240309 FreeBSD 13.4 Kernel: 13.4-RELEASE-p1 Compiler: clang 18.1.6 FreeBSD 14.2 Kernel: 14.2-RELEASE Compiler: clang 18.1.6 openSUSE Leap 15 Kernel: Depends on container host Compiler: gcc (SUSE Linux) 7.5.0 Windows Server 2022 Kernel: 10.0.20348.2031 Compiler: clang 15.0.7, gcc 14.1.0 (MinGW), and MSVC VS 19.39.33521 To view detailed results, visit: https://lab.dpdk.org/results/dashboard/tarballs/31902/ UNH-IOL DPDK Community Lab To manage your email subscriptions, visit: https://lab.dpdk.org/results/dashboard/preferences/subscriptions/