From mboxrd@z Thu Jan  1 00:00:00 1970
Return-Path: <test-report-bounces@dpdk.org>
Received: from mails.dpdk.org (mails.dpdk.org [217.70.189.124])
	by inbox.dpdk.org (Postfix) with ESMTP id 4039D45E94
	for <public@inbox.dpdk.org>; Fri, 13 Dec 2024 23:35:20 +0100 (CET)
Received: from mails.dpdk.org (localhost [127.0.0.1])
	by mails.dpdk.org (Postfix) with ESMTP id 385F54068E;
	Fri, 13 Dec 2024 23:35:20 +0100 (CET)
Received: from mail-pf1-f225.google.com (mail-pf1-f225.google.com
 [209.85.210.225])
 by mails.dpdk.org (Postfix) with ESMTP id 36A8A400D5
 for <test-report@dpdk.org>; Fri, 13 Dec 2024 23:35:18 +0100 (CET)
Received: by mail-pf1-f225.google.com with SMTP id
 d2e1a72fcca58-728ec840a8aso2553031b3a.0
 for <test-report@dpdk.org>; Fri, 13 Dec 2024 14:35:18 -0800 (PST)
DKIM-Signature: v=1; a=rsa-sha256; c=relaxed/relaxed;
 d=iol.unh.edu; s=unh-iol; t=1734129317; x=1734734117; darn=dpdk.org;
 h=references:in-reply-to:cc:to:from:subject:message-id:date:from:to
 :cc:subject:date:message-id:reply-to;
 bh=DG8OadeEq3Hw3BFt5jf55K3hEr1coodrIuc3foAeqC8=;
 b=jvwT8lNCI9PZxyUo6b0RkMCN4YHlxj+CCJ9Vl8aPpnEwqtOFktwbX4bQFQ75YcI7dK
 GALUHMdr9+yQaYX79QYXaq+Ehdo8AUjPVaSgcP4dU13K7JKx5342d0Nl4cFd1LdFYUo9
 TEYEcsS3sG7IjE/t4N7XfdIcVncbQU403Fa1o=
X-Google-DKIM-Signature: v=1; a=rsa-sha256; c=relaxed/relaxed;
 d=1e100.net; s=20230601; t=1734129317; x=1734734117;
 h=references:in-reply-to:cc:to:from:subject:message-id:date
 :x-gm-message-state:from:to:cc:subject:date:message-id:reply-to;
 bh=DG8OadeEq3Hw3BFt5jf55K3hEr1coodrIuc3foAeqC8=;
 b=oUn4kvUxyd/DziEsgvZ5f8gOUYg9l5AtFJriTB/mo6gh4JQ9mLLAc/Mq8B9JqnNtEi
 hRKLOofF1gIL7UudRGwCnmm1ablHNTqlQifupzxNkADZmdp7ZghkjHBaQWw99ZWyssTR
 VQAPucACN0VZ/wd0VRp3CMuphGY59QO27dMQIsAIUHcysWiWguiTuZZjMnY3J39Js5yd
 ARsYSIz6WiwC6zHILOc2IGT+Vv6ae44nkBENa0cPqwboTfZaXcpwVi6HSms2CODWm+gM
 /qrggGI9zMduA8i1XmhDqnPTz4Ahg2zsBEHXKFfyEnBc8emyYC6tpKqJ0BEHZpIxDHeX
 hlbA==
X-Gm-Message-State: AOJu0YxOall3z1TQwm2j/O4/6GTvjOlYp87lUjiphheawZLJ/Fpxo8Z8
 R4kvXZkOGUKquvV4zJ+U4crG5PQ8F9EGA3FHqc63nDVfVX1Qaz5IY8R46Wub+U1g1kwQenOaSLq
 a9lWam0ku+wno8pNN7ApAP/Mpl1Bf9N1V3YpSVK/d
X-Gm-Gg: ASbGncvdirVk1ztNnd9RNrxjuZHEcLyrNiALhkxHQoRJ2lr55Rz0ruSbb4y+a+PtBoX
 /dGcYmtuysmOzwmL9A4Q5X2aniGeT9xFD3jeC8oSiOlqjporBOHs/TldGTWpSeYGQLoCwCd6nb/
 dgP5QVggETQjOHPAWJ7aWAXZ8BEsvkMwmudpyAt53c/z9VocXd6sNpiGNAQJhCCdK5YLIP0cgAu
 fSotqbqnViCykN3bJ4GsnbiKuw6+EuYVOkH8ekQZLDc2f1XHCfrU/Wr9OD4mtB9/BcQHn5lHNvo
 SQ==
X-Google-Smtp-Source: AGHT+IFAnwypDY9/V2hov8ln7gCSNZ+SrnZR3Z9aPyJjGf6zN/ljcSqP+pCjbj9kVsasWK7brxkwvZB9dZuo
X-Received: by 2002:a05:6a00:3692:b0:725:e309:7110 with SMTP id
 d2e1a72fcca58-7290c10fe59mr7502076b3a.5.1734129317327; 
 Fri, 13 Dec 2024 14:35:17 -0800 (PST)
Received: from postal.iol.unh.edu (postal.iol.unh.edu. [132.177.123.84])
 by smtp-relay.gmail.com with ESMTPS id
 d2e1a72fcca58-72918af39acsm28674b3a.13.2024.12.13.14.35.17
 (version=TLS1_2 cipher=ECDHE-ECDSA-AES128-GCM-SHA256 bits=128/128);
 Fri, 13 Dec 2024 14:35:17 -0800 (PST)
X-Relaying-Domain: iol.unh.edu
Date: Fri, 13 Dec 2024 14:35:17 -0800 (PST)
Message-ID: <675cb6a5.050a0220.253e1c.1c9bSMTPIN_ADDED_MISSING@mx.google.com>
Received: from [172.17.0.3] (unknown [172.18.0.217])
 by postal.iol.unh.edu (Postfix) with ESMTP id 8060D6052471;
 Fri, 13 Dec 2024 17:35:16 -0500 (EST)
Subject: |SUCCESS| pw149221-149222 [PATCH] [2/2] net/mlx5: improve log file p
From: dpdklab@iol.unh.edu
To: Test Report <test-report@dpdk.org>
Cc: dpdk-test-reports@iol.unh.edu
In-Reply-To: <20241213092444.2987-2-ming.1.yang@nokia-sbell.com>
References: <20241213092444.2987-2-ming.1.yang@nokia-sbell.com>
Content-Type: text/plain
X-BeenThere: test-report@dpdk.org
X-Mailman-Version: 2.1.29
Precedence: list
List-Id: automatic DPDK test reports <test-report.dpdk.org>
List-Unsubscribe: <https://mails.dpdk.org/options/test-report>,
 <mailto:test-report-request@dpdk.org?subject=unsubscribe>
List-Archive: <http://mails.dpdk.org/archives/test-report/>
List-Post: <mailto:test-report@dpdk.org>
List-Help: <mailto:test-report-request@dpdk.org?subject=help>
List-Subscribe: <https://mails.dpdk.org/listinfo/test-report>,
 <mailto:test-report-request@dpdk.org?subject=subscribe>
Errors-To: test-report-bounces@dpdk.org

Test-Label: iol-unit-arm64-testing
Test-Status: SUCCESS
http://dpdk.org/patch/149222

_Testing PASS_

Submitter: Yang Ming <ming.1.yang@nokia-sbell.com>
Date: Friday, December 13 2024 09:24:43 
DPDK git baseline: Repo:dpdk
  Branch: master
  CommitID:1b3bf1128d9bda5595861814792f74b8f57160c8

149221-149222 --> testing pass

Upstream job id: Generic-Unit-Test-DPDK#298992

Test environment and result as below:

+-----------------------+----------------+--------------+---------------------------+------------------------------+
|      Environment      | dpdk_unit_test | lpm_autotest | cryptodev_sw_zuc_autotest | cryptodev_sw_snow3g_autotest |
+=======================+================+==============+===========================+==============================+
| CentOS Stream 9 (ARM) | PASS           | SKIPPED      | SKIPPED                   | SKIPPED                      |
+-----------------------+----------------+--------------+---------------------------+------------------------------+
| Fedora 39 (ARM Clang) | PASS           | SKIPPED      | SKIPPED                   | SKIPPED                      |
+-----------------------+----------------+--------------+---------------------------+------------------------------+
| Fedora 39 (ARM)       | PASS           | SKIPPED      | SKIPPED                   | SKIPPED                      |
+-----------------------+----------------+--------------+---------------------------+------------------------------+
| Debian 12 (arm)       | PASS           | SKIPPED      | PASS                      | PASS                         |
+-----------------------+----------------+--------------+---------------------------+------------------------------+
| Fedora 40 (ARM)       | PASS           | SKIPPED      | SKIPPED                   | SKIPPED                      |
+-----------------------+----------------+--------------+---------------------------+------------------------------+
| Fedora 40 (ARM Clang) | PASS           | SKIPPED      | SKIPPED                   | SKIPPED                      |
+-----------------------+----------------+--------------+---------------------------+------------------------------+
| RHEL9 (ARM)           | PASS           | SKIPPED      | SKIPPED                   | SKIPPED                      |
+-----------------------+----------------+--------------+---------------------------+------------------------------+
| Ubuntu 20.04 (ARM)    | PASS           | SKIPPED      | SKIPPED                   | SKIPPED                      |
+-----------------------+----------------+--------------+---------------------------+------------------------------+
| Ubuntu 24.04 (ARM)    | PASS           | SKIPPED      | SKIPPED                   | SKIPPED                      |
+-----------------------+----------------+--------------+---------------------------+------------------------------+
| Ubuntu 22.04 (ARM)    | PASS           | SKIPPED      | SKIPPED                   | SKIPPED                      |
+-----------------------+----------------+--------------+---------------------------+------------------------------+
| Ubuntu 20.04 ARM SVE  | SKIPPED        | PASS         | SKIPPED                   | SKIPPED                      |
+-----------------------+----------------+--------------+---------------------------+------------------------------+


CentOS Stream 9 (ARM)
	Kernel: Depends on container host
	Compiler: gcc 11.4.1 20231218 (Red Hat 11.4.1-3)

Fedora 39 (ARM Clang)
	Kernel: Depends on container host
	Compiler: clang 17.0.6 (Fedora 17.0.6-2.fc39)

Fedora 39 (ARM)
	Kernel: Depends on container host
	Compiler: gcc 13.3.1 20240522 (Red Hat 13.3.1-1)

Debian 12 (arm)
	Kernel: Depends on container host
	Compiler: gcc (Debian 12.2.0-14) 12.2.0

Fedora 40 (ARM)
	Kernel: Depends on container host
	Compiler: gcc 14.2.1 20240801 (Red Hat 14.2.1-1)

Fedora 40 (ARM Clang)
	Kernel: Depends on container host
	Compiler: clang 18.1.6 (Fedora 18.1.6-3.fc40)

RHEL9 (ARM)
	Kernel: Depends on container host
	Compiler: gcc 11.4.1 20231218 (Red Hat 11.4.1-3)

Ubuntu 20.04 (ARM)
	Kernel: Depends on container host
	Compiler: gcc (Ubuntu 9.4.0-1ubuntu1~20.04.2) 9.4.0

Ubuntu 24.04 (ARM)
	Kernel: Depends on container host
	Compiler: gcc (Ubuntu 13.2.0-23ubuntu4) 13.2.0

Ubuntu 22.04 (ARM)
	Kernel: Depends on container host
	Compiler: gcc (Ubuntu 11.4.0-1ubuntu1~22.04) 11.4.0

Ubuntu 20.04 ARM SVE
	Kernel: Depends on container host
	Compiler: gcc (Ubuntu 10.5.0-1ubuntu1~20.04) 10.5.0

To view detailed results, visit:
https://lab.dpdk.org/results/dashboard/patchsets/32134/

UNH-IOL DPDK Community Lab

To manage your email subscriptions, visit: 
https://lab.dpdk.org/results/dashboard/preferences/subscriptions/