From mboxrd@z Thu Jan 1 00:00:00 1970 Return-Path: Received: from mails.dpdk.org (mails.dpdk.org [217.70.189.124]) by inbox.dpdk.org (Postfix) with ESMTP id 1465345E94 for ; Sat, 14 Dec 2024 00:42:27 +0100 (CET) Received: from mails.dpdk.org (localhost [127.0.0.1]) by mails.dpdk.org (Postfix) with ESMTP id 095374026F; Sat, 14 Dec 2024 00:42:27 +0100 (CET) Received: from mail-vk1-f225.google.com (mail-vk1-f225.google.com [209.85.221.225]) by mails.dpdk.org (Postfix) with ESMTP id 1FC0F400D5 for ; Sat, 14 Dec 2024 00:42:26 +0100 (CET) Received: by mail-vk1-f225.google.com with SMTP id 71dfb90a1353d-51878cf85a7so618939e0c.0 for ; Fri, 13 Dec 2024 15:42:26 -0800 (PST) DKIM-Signature: v=1; a=rsa-sha256; c=relaxed/relaxed; d=iol.unh.edu; s=unh-iol; t=1734133345; x=1734738145; darn=dpdk.org; h=references:in-reply-to:cc:to:from:subject:message-id:date:from:to :cc:subject:date:message-id:reply-to; bh=7uKwZoZYcK9DlCeIHbg3wbW7le6kC1DGd8FUiDD7h2E=; b=NPgiVBXIJc8FDXHM6QDIhZ58AGgHXQxumW3lXrXV1jD2bd0gJ04qW3ORaiGIrAPutT 1y2lP1IL/tOc+vnvm609/xBOvYgwYdXjmR8u9NUSKhQ1hVVA7I3ffWyyrRv1Hx0VdH/H +ic217R/xRnmcC0i+IX6fulxFtcLDkRh183sc= X-Google-DKIM-Signature: v=1; a=rsa-sha256; c=relaxed/relaxed; d=1e100.net; s=20230601; t=1734133345; x=1734738145; h=references:in-reply-to:cc:to:from:subject:message-id:date :x-gm-message-state:from:to:cc:subject:date:message-id:reply-to; bh=7uKwZoZYcK9DlCeIHbg3wbW7le6kC1DGd8FUiDD7h2E=; b=M8HWoNEt5Ahm/r0An8uRLzgAKvDGggzFzUyl+PS5iXmgvj/laVHbjPFUOb7x2Ysway Dpard/O8vDhAegJ1USJVO1INXUcgKC9751ok37/6Ul4Tl2RlVyDskPLLBhqaGyAOZ1aH XU7GfiwlJnFlDTIcJKTRXLm5BUluS9saribIWVO8rdQO/emwEieXysLRDoglpc1QnoZ5 R8/omnwo2YaCq8TcPm/+8f0NKzPIHeuLPcNPI/mqxqpqOYDRr9E7aYCIEGo0BIonozF8 6mD29ndmqS4W9c3xJ84ncT4gKN3DRtvEu2j13YbHWR74XTG70m/ypop75WcT2pfNlUkn snDA== X-Gm-Message-State: AOJu0Ywe0WecGwqyiZ/amznMIujBfCrWSjJxg5gFQovmo0wH8Hn13xF9 1V3ZvjCFIuwFAYEXqoL0GniIbdYEuScQtUAex5KaES+TSpoxGDAgsIkYf85GvdZQo0MZPyi53yc 6U3v2uxdRHMx9DgWE/1iyN2pBbrmYibeJkktKErVB X-Gm-Gg: ASbGncuyN5h8T5JbAPtAlfv/zrmnEgBXJlQbYzP+x/hRv1Z1H+EfN0W9e1fM7+d77BY E/4bYKS+FtSWorC2iYiwwe7H7OBoosGxk5DF5ShRaS1gwGj72ZnZ2YMibwGkzWqKIf75px04C+A pbmhjZWfsYMzadvD/hIEvIIfDWswoJmA9FhSVwYee33k5HaKSD4gl7ba8XpURDG/7F86CHrZp9M 68KR7Ne4VCRjJMRbQYC+Moyqz7N512890ahQIUSM3t0CPWXJDR38UiuHtj1OL54EDQBZQXE9faI Yw== X-Google-Smtp-Source: AGHT+IERPloCxtfRGeY9tfdqYXVXLwTk1tUTrnabCuZzz6RNrNlSoMKioevMzGpmq1vn/Lqth3+AXUZEkfhy X-Received: by 2002:a05:6122:927:b0:517:83d1:d448 with SMTP id 71dfb90a1353d-518ca037f1fmr4743738e0c.0.1734133345437; Fri, 13 Dec 2024 15:42:25 -0800 (PST) Received: from postal.iol.unh.edu (postal.iol.unh.edu. [132.177.123.84]) by smtp-relay.gmail.com with ESMTPS id 71dfb90a1353d-519dae342e2sm16261e0c.1.2024.12.13.15.42.25 (version=TLS1_2 cipher=ECDHE-ECDSA-AES128-GCM-SHA256 bits=128/128); Fri, 13 Dec 2024 15:42:25 -0800 (PST) X-Relaying-Domain: iol.unh.edu Date: Fri, 13 Dec 2024 15:42:25 -0800 (PST) Message-ID: <675cc661.050a0220.2823b9.108dSMTPIN_ADDED_MISSING@mx.google.com> Received: from [172.17.0.4] (unknown [172.18.0.217]) by postal.iol.unh.edu (Postfix) with ESMTP id 1D5946052471; Fri, 13 Dec 2024 18:42:25 -0500 (EST) Subject: |SUCCESS| pw149218 [PATCH] [v5] graph: mcore: optimize graph search From: dpdklab@iol.unh.edu To: Test Report Cc: dpdk-test-reports@iol.unh.edu In-Reply-To: <20241213022158.2644-1-chcchc88@163.com> References: <20241213022158.2644-1-chcchc88@163.com> Content-Type: text/plain X-BeenThere: test-report@dpdk.org X-Mailman-Version: 2.1.29 Precedence: list List-Id: automatic DPDK test reports List-Unsubscribe: , List-Archive: List-Post: List-Help: List-Subscribe: , Errors-To: test-report-bounces@dpdk.org Test-Label: iol-compile-arm64-testing Test-Status: SUCCESS http://dpdk.org/patch/149218 _Testing PASS_ Submitter: Huichao Cai Date: Friday, December 13 2024 02:21:58 DPDK git baseline: Repo:dpdk Branch: master CommitID:7df61db6c387703a36306c1aea92225921e2eeb2 149218 --> testing pass Upstream job id: Generic-DPDK-Compile-Meson#342942 Test environment and result as below: +----------------------------------------+--------------------+ | Environment | dpdk_meson_compile | +========================================+====================+ | Ubuntu 20.04 ARM GCC Cross Compile | PASS | +----------------------------------------+--------------------+ | RHEL9 (ARM) | PASS | +----------------------------------------+--------------------+ | Debian 12 with MUSDK | PASS | +----------------------------------------+--------------------+ | Ubuntu 20.04 ARM SVE | PASS | +----------------------------------------+--------------------+ | Fedora 39 (ARM) | PASS | +----------------------------------------+--------------------+ | Fedora 39 (ARM Clang) | PASS | +----------------------------------------+--------------------+ | Ubuntu 20.04 (ARM) | PASS | +----------------------------------------+--------------------+ | Fedora 40 (ARM Clang) | PASS | +----------------------------------------+--------------------+ | Ubuntu 22.04 (ARM) | PASS | +----------------------------------------+--------------------+ | CentOS Stream 9 (ARM) | PASS | +----------------------------------------+--------------------+ | Ubuntu 24.04 (ARM) | PASS | +----------------------------------------+--------------------+ | Ubuntu 20.04 ARM Clang Cross Compile | PASS | +----------------------------------------+--------------------+ | Debian 12 (arm) | PASS | +----------------------------------------+--------------------+ | Ubuntu 20.04 aarch32 GCC Cross Compile | PASS | +----------------------------------------+--------------------+ | Fedora 40 (ARM) | PASS | +----------------------------------------+--------------------+ Ubuntu 20.04 ARM GCC Cross Compile Kernel: Depends on container host Compiler: aarch64-linux-gnu-gcc (Ubuntu 9.4.0-1ubuntu1~20.04.2) 9.4.0 RHEL9 (ARM) Kernel: Depends on container host Compiler: gcc 11.4.1 20231218 (Red Hat 11.4.1-3) Debian 12 with MUSDK Kernel: Depends on container host Compiler: gcc (Debian 12.2.0-14) 12.2.0 Ubuntu 20.04 ARM SVE Kernel: Depends on container host Compiler: gcc (Ubuntu 10.5.0-1ubuntu1~20.04) 10.5.0 Fedora 39 (ARM) Kernel: Depends on container host Compiler: gcc 13.3.1 20240522 (Red Hat 13.3.1-1) Fedora 39 (ARM Clang) Kernel: Depends on container host Compiler: clang 17.0.6 (Fedora 17.0.6-2.fc39) Ubuntu 20.04 (ARM) Kernel: Depends on container host Compiler: gcc (Ubuntu 9.4.0-1ubuntu1~20.04.2) 9.4.0 Fedora 40 (ARM Clang) Kernel: Depends on container host Compiler: clang 18.1.6 (Fedora 18.1.6-3.fc40) Ubuntu 22.04 (ARM) Kernel: Depends on container host Compiler: gcc (Ubuntu 11.4.0-1ubuntu1~22.04) 11.4.0 CentOS Stream 9 (ARM) Kernel: Depends on container host Compiler: gcc 11.4.1 20231218 (Red Hat 11.4.1-3) Ubuntu 24.04 (ARM) Kernel: Depends on container host Compiler: gcc (Ubuntu 13.2.0-23ubuntu4) 13.2.0 Ubuntu 20.04 ARM Clang Cross Compile Kernel: Depends on container host Compiler: clang 10.0.0-4ubuntu1 Debian 12 (arm) Kernel: Depends on container host Compiler: gcc (Debian 12.2.0-14) 12.2.0 Ubuntu 20.04 aarch32 GCC Cross Compile Kernel: Depends on container host Compiler: gcc 9.4.0 Fedora 40 (ARM) Kernel: Depends on container host Compiler: gcc 14.2.1 20240801 (Red Hat 14.2.1-1) To view detailed results, visit: https://lab.dpdk.org/results/dashboard/patchsets/32131/ UNH-IOL DPDK Community Lab To manage your email subscriptions, visit: https://lab.dpdk.org/results/dashboard/preferences/subscriptions/